BEGIN:VCALENDAR
VERSION:2.0
PRODID:-//Immanuelskyrkan - ECPv6.15.20//NONSGML v1.0//EN
CALSCALE:GREGORIAN
METHOD:PUBLISH
X-ORIGINAL-URL:https://www.immanuel.se/ko
X-WR-CALDESC:Events for Immanuelskyrkan
REFRESH-INTERVAL;VALUE=DURATION:PT1H
X-Robots-Tag:noindex
X-PUBLISHED-TTL:PT1H
BEGIN:VTIMEZONE
TZID:Europe/Stockholm
BEGIN:DAYLIGHT
TZOFFSETFROM:+0100
TZOFFSETTO:+0200
TZNAME:CEST
DTSTART:20250330T010000
END:DAYLIGHT
BEGIN:STANDARD
TZOFFSETFROM:+0200
TZOFFSETTO:+0100
TZNAME:CET
DTSTART:20251026T010000
END:STANDARD
BEGIN:DAYLIGHT
TZOFFSETFROM:+0100
TZOFFSETTO:+0200
TZNAME:CEST
DTSTART:20260329T010000
END:DAYLIGHT
BEGIN:STANDARD
TZOFFSETFROM:+0200
TZOFFSETTO:+0100
TZNAME:CET
DTSTART:20261025T010000
END:STANDARD
BEGIN:DAYLIGHT
TZOFFSETFROM:+0100
TZOFFSETTO:+0200
TZNAME:CEST
DTSTART:20270328T010000
END:DAYLIGHT
BEGIN:STANDARD
TZOFFSETFROM:+0200
TZOFFSETTO:+0100
TZNAME:CET
DTSTART:20271031T010000
END:STANDARD
END:VTIMEZONE
BEGIN:VEVENT
DTSTART;TZID=Europe/Stockholm:20260302T120000
DTEND;TZID=Europe/Stockholm:20260302T130000
DTSTAMP:20260425T163050
CREATED:20260112T111629Z
LAST-MODIFIED:20260425T141639Z
UID:10000903-1772452800-1772456400@www.immanuel.se
SUMMARY:Lunch concert
DESCRIPTION:Två cembali – många strängar\nMusik av W. Fr. Bach och Mozart\nLukas Arvidsson och Björn Gäfvert på varsin cembalo
URL:https://www.immanuel.se/ko/calendar/lunch-concert-9/
LOCATION:Kyrksalen
END:VEVENT
BEGIN:VEVENT
DTSTART;TZID=Europe/Stockholm:20260303T153000
DTEND;TZID=Europe/Stockholm:20260303T183000
DTSTAMP:20260425T163050
CREATED:20260105T131638Z
LAST-MODIFIED:20260425T141639Z
UID:10000854-1772551800-1772562600@www.immanuel.se
SUMMARY:HQ - 0-9 år
DESCRIPTION:Holy Quarters\nVälkommen till HQ – Holy Quarters\, vår öppna efter-skola-verksamhet på Källarplan 3 i Immanuelskyrkan.\nHär finns plats för lek\, skapande\, musik\, sport\, mellis\, läxhjälp och gemenskap – mitt i stan\, mitt i veckan.\nAllt är gratis och ingen anmälan krävs. Kom som du är! \nEn trygg och lekfull eftermiddag med idrott\, pyssel\, musik\, mellis och mys. Perfekt för små upptäckare och deras föräldrar.
URL:https://www.immanuel.se/ko/calendar/hq-0-9-ar-8/
LOCATION:K3
END:VEVENT
BEGIN:VEVENT
DTSTART;TZID=Europe/Stockholm:20260304T153000
DTEND;TZID=Europe/Stockholm:20260304T183000
DTSTAMP:20260425T163050
CREATED:20260105T131638Z
LAST-MODIFIED:20260425T141639Z
UID:10000855-1772638200-1772649000@www.immanuel.se
SUMMARY:HQ - 13-18 år
DESCRIPTION:Holy Quarters\nVälkommen till HQ – Holy Quarters\, vår öppna efter-skola-verksamhet på Källarplan 3 i Immanuelskyrkan.\nHär finns plats för lek\, skapande\, musik\, sport\, mellis\, läxhjälp och gemenskap – mitt i stan\, mitt i veckan.\nAllt är gratis och ingen anmälan krävs. Kom som du är! \nEtt avslappnat häng med musik\, sport\, skapande\, mellis och pluggmöjligheter – där du får vara dig själv\, träffa nya vänner och hitta din plats.
URL:https://www.immanuel.se/ko/calendar/hq-13-18-ar-8/
LOCATION:K3
END:VEVENT
BEGIN:VEVENT
DTSTART;TZID=Europe/Stockholm:20260304T180000
DTEND;TZID=Europe/Stockholm:20260304T190000
DTSTAMP:20260425T163050
CREATED:20260205T091631Z
LAST-MODIFIED:20260425T141639Z
UID:10000915-1772647200-1772650800@www.immanuel.se
SUMMARY:Onsdagsmässan
DESCRIPTION:
URL:https://www.immanuel.se/ko/calendar/onsdagsmassan-23/
LOCATION:Kapellet
END:VEVENT
BEGIN:VEVENT
DTSTART;TZID=Europe/Stockholm:20260304T190000
DTEND;TZID=Europe/Stockholm:20260304T210000
DTSTAMP:20260425T163050
CREATED:20260205T101638Z
LAST-MODIFIED:20260425T141639Z
UID:10000928-1772650800-1772658000@www.immanuel.se
SUMMARY:After Worship
DESCRIPTION:Måla & Mousserande
URL:https://www.immanuel.se/ko/calendar/after-worship-13/
LOCATION:K3
END:VEVENT
BEGIN:VEVENT
DTSTART;TZID=Europe/Stockholm:20260305T153000
DTEND;TZID=Europe/Stockholm:20260305T183000
DTSTAMP:20260425T163050
CREATED:20260105T131638Z
LAST-MODIFIED:20260425T141639Z
UID:10000856-1772724600-1772735400@www.immanuel.se
SUMMARY:HQ - 10-12 år
DESCRIPTION:Holy Quarters\nVälkommen till HQ – Holy Quarters\, vår öppna efter-skola-verksamhet på Källarplan 3 i Immanuelskyrkan.\nHär finns plats för lek\, skapande\, musik\, sport\, mellis\, läxhjälp och gemenskap – mitt i stan\, mitt i veckan.\nAllt är gratis och ingen anmälan krävs. Kom som du är! \nEn kreativ och aktiv plats efter skolan med sport\, skapande\, musikrum\, mellis och läxhjälp – för dig som vill hänga med kompisar och testa nya saker.
URL:https://www.immanuel.se/ko/calendar/hq-10-12-ar-9/
LOCATION:K3
END:VEVENT
BEGIN:VEVENT
DTSTART;TZID=Europe/Stockholm:20260306T183000
DTEND;TZID=Europe/Stockholm:20260306T220000
DTSTAMP:20260425T163050
CREATED:20260309T131647Z
LAST-MODIFIED:20260425T141639Z
UID:10000954-1772821800-1772834400@www.immanuel.se
SUMMARY:FREDA
DESCRIPTION:FREDA är en tonårskväll för dig som är 13 år och uppåt. Vi träffas varje fredag kl 18.30–22.00. Vi börjar kvällen med fika som följs av aktiviteter och andakt. Se schemat här: https://www.immanuel.se/freda/
URL:https://www.immanuel.se/ko/calendar/freda-7/
END:VEVENT
BEGIN:VEVENT
DTSTART;TZID=Europe/Stockholm:20260308T101500
DTEND;TZID=Europe/Stockholm:20260308T105000
DTSTAMP:20260425T163050
CREATED:20260105T101625Z
LAST-MODIFIED:20260425T141639Z
UID:10000817-1772964900-1772967000@www.immanuel.se
SUMMARY:Kör-lek
DESCRIPTION:Välkommen att lära känna fler barnfamiljer i Immanuelskyrkan! Vi sjunger\, leker och har trevligt tillsammans. Kl. 10.50 bjuds på frukt\, och därefter finns möjlighet att gå vidare till någon av församlingens tre gudstjänster.
URL:https://www.immanuel.se/ko/calendar/kor-lek-10/
LOCATION:Kapellet
END:VEVENT
BEGIN:VEVENT
DTSTART;TZID=Europe/Stockholm:20260308T110000
DTEND;TZID=Europe/Stockholm:20260308T120000
DTSTAMP:20260425T163050
CREATED:20251230T224557Z
LAST-MODIFIED:20260425T141639Z
UID:10000791-1772967600-1772971200@www.immanuel.se
SUMMARY:Worship in Swedish
DESCRIPTION:Söndag 8 mars kl 11 Gudstjänst på svenska\nTema: Kampen mot ondskan\n3:e sön i fastan\nPredikan: Esther Kazen\nMusik: Immanuel Nova under ledning av Rebecka Gustafsson\nBarnkyrkan är öppen\, Kyrkkaffe serveras
URL:https://www.immanuel.se/ko/calendar/worship-in-swedish-9/
LOCATION:Kyrksalen
END:VEVENT
END:VCALENDAR