BEGIN:VCALENDAR
VERSION:2.0
PRODID:-//Immanuelskyrkan - ECPv6.15.20//NONSGML v1.0//EN
CALSCALE:GREGORIAN
METHOD:PUBLISH
X-WR-CALNAME:Immanuelskyrkan
X-ORIGINAL-URL:https://www.immanuel.se/ko
X-WR-CALDESC:Events for Immanuelskyrkan
REFRESH-INTERVAL;VALUE=DURATION:PT1H
X-Robots-Tag:noindex
X-PUBLISHED-TTL:PT1H
BEGIN:VTIMEZONE
TZID:Europe/Stockholm
BEGIN:DAYLIGHT
TZOFFSETFROM:+0100
TZOFFSETTO:+0200
TZNAME:CEST
DTSTART:20250330T010000
END:DAYLIGHT
BEGIN:STANDARD
TZOFFSETFROM:+0200
TZOFFSETTO:+0100
TZNAME:CET
DTSTART:20251026T010000
END:STANDARD
BEGIN:DAYLIGHT
TZOFFSETFROM:+0100
TZOFFSETTO:+0200
TZNAME:CEST
DTSTART:20260329T010000
END:DAYLIGHT
BEGIN:STANDARD
TZOFFSETFROM:+0200
TZOFFSETTO:+0100
TZNAME:CET
DTSTART:20261025T010000
END:STANDARD
BEGIN:DAYLIGHT
TZOFFSETFROM:+0100
TZOFFSETTO:+0200
TZNAME:CEST
DTSTART:20270328T010000
END:DAYLIGHT
BEGIN:STANDARD
TZOFFSETFROM:+0200
TZOFFSETTO:+0100
TZNAME:CET
DTSTART:20271031T010000
END:STANDARD
END:VTIMEZONE
BEGIN:VEVENT
DTSTART;TZID=Europe/Stockholm:20260216T120000
DTEND;TZID=Europe/Stockholm:20260216T130000
DTSTAMP:20260425T141521
CREATED:20260112T111628Z
LAST-MODIFIED:20260425T111639Z
UID:10000901-1771243200-1771246800@www.immanuel.se
SUMMARY:Lunch concert
DESCRIPTION:Richard Wagner – Gustaf Nordqvist\nMargareta Gäfvert\, sång\nBjörn Gäfvert\, piano
URL:https://www.immanuel.se/ko/calendar/lunch-concert-7/
LOCATION:Kyrksalen
END:VEVENT
BEGIN:VEVENT
DTSTART;TZID=Europe/Stockholm:20260217T153000
DTEND;TZID=Europe/Stockholm:20260217T183000
DTSTAMP:20260425T141521
CREATED:20260105T131637Z
LAST-MODIFIED:20260425T111639Z
UID:10000848-1771342200-1771353000@www.immanuel.se
SUMMARY:HQ - 0-9 år
DESCRIPTION:Holy Quarters\nVälkommen till HQ – Holy Quarters\, vår öppna efter-skola-verksamhet på Källarplan 3 i Immanuelskyrkan.\nHär finns plats för lek\, skapande\, musik\, sport\, mellis\, läxhjälp och gemenskap – mitt i stan\, mitt i veckan.\nAllt är gratis och ingen anmälan krävs. Kom som du är! \nEn trygg och lekfull eftermiddag med idrott\, pyssel\, musik\, mellis och mys. Perfekt för små upptäckare och deras föräldrar.
URL:https://www.immanuel.se/ko/calendar/hq-0-9-ar-6/
LOCATION:K3
END:VEVENT
BEGIN:VEVENT
DTSTART;TZID=Europe/Stockholm:20260218T153000
DTEND;TZID=Europe/Stockholm:20260218T183000
DTSTAMP:20260425T141521
CREATED:20260105T131637Z
LAST-MODIFIED:20260425T111639Z
UID:10000849-1771428600-1771439400@www.immanuel.se
SUMMARY:HQ - 13-18 år
DESCRIPTION:Holy Quarters\nVälkommen till HQ – Holy Quarters\, vår öppna efter-skola-verksamhet på Källarplan 3 i Immanuelskyrkan.\nHär finns plats för lek\, skapande\, musik\, sport\, mellis\, läxhjälp och gemenskap – mitt i stan\, mitt i veckan.\nAllt är gratis och ingen anmälan krävs. Kom som du är! \nEtt avslappnat häng med musik\, sport\, skapande\, mellis och pluggmöjligheter – där du får vara dig själv\, träffa nya vänner och hitta din plats.
URL:https://www.immanuel.se/ko/calendar/hq-13-18-ar-6/
LOCATION:K3
END:VEVENT
BEGIN:VEVENT
DTSTART;TZID=Europe/Stockholm:20260218T180000
DTEND;TZID=Europe/Stockholm:20260218T190000
DTSTAMP:20260425T141521
CREATED:20251230T224556Z
LAST-MODIFIED:20260425T111639Z
UID:10000784-1771437600-1771441200@www.immanuel.se
SUMMARY:Onsdagsmässan
DESCRIPTION:
URL:https://www.immanuel.se/ko/calendar/onsdagsmassan-21/
LOCATION:Kapellet
END:VEVENT
BEGIN:VEVENT
DTSTART;TZID=Europe/Stockholm:20260218T190000
DTEND;TZID=Europe/Stockholm:20260218T210000
DTSTAMP:20260425T141521
CREATED:20251230T224556Z
LAST-MODIFIED:20260425T111639Z
UID:10000785-1771441200-1771448400@www.immanuel.se
SUMMARY:After Worship
DESCRIPTION:Existens
URL:https://www.immanuel.se/ko/calendar/after-worship-11/
LOCATION:K3
END:VEVENT
BEGIN:VEVENT
DTSTART;TZID=Europe/Stockholm:20260219T153000
DTEND;TZID=Europe/Stockholm:20260219T183000
DTSTAMP:20260425T141521
CREATED:20260105T131637Z
LAST-MODIFIED:20260425T111639Z
UID:10000850-1771515000-1771525800@www.immanuel.se
SUMMARY:HQ - 10-12 år
DESCRIPTION:Holy Quarters\nVälkommen till HQ – Holy Quarters\, vår öppna efter-skola-verksamhet på Källarplan 3 i Immanuelskyrkan.\nHär finns plats för lek\, skapande\, musik\, sport\, mellis\, läxhjälp och gemenskap – mitt i stan\, mitt i veckan.\nAllt är gratis och ingen anmälan krävs. Kom som du är! \nEn kreativ och aktiv plats efter skolan med sport\, skapande\, musikrum\, mellis och läxhjälp – för dig som vill hänga med kompisar och testa nya saker.
URL:https://www.immanuel.se/ko/calendar/hq-10-12-ar-7/
LOCATION:K3
END:VEVENT
BEGIN:VEVENT
DTSTART;TZID=Europe/Stockholm:20260222T101500
DTEND;TZID=Europe/Stockholm:20260222T105000
DTSTAMP:20260425T141521
CREATED:20260105T101624Z
LAST-MODIFIED:20260425T111639Z
UID:10000815-1771755300-1771757400@www.immanuel.se
SUMMARY:Kör-lek
DESCRIPTION:Välkommen att lära känna fler barnfamiljer i Immanuelskyrkan! Vi sjunger\, leker och har trevligt tillsammans. Kl. 10.50 bjuds på frukt\, och därefter finns möjlighet att gå vidare till någon av församlingens tre gudstjänster.
URL:https://www.immanuel.se/ko/calendar/kor-lek-8/
LOCATION:Kapellet
END:VEVENT
BEGIN:VEVENT
DTSTART;TZID=Europe/Stockholm:20260222T110000
DTEND;TZID=Europe/Stockholm:20260222T120000
DTSTAMP:20260425T141521
CREATED:20251230T224556Z
LAST-MODIFIED:20260425T111639Z
UID:10000786-1771758000-1771761600@www.immanuel.se
SUMMARY:Worship in Swedish
DESCRIPTION:Söndag 22 februari kl 11 Gudstjänst på svenska\nTema: Prövningens stund\n1:a sön i fastan\nPredikan: Anna Berndes\nMusik: Vox Immanuel under ledning av Marie Söderberg\nBarnkyrkan är öppen\, Kyrkkaffe serveras
URL:https://www.immanuel.se/ko/calendar/worship-in-swedish-7/
LOCATION:Kyrksalen
END:VEVENT
BEGIN:VEVENT
DTSTART;TZID=Europe/Stockholm:20260222T120000
DTEND;TZID=Europe/Stockholm:20260222T133000
DTSTAMP:20260425T141521
CREATED:20251230T224557Z
LAST-MODIFIED:20260425T111639Z
UID:10000787-1771761600-1771767000@www.immanuel.se
SUMMARY:After Church: Lunch för unga vuxna
DESCRIPTION:Efter gudstjänsten så träffas alla unga vuxna för att äta lunch tillsammans!
URL:https://www.immanuel.se/ko/calendar/after-church-lunch-for-unga-vuxna/
LOCATION:Kyrkplan
END:VEVENT
END:VCALENDAR