BEGIN:VCALENDAR
VERSION:2.0
PRODID:-//Immanuelskyrkan - ECPv6.15.20//NONSGML v1.0//EN
CALSCALE:GREGORIAN
METHOD:PUBLISH
X-ORIGINAL-URL:https://www.immanuel.se/ko
X-WR-CALDESC:Events for Immanuelskyrkan
REFRESH-INTERVAL;VALUE=DURATION:PT1H
X-Robots-Tag:noindex
X-PUBLISHED-TTL:PT1H
BEGIN:VTIMEZONE
TZID:Europe/Stockholm
BEGIN:DAYLIGHT
TZOFFSETFROM:+0100
TZOFFSETTO:+0200
TZNAME:CEST
DTSTART:20240331T010000
END:DAYLIGHT
BEGIN:STANDARD
TZOFFSETFROM:+0200
TZOFFSETTO:+0100
TZNAME:CET
DTSTART:20241027T010000
END:STANDARD
BEGIN:DAYLIGHT
TZOFFSETFROM:+0100
TZOFFSETTO:+0200
TZNAME:CEST
DTSTART:20250330T010000
END:DAYLIGHT
BEGIN:STANDARD
TZOFFSETFROM:+0200
TZOFFSETTO:+0100
TZNAME:CET
DTSTART:20251026T010000
END:STANDARD
BEGIN:DAYLIGHT
TZOFFSETFROM:+0100
TZOFFSETTO:+0200
TZNAME:CEST
DTSTART:20260329T010000
END:DAYLIGHT
BEGIN:STANDARD
TZOFFSETFROM:+0200
TZOFFSETTO:+0100
TZNAME:CET
DTSTART:20261025T010000
END:STANDARD
END:VTIMEZONE
BEGIN:VEVENT
DTSTART;TZID=Europe/Stockholm:20251110T120000
DTEND;TZID=Europe/Stockholm:20251110T130000
DTSTAMP:20260420T135629
CREATED:20250825T121535Z
LAST-MODIFIED:20260420T111621Z
UID:10000159-1762776000-1762779600@www.immanuel.se
SUMMARY:Lunch Concert
DESCRIPTION:Sax och orgel\nSebastian Mattebo\, saxofon\nBjörn Gäfvert\, orgel
URL:https://www.immanuel.se/ko/calendar/lunch-concert-3/
LOCATION:Kyrksalen
CATEGORIES:Concert
END:VEVENT
BEGIN:VEVENT
DTSTART;TZID=Europe/Stockholm:20251111T130000
DTEND;TZID=Europe/Stockholm:20251111T150000
DTSTAMP:20260420T135629
CREATED:20250829T081343Z
LAST-MODIFIED:20260420T111621Z
UID:10000174-1762866000-1762873200@www.immanuel.se
SUMMARY:Immanuel Senior
DESCRIPTION:Att leva Musik\nGary Graden är domkyrkokantor emeritus i Storkyrkan och S:t Jacobs kyrka\, där han under mer än 40 år lett musik i gudstjänst och konsert.\nHan har fascinerats av sång och musik som en positiv och skapande kraft i världen\, och arbetat för att inspirera människor och sångare till att uppnå sin högsta potential.\nGenom musik och sång kan vi flyga fritt och uppleva och uttrycka våra djupaste känslor\, långt bortom ord.
URL:https://www.immanuel.se/ko/calendar/tisdagstraffen-10/
LOCATION:Waldenströmssalen
END:VEVENT
BEGIN:VEVENT
DTSTART;TZID=Europe/Stockholm:20251112T180000
DTEND;TZID=Europe/Stockholm:20251112T184500
DTSTAMP:20260420T135629
CREATED:20250910T101546Z
LAST-MODIFIED:20260420T111621Z
UID:10000205-1762970400-1762973100@www.immanuel.se
SUMMARY:Onsdagsmässan
DESCRIPTION:
URL:https://www.immanuel.se/ko/calendar/onsdagsmassan-12/
LOCATION:Kyrksalen
END:VEVENT
BEGIN:VEVENT
DTSTART;TZID=Europe/Stockholm:20251112T183000
DTEND;TZID=Europe/Stockholm:20251112T213000
DTSTAMP:20260420T135629
CREATED:20251028T161551Z
LAST-MODIFIED:20260420T111621Z
UID:10000243-1762972200-1762983000@www.immanuel.se
SUMMARY:After Worship
DESCRIPTION:På After Worship den här veckan kör vi Måla och Mousserande! \nVi målar canvastavlor och minglar med ost\, chark\, frukt och alkoholfritt bubbel. I baren finns snacks\, alkoholfri öl\, fryspizza mm att köpa. Ta med en vän och häng på!  \nNär? Onsdag 12 november kl 18.45 – 20.30\nKom också gärna på onsdagsmässan i kapellet kl 18-18.30 om du vill\nVem? Du som är ung vuxen (20+)\nVar? Vi ses på våningsplan K3 i Immanuelskyrkan. Ring Esther på 08-58750317 om du känner dig vilsen!\nKostnad? För 50 kr får du material\, bubbel och charkbricka.
URL:https://www.immanuel.se/ko/calendar/after-worship-3/
END:VEVENT
BEGIN:VEVENT
DTSTART;TZID=Europe/Stockholm:20251113T083000
DTEND;TZID=Europe/Stockholm:20251113T093000
DTSTAMP:20260420T135629
CREATED:20251009T121546Z
LAST-MODIFIED:20260420T111621Z
UID:10000229-1763022600-1763026200@www.immanuel.se
SUMMARY:Shower Service (NOTE the new time!)
DESCRIPTION:The sports hall’s shower facilities are opened up in support of EU/EEA citizens. Towels are available. Basic hygiene products are included. Meeting point outside main entrance\, Kungstensgatan 17\, 08:30.
URL:https://www.immanuel.se/ko/calendar/shower-service-note-the-new-time-4/
LOCATION:Sporthallen
CATEGORIES:Care and Diaconal
END:VEVENT
BEGIN:VEVENT
DTSTART;TZID=Europe/Stockholm:20251114T183000
DTEND;TZID=Europe/Stockholm:20251114T220000
DTSTAMP:20260420T135629
CREATED:20251030T081346Z
LAST-MODIFIED:20260420T111621Z
UID:10000249-1763145000-1763157600@www.immanuel.se
SUMMARY:FREDA
DESCRIPTION:Theme: Stress
URL:https://www.immanuel.se/ko/calendar/freda-5/
CATEGORIES:Youth
END:VEVENT
BEGIN:VEVENT
DTSTART;TZID=Europe/Stockholm:20251115T100000
DTEND;TZID=Europe/Stockholm:20251115T130000
DTSTAMP:20260420T135629
CREATED:20250805T121527Z
LAST-MODIFIED:20260420T111621Z
UID:10000116-1763200800-1763211600@www.immanuel.se
SUMMARY:Brunch for young adults
DESCRIPTION:Är du 20+? Nyinflyttad\, student eller någon som precis tagit steget ut i vuxenlivet? Varmt välkommen på brunch tillsammans med andra unga vuxna. Perfekt tillfälle för dig som är ny i stan att lära känna fler människor. Brunchen startar 11:00 men om du vill vara med och hjälpa till är du välkommen redan kl 10! Vi ses där!
URL:https://www.immanuel.se/ko/calendar/brunch-for-young-adults-3/
CATEGORIES:Swedish Fellowship,Young Adults
END:VEVENT
BEGIN:VEVENT
DTSTART;TZID=Europe/Stockholm:20251116T101500
DTEND;TZID=Europe/Stockholm:20251116T105000
DTSTAMP:20260420T135629
CREATED:20251113T131553Z
LAST-MODIFIED:20260420T111621Z
UID:10000267-1763288100-1763290200@www.immanuel.se
SUMMARY:Kör-lek
DESCRIPTION:Välkommen att lära känna fler barnfamiljer i Immanuelskyrkan! Vi sjunger\, leker och har trevligt tillsammans. Kl. 10.50 bjuds på frukt\, och därefter finns möjlighet att gå vidare till någon av församlingens tre gudstjänster.
URL:https://www.immanuel.se/ko/calendar/kor-lek/
LOCATION:Kapellet
END:VEVENT
BEGIN:VEVENT
DTSTART;TZID=Europe/Stockholm:20251116T110000
DTEND;TZID=Europe/Stockholm:20251116T120000
DTSTAMP:20260420T135629
CREATED:20250813T141534Z
LAST-MODIFIED:20260420T111621Z
UID:10000140-1763290800-1763294400@www.immanuel.se
SUMMARY:Gudstjänst på svenska
DESCRIPTION:Söndag 16 november kl 11 Gudstjänst på Svenska\nTema: Vaksamhet och väntan\nPredikan: Jonas Eveborn\nMusik: Martin Åsander\, Paulina Fröling och Åsanders kapell\nBarnkyrkan är öppen\, Kyrkkaffe serveras
URL:https://www.immanuel.se/ko/calendar/brunch-for-young-adults-4/
LOCATION:Kyrksalen
END:VEVENT
BEGIN:VEVENT
DTSTART;TZID=Europe/Stockholm:20251116T120000
DTEND;TZID=Europe/Stockholm:20251116T140000
DTSTAMP:20260420T135629
CREATED:20251114T101557Z
LAST-MODIFIED:20260420T111621Z
UID:10000268-1763294400-1763301600@www.immanuel.se
SUMMARY:Viewing of our new congregational floor!
DESCRIPTION:You are warmly welcome to a simple tour of our congregational floor (also called K3)!
URL:https://www.immanuel.se/ko/calendar/viewing-of-our-new-congregational-floor/
LOCATION:K3
CATEGORIES:International Fellowship,Korean Fellowship,Swedish Fellowship
END:VEVENT
END:VCALENDAR