BEGIN:VCALENDAR
VERSION:2.0
PRODID:-//Immanuelskyrkan - ECPv6.15.20//NONSGML v1.0//EN
CALSCALE:GREGORIAN
METHOD:PUBLISH
X-WR-CALNAME:Immanuelskyrkan
X-ORIGINAL-URL:https://www.immanuel.se/ko
X-WR-CALDESC:Events for Immanuelskyrkan
REFRESH-INTERVAL;VALUE=DURATION:PT1H
X-Robots-Tag:noindex
X-PUBLISHED-TTL:PT1H
BEGIN:VTIMEZONE
TZID:Europe/Stockholm
BEGIN:DAYLIGHT
TZOFFSETFROM:+0100
TZOFFSETTO:+0200
TZNAME:CEST
DTSTART:20240331T010000
END:DAYLIGHT
BEGIN:STANDARD
TZOFFSETFROM:+0200
TZOFFSETTO:+0100
TZNAME:CET
DTSTART:20241027T010000
END:STANDARD
BEGIN:DAYLIGHT
TZOFFSETFROM:+0100
TZOFFSETTO:+0200
TZNAME:CEST
DTSTART:20250330T010000
END:DAYLIGHT
BEGIN:STANDARD
TZOFFSETFROM:+0200
TZOFFSETTO:+0100
TZNAME:CET
DTSTART:20251026T010000
END:STANDARD
BEGIN:DAYLIGHT
TZOFFSETFROM:+0100
TZOFFSETTO:+0200
TZNAME:CEST
DTSTART:20260329T010000
END:DAYLIGHT
BEGIN:STANDARD
TZOFFSETFROM:+0200
TZOFFSETTO:+0100
TZNAME:CET
DTSTART:20261025T010000
END:STANDARD
END:VTIMEZONE
BEGIN:VEVENT
DTSTART;TZID=Europe/Stockholm:20250409T180000
DTEND;TZID=Europe/Stockholm:20250409T184000
DTSTAMP:20260420T203011
CREATED:20250410T081326Z
LAST-MODIFIED:20260420T181552Z
UID:10000028-1744221600-1744224000@www.immanuel.se
SUMMARY:Onsdagsmässa
DESCRIPTION:Communion Service in swedish – Wednesdays at 18
URL:https://www.immanuel.se/ko/calendar/test-m-eng-2/
LOCATION:Kyrksalen
END:VEVENT
BEGIN:VEVENT
DTSTART;TZID=Europe/Stockholm:20250413T110000
DTEND;TZID=Europe/Stockholm:20250413T120000
DTSTAMP:20260420T203011
CREATED:20250523T081319Z
LAST-MODIFIED:20260420T181552Z
UID:10000058-1744542000-1744545600@www.immanuel.se
SUMMARY:Gemensam Gudstjänst / Joint Service
DESCRIPTION:Predikan Carin Dernulf\, Musik: Martin Åsander\, Fredrik Jonsson\, Rebecka Gustafsson\, Björn Gäfvert\, Lowe Jonsson\, Samuel Edenvik\, Min Han
URL:https://www.immanuel.se/ko/calendar/gemensam-gudstjanst-joint-service-2/
LOCATION:Kyrksalen
END:VEVENT
END:VCALENDAR