BEGIN:VCALENDAR
VERSION:2.0
PRODID:-//Immanuelskyrkan - ECPv6.15.20//NONSGML v1.0//EN
CALSCALE:GREGORIAN
METHOD:PUBLISH
X-WR-CALNAME:Immanuelskyrkan
X-ORIGINAL-URL:https://www.immanuel.se/ko
X-WR-CALDESC:Events for Immanuelskyrkan
REFRESH-INTERVAL;VALUE=DURATION:PT1H
X-Robots-Tag:noindex
X-PUBLISHED-TTL:PT1H
BEGIN:VTIMEZONE
TZID:Europe/Stockholm
BEGIN:DAYLIGHT
TZOFFSETFROM:+0100
TZOFFSETTO:+0200
TZNAME:CEST
DTSTART:20250330T010000
END:DAYLIGHT
BEGIN:STANDARD
TZOFFSETFROM:+0200
TZOFFSETTO:+0100
TZNAME:CET
DTSTART:20251026T010000
END:STANDARD
BEGIN:DAYLIGHT
TZOFFSETFROM:+0100
TZOFFSETTO:+0200
TZNAME:CEST
DTSTART:20260329T010000
END:DAYLIGHT
BEGIN:STANDARD
TZOFFSETFROM:+0200
TZOFFSETTO:+0100
TZNAME:CET
DTSTART:20261025T010000
END:STANDARD
BEGIN:DAYLIGHT
TZOFFSETFROM:+0100
TZOFFSETTO:+0200
TZNAME:CEST
DTSTART:20270328T010000
END:DAYLIGHT
BEGIN:STANDARD
TZOFFSETFROM:+0200
TZOFFSETTO:+0100
TZNAME:CET
DTSTART:20271031T010000
END:STANDARD
END:VTIMEZONE
BEGIN:VEVENT
DTSTART;TZID=Europe/Stockholm:20260114T153000
DTEND;TZID=Europe/Stockholm:20260114T183000
DTSTAMP:20260419T183404
CREATED:20260105T131633Z
LAST-MODIFIED:20260331T081451Z
UID:10000360-1768404600-1768415400@www.immanuel.se
SUMMARY:HQ - 13-18 år
DESCRIPTION:Holy Quarters\nVälkommen till HQ – Holy Quarters\, vår öppna efter-skola-verksamhet på Källarplan 3 i Immanuelskyrkan.\nHär finns plats för lek\, skapande\, musik\, sport\, mellis\, läxhjälp och gemenskap – mitt i stan\, mitt i veckan.\nAllt är gratis och ingen anmälan krävs. Kom som du är! \nEtt avslappnat häng med musik\, sport\, skapande\, mellis och pluggmöjligheter – där du får vara dig själv\, träffa nya vänner och hitta din plats.
URL:https://www.immanuel.se/ko/calendar/hq-13-18-ar/
LOCATION:K3
END:VEVENT
BEGIN:VEVENT
DTSTART;TZID=Europe/Stockholm:20260115T153000
DTEND;TZID=Europe/Stockholm:20260115T183000
DTSTAMP:20260419T183404
CREATED:20260105T131634Z
LAST-MODIFIED:20260331T081451Z
UID:10000361-1768491000-1768501800@www.immanuel.se
SUMMARY:HQ - 10-12 år
DESCRIPTION:Holy Quarters\nVälkommen till HQ – Holy Quarters\, vår öppna efter-skola-verksamhet på Källarplan 3 i Immanuelskyrkan.\nHär finns plats för lek\, skapande\, musik\, sport\, mellis\, läxhjälp och gemenskap – mitt i stan\, mitt i veckan.\nAllt är gratis och ingen anmälan krävs. Kom som du är! \nEn kreativ och aktiv plats efter skolan med sport\, skapande\, musikrum\, mellis och läxhjälp – för dig som vill hänga med kompisar och testa nya saker.
URL:https://www.immanuel.se/ko/calendar/hq-10-12-ar-2/
LOCATION:K3
END:VEVENT
BEGIN:VEVENT
DTSTART;TZID=Europe/Stockholm:20260117T120000
DTEND;TZID=Europe/Stockholm:20260117T140000
DTSTAMP:20260419T183404
CREATED:20251230T224554Z
LAST-MODIFIED:20260331T081451Z
UID:10000294-1768651200-1768658400@www.immanuel.se
SUMMARY:Lunch In Community
DESCRIPTION:
URL:https://www.immanuel.se/ko/calendar/lunch-in-community-6/
LOCATION:Kyrkplan
END:VEVENT
BEGIN:VEVENT
DTSTART;TZID=Europe/Stockholm:20260118T093000
DTEND;TZID=Europe/Stockholm:20260118T103000
DTSTAMP:20260419T183404
CREATED:20251230T224554Z
LAST-MODIFIED:20260331T081451Z
UID:10000295-1768728600-1768732200@www.immanuel.se
SUMMARY:Breakfast In Community
DESCRIPTION:
URL:https://www.immanuel.se/ko/calendar/breakfast-in-community-8/
LOCATION:Kyrkplan
END:VEVENT
BEGIN:VEVENT
DTSTART;TZID=Europe/Stockholm:20260118T101500
DTEND;TZID=Europe/Stockholm:20260118T105000
DTSTAMP:20260419T183404
CREATED:20260105T101623Z
LAST-MODIFIED:20260331T081451Z
UID:10000336-1768731300-1768733400@www.immanuel.se
SUMMARY:Kör-lek
DESCRIPTION:Välkommen att lära känna fler barnfamiljer i Immanuelskyrkan! Vi sjunger\, leker och har trevligt tillsammans. Kl. 10.50 bjuds på frukt\, och därefter finns möjlighet att gå vidare till någon av församlingens tre gudstjänster.
URL:https://www.immanuel.se/ko/calendar/kor-lek-3/
LOCATION:Kapellet
END:VEVENT
BEGIN:VEVENT
DTSTART;TZID=Europe/Stockholm:20260118T110000
DTEND;TZID=Europe/Stockholm:20260118T120000
DTSTAMP:20260419T183404
CREATED:20251230T224554Z
LAST-MODIFIED:20260331T081451Z
UID:10000296-1768734000-1768737600@www.immanuel.se
SUMMARY:Worship in Swedish
DESCRIPTION:Söndag 18 januari kl 11 Gudstjänst på svenska med nattvard\nTema: Livets källa\n2:sön e trettondedagen\nPredikan: Anna Berndes\nMusik: Rebecka Gustafsson\nBarnkyrkan är öppen\, Kyrkkaffe serveras
URL:https://www.immanuel.se/ko/calendar/worship-in-swedish-3/
LOCATION:Kyrksalen
END:VEVENT
BEGIN:VEVENT
DTSTART;TZID=Europe/Stockholm:20260120T153000
DTEND;TZID=Europe/Stockholm:20260120T183000
DTSTAMP:20260419T183404
CREATED:20260105T131634Z
LAST-MODIFIED:20260331T081451Z
UID:10000362-1768923000-1768933800@www.immanuel.se
SUMMARY:HQ - 0-9 år
DESCRIPTION:Holy Quarters\nVälkommen till HQ – Holy Quarters\, vår öppna efter-skola-verksamhet på Källarplan 3 i Immanuelskyrkan.\nHär finns plats för lek\, skapande\, musik\, sport\, mellis\, läxhjälp och gemenskap – mitt i stan\, mitt i veckan.\nAllt är gratis och ingen anmälan krävs. Kom som du är! \nEn trygg och lekfull eftermiddag med idrott\, pyssel\, musik\, mellis och mys. Perfekt för små upptäckare och deras föräldrar.
URL:https://www.immanuel.se/ko/calendar/hq-0-9-ar-2/
LOCATION:K3
END:VEVENT
BEGIN:VEVENT
DTSTART;TZID=Europe/Stockholm:20260121T153000
DTEND;TZID=Europe/Stockholm:20260121T183000
DTSTAMP:20260419T183404
CREATED:20260105T131634Z
LAST-MODIFIED:20260331T081451Z
UID:10000363-1769009400-1769020200@www.immanuel.se
SUMMARY:HQ - 13-18 år
DESCRIPTION:Holy Quarters\nVälkommen till HQ – Holy Quarters\, vår öppna efter-skola-verksamhet på Källarplan 3 i Immanuelskyrkan.\nHär finns plats för lek\, skapande\, musik\, sport\, mellis\, läxhjälp och gemenskap – mitt i stan\, mitt i veckan.\nAllt är gratis och ingen anmälan krävs. Kom som du är! \nEtt avslappnat häng med musik\, sport\, skapande\, mellis och pluggmöjligheter – där du får vara dig själv\, träffa nya vänner och hitta din plats.
URL:https://www.immanuel.se/ko/calendar/hq-13-18-ar-2/
LOCATION:K3
END:VEVENT
BEGIN:VEVENT
DTSTART;TZID=Europe/Stockholm:20260122T153000
DTEND;TZID=Europe/Stockholm:20260122T183000
DTSTAMP:20260419T183404
CREATED:20260105T131634Z
LAST-MODIFIED:20260331T081451Z
UID:10000364-1769095800-1769106600@www.immanuel.se
SUMMARY:HQ - 10-12 år
DESCRIPTION:Holy Quarters\nVälkommen till HQ – Holy Quarters\, vår öppna efter-skola-verksamhet på Källarplan 3 i Immanuelskyrkan.\nHär finns plats för lek\, skapande\, musik\, sport\, mellis\, läxhjälp och gemenskap – mitt i stan\, mitt i veckan.\nAllt är gratis och ingen anmälan krävs. Kom som du är! \nEn kreativ och aktiv plats efter skolan med sport\, skapande\, musikrum\, mellis och läxhjälp – för dig som vill hänga med kompisar och testa nya saker.
URL:https://www.immanuel.se/ko/calendar/hq-10-12-ar-3/
LOCATION:K3
END:VEVENT
BEGIN:VEVENT
DTSTART;TZID=Europe/Stockholm:20260125T101500
DTEND;TZID=Europe/Stockholm:20260125T105000
DTSTAMP:20260419T183404
CREATED:20260105T101623Z
LAST-MODIFIED:20260331T081451Z
UID:10000337-1769336100-1769338200@www.immanuel.se
SUMMARY:Kör-lek
DESCRIPTION:Välkommen att lära känna fler barnfamiljer i Immanuelskyrkan! Vi sjunger\, leker och har trevligt tillsammans. Kl. 10.50 bjuds på frukt\, och därefter finns möjlighet att gå vidare till någon av församlingens tre gudstjänster.
URL:https://www.immanuel.se/ko/calendar/kor-lek-4/
LOCATION:Kapellet
END:VEVENT
BEGIN:VEVENT
DTSTART;TZID=Europe/Stockholm:20260125T110000
DTEND;TZID=Europe/Stockholm:20260125T120000
DTSTAMP:20260419T183404
CREATED:20251230T224554Z
LAST-MODIFIED:20260331T081451Z
UID:10000297-1769338800-1769342400@www.immanuel.se
SUMMARY:Gemensam gudsjänst med nattvard
DESCRIPTION:Söndag 25 januari kl 11.00 Gemensam gudstjänst med nattvard\nVälkommen att fira gudstjänst på tre språk med hela Immanuelskyrkans församling!\nVi firar nattvard\, välkomnar nya medlemmar och årets konfirmander får sina biblar.\nTema: Att följa honom som sätter människor fria – kyrkans uppdrag i vår tid\nPredikan: Carin Dernulf\nMusik: Immanuelskyrkans husband\nBarnverksamhet finns\, Kyrkkaffe efter gudstjänsten
URL:https://www.immanuel.se/ko/calendar/joint-service-5/
LOCATION:Kyrksalen
CATEGORIES:Care and Diaconal
END:VEVENT
BEGIN:VEVENT
DTSTART;TZID=Europe/Stockholm:20260127T153000
DTEND;TZID=Europe/Stockholm:20260127T183000
DTSTAMP:20260419T183404
CREATED:20260105T131634Z
LAST-MODIFIED:20260331T081451Z
UID:10000365-1769527800-1769538600@www.immanuel.se
SUMMARY:HQ - 0-9 år
DESCRIPTION:Holy Quarters\nVälkommen till HQ – Holy Quarters\, vår öppna efter-skola-verksamhet på Källarplan 3 i Immanuelskyrkan.\nHär finns plats för lek\, skapande\, musik\, sport\, mellis\, läxhjälp och gemenskap – mitt i stan\, mitt i veckan.\nAllt är gratis och ingen anmälan krävs. Kom som du är! \nEn trygg och lekfull eftermiddag med idrott\, pyssel\, musik\, mellis och mys. Perfekt för små upptäckare och deras föräldrar.
URL:https://www.immanuel.se/ko/calendar/hq-0-9-ar-3/
LOCATION:K3
END:VEVENT
BEGIN:VEVENT
DTSTART;TZID=Europe/Stockholm:20260128T153000
DTEND;TZID=Europe/Stockholm:20260128T183000
DTSTAMP:20260419T183404
CREATED:20260105T131635Z
LAST-MODIFIED:20260331T081451Z
UID:10000366-1769614200-1769625000@www.immanuel.se
SUMMARY:HQ - 13-18 år
DESCRIPTION:Holy Quarters\nVälkommen till HQ – Holy Quarters\, vår öppna efter-skola-verksamhet på Källarplan 3 i Immanuelskyrkan.\nHär finns plats för lek\, skapande\, musik\, sport\, mellis\, läxhjälp och gemenskap – mitt i stan\, mitt i veckan.\nAllt är gratis och ingen anmälan krävs. Kom som du är! \nEtt avslappnat häng med musik\, sport\, skapande\, mellis och pluggmöjligheter – där du får vara dig själv\, träffa nya vänner och hitta din plats.
URL:https://www.immanuel.se/ko/calendar/hq-13-18-ar-3/
LOCATION:K3
END:VEVENT
BEGIN:VEVENT
DTSTART;TZID=Europe/Stockholm:20260128T180000
DTEND;TZID=Europe/Stockholm:20260128T190000
DTSTAMP:20260419T183404
CREATED:20251230T224555Z
LAST-MODIFIED:20260331T081451Z
UID:10000298-1769623200-1769626800@www.immanuel.se
SUMMARY:Onsdagsmässan
DESCRIPTION:
URL:https://www.immanuel.se/ko/calendar/onsdagsmassan-18/
LOCATION:Kapellet
END:VEVENT
BEGIN:VEVENT
DTSTART;TZID=Europe/Stockholm:20260129T153000
DTEND;TZID=Europe/Stockholm:20260129T183000
DTSTAMP:20260419T183404
CREATED:20260105T131635Z
LAST-MODIFIED:20260331T081451Z
UID:10000367-1769700600-1769711400@www.immanuel.se
SUMMARY:HQ - 10-12 år
DESCRIPTION:Holy Quarters\nVälkommen till HQ – Holy Quarters\, vår öppna efter-skola-verksamhet på Källarplan 3 i Immanuelskyrkan.\nHär finns plats för lek\, skapande\, musik\, sport\, mellis\, läxhjälp och gemenskap – mitt i stan\, mitt i veckan.\nAllt är gratis och ingen anmälan krävs. Kom som du är! \nEn kreativ och aktiv plats efter skolan med sport\, skapande\, musikrum\, mellis och läxhjälp – för dig som vill hänga med kompisar och testa nya saker.
URL:https://www.immanuel.se/ko/calendar/hq-10-12-ar-4/
LOCATION:K3
END:VEVENT
BEGIN:VEVENT
DTSTART;TZID=Europe/Stockholm:20260131T110000
DTEND;TZID=Europe/Stockholm:20260131T130000
DTSTAMP:20260419T183404
CREATED:20251230T224555Z
LAST-MODIFIED:20260331T081452Z
UID:10000299-1769857200-1769864400@www.immanuel.se
SUMMARY:Brunch for young adult
DESCRIPTION:This program is held in Swedish.
URL:https://www.immanuel.se/ko/calendar/brunch-for-unga-vuxna/
LOCATION:K3
END:VEVENT
BEGIN:VEVENT
DTSTART;TZID=Europe/Stockholm:20260131T180000
DTEND;TZID=Europe/Stockholm:20260131T191500
DTSTAMP:20260419T183404
CREATED:20260108T071617Z
LAST-MODIFIED:20260331T081452Z
UID:10000425-1769882400-1769886900@www.immanuel.se
SUMMARY:Sing Gospel – in Concert
DESCRIPTION:A warm welcome to Sjung Gospel – in concert \nThe choir will be lined up on stage to share rich harmonies\, uplifting grooves\, and light in one of the darkest months of the year. Immanuel Church will be filled with gospel community — and we want you to be part of the audience! \nWe are joined by Patrice E. Turner (USA)\, Kiralina Salandy\, Lasse Axelsson\, Anki and Magnus Spångberg\, and Mikaela Häger. \nIn addition\, the Sjung Gospel Mass Choir will also be singing. \nGet your tickets now: https://billetto.se/e/sjung-gospel-in-consert-biljetter-1776377
URL:https://www.immanuel.se/ko/calendar/sing-gospel-in-concert/
LOCATION:Kyrksalen
CATEGORIES:Concert
END:VEVENT
BEGIN:VEVENT
DTSTART;TZID=Europe/Stockholm:20260201T101500
DTEND;TZID=Europe/Stockholm:20260201T105000
DTSTAMP:20260419T183404
CREATED:20260105T101623Z
LAST-MODIFIED:20260331T081452Z
UID:10000338-1769940900-1769943000@www.immanuel.se
SUMMARY:Kör-lek
DESCRIPTION:Välkommen att lära känna fler barnfamiljer i Immanuelskyrkan! Vi sjunger\, leker och har trevligt tillsammans. Kl. 10.50 bjuds på frukt\, och därefter finns möjlighet att gå vidare till någon av församlingens tre gudstjänster.
URL:https://www.immanuel.se/ko/calendar/kor-lek-5/
LOCATION:Kapellet
END:VEVENT
BEGIN:VEVENT
DTSTART;TZID=Europe/Stockholm:20260201T110000
DTEND;TZID=Europe/Stockholm:20260201T120000
DTSTAMP:20260419T183404
CREATED:20251230T224555Z
LAST-MODIFIED:20260331T081452Z
UID:10000300-1769943600-1769947200@www.immanuel.se
SUMMARY:Worship in Swedish
DESCRIPTION:Söndag 1 februari kl 11 Gudstjänst på svenska\nTema: Nåd och tjänst\nSeptuagesima\nPredikan: Charlotte Höglund\nMusik: Björn Gäfvert\, Vox Immanuel\nBarnkyrkan är öppen\, Kyrkkaffe serveras\nFörsamlingsmöte kl 13.15
URL:https://www.immanuel.se/ko/calendar/worship-in-swedish-4/
LOCATION:Kyrksalen
END:VEVENT
BEGIN:VEVENT
DTSTART;TZID=Europe/Stockholm:20260201T131500
DTEND;TZID=Europe/Stockholm:20260201T150000
DTSTAMP:20260419T183404
CREATED:20251230T224555Z
LAST-MODIFIED:20260331T081452Z
UID:10000301-1769951700-1769958000@www.immanuel.se
SUMMARY:Congregational meeting
DESCRIPTION:
URL:https://www.immanuel.se/ko/calendar/congregational-meeting-2/
LOCATION:Congressen
END:VEVENT
BEGIN:VEVENT
DTSTART;TZID=Europe/Stockholm:20260203T153000
DTEND;TZID=Europe/Stockholm:20260203T183000
DTSTAMP:20260419T183404
CREATED:20260105T131635Z
LAST-MODIFIED:20260331T081452Z
UID:10000368-1770132600-1770143400@www.immanuel.se
SUMMARY:HQ - 0-9 år
DESCRIPTION:Holy Quarters\nVälkommen till HQ – Holy Quarters\, vår öppna efter-skola-verksamhet på Källarplan 3 i Immanuelskyrkan.\nHär finns plats för lek\, skapande\, musik\, sport\, mellis\, läxhjälp och gemenskap – mitt i stan\, mitt i veckan.\nAllt är gratis och ingen anmälan krävs. Kom som du är! \nEn trygg och lekfull eftermiddag med idrott\, pyssel\, musik\, mellis och mys. Perfekt för små upptäckare och deras föräldrar.
URL:https://www.immanuel.se/ko/calendar/hq-0-9-ar-4/
LOCATION:K3
END:VEVENT
BEGIN:VEVENT
DTSTART;TZID=Europe/Stockholm:20260204T153000
DTEND;TZID=Europe/Stockholm:20260204T183000
DTSTAMP:20260419T183404
CREATED:20260105T131635Z
LAST-MODIFIED:20260331T081452Z
UID:10000369-1770219000-1770229800@www.immanuel.se
SUMMARY:HQ - 13-18 år
DESCRIPTION:Holy Quarters\nVälkommen till HQ – Holy Quarters\, vår öppna efter-skola-verksamhet på Källarplan 3 i Immanuelskyrkan.\nHär finns plats för lek\, skapande\, musik\, sport\, mellis\, läxhjälp och gemenskap – mitt i stan\, mitt i veckan.\nAllt är gratis och ingen anmälan krävs. Kom som du är! \nEtt avslappnat häng med musik\, sport\, skapande\, mellis och pluggmöjligheter – där du får vara dig själv\, träffa nya vänner och hitta din plats.
URL:https://www.immanuel.se/ko/calendar/hq-13-18-ar-4/
LOCATION:K3
END:VEVENT
BEGIN:VEVENT
DTSTART;TZID=Europe/Stockholm:20260204T180000
DTEND;TZID=Europe/Stockholm:20260204T190000
DTSTAMP:20260419T183404
CREATED:20251230T224555Z
LAST-MODIFIED:20260331T081452Z
UID:10000302-1770228000-1770231600@www.immanuel.se
SUMMARY:Onsdagsmässan
DESCRIPTION:
URL:https://www.immanuel.se/ko/calendar/onsdagsmassan-19/
LOCATION:Kapellet
END:VEVENT
BEGIN:VEVENT
DTSTART;TZID=Europe/Stockholm:20260204T190000
DTEND;TZID=Europe/Stockholm:20260204T210000
DTSTAMP:20260419T183404
CREATED:20251230T224555Z
LAST-MODIFIED:20260331T081452Z
UID:10000303-1770231600-1770238800@www.immanuel.se
SUMMARY:After Worship
DESCRIPTION:
URL:https://www.immanuel.se/ko/calendar/after-worship-9/
LOCATION:K3
END:VEVENT
BEGIN:VEVENT
DTSTART;TZID=Europe/Stockholm:20260205T153000
DTEND;TZID=Europe/Stockholm:20260205T183000
DTSTAMP:20260419T183404
CREATED:20260105T131635Z
LAST-MODIFIED:20260331T081452Z
UID:10000370-1770305400-1770316200@www.immanuel.se
SUMMARY:HQ - 10-12 år
DESCRIPTION:Holy Quarters\nVälkommen till HQ – Holy Quarters\, vår öppna efter-skola-verksamhet på Källarplan 3 i Immanuelskyrkan.\nHär finns plats för lek\, skapande\, musik\, sport\, mellis\, läxhjälp och gemenskap – mitt i stan\, mitt i veckan.\nAllt är gratis och ingen anmälan krävs. Kom som du är! \nEn kreativ och aktiv plats efter skolan med sport\, skapande\, musikrum\, mellis och läxhjälp – för dig som vill hänga med kompisar och testa nya saker.
URL:https://www.immanuel.se/ko/calendar/hq-10-12-ar-5/
LOCATION:K3
END:VEVENT
BEGIN:VEVENT
DTSTART;TZID=Europe/Stockholm:20260207T120000
DTEND;TZID=Europe/Stockholm:20260207T140000
DTSTAMP:20260419T183404
CREATED:20251230T224555Z
LAST-MODIFIED:20260331T081452Z
UID:10000304-1770465600-1770472800@www.immanuel.se
SUMMARY:Lunch In Community
DESCRIPTION:
URL:https://www.immanuel.se/ko/calendar/lunch-in-community-7/
LOCATION:Kyrkplan
END:VEVENT
BEGIN:VEVENT
DTSTART;TZID=Europe/Stockholm:20260208T093000
DTEND;TZID=Europe/Stockholm:20260208T103000
DTSTAMP:20260419T183404
CREATED:20251230T224555Z
LAST-MODIFIED:20260331T081452Z
UID:10000305-1770543000-1770546600@www.immanuel.se
SUMMARY:Breakfast In Community
DESCRIPTION:
URL:https://www.immanuel.se/ko/calendar/breakfast-in-community-9/
LOCATION:Kyrkplan
END:VEVENT
BEGIN:VEVENT
DTSTART;TZID=Europe/Stockholm:20260208T101500
DTEND;TZID=Europe/Stockholm:20260208T105000
DTSTAMP:20260419T183404
CREATED:20260105T101624Z
LAST-MODIFIED:20260331T081452Z
UID:10000339-1770545700-1770547800@www.immanuel.se
SUMMARY:Kör-lek
DESCRIPTION:Välkommen att lära känna fler barnfamiljer i Immanuelskyrkan! Vi sjunger\, leker och har trevligt tillsammans. Kl. 10.50 bjuds på frukt\, och därefter finns möjlighet att gå vidare till någon av församlingens tre gudstjänster.
URL:https://www.immanuel.se/ko/calendar/kor-lek-6/
LOCATION:Kapellet
END:VEVENT
BEGIN:VEVENT
DTSTART;TZID=Europe/Stockholm:20260208T110000
DTEND;TZID=Europe/Stockholm:20260208T120000
DTSTAMP:20260419T183404
CREATED:20251230T224556Z
LAST-MODIFIED:20260331T081452Z
UID:10000306-1770548400-1770552000@www.immanuel.se
SUMMARY:Worship in Swedish
DESCRIPTION:Söndag 8 februari kl 11 Gudstjänst för alla åldrar\nmed ljuständningsstund för barn som är födda under förra året.\nMedverkande: Simon Minnhagen mfl\nMusik: Martin Åsander\, Viktoria Glans\nKyrkkaffe serveras\nVerksamhetsrådet inbjuder till information och samtalsmöte\nefter gudstjänsten
URL:https://www.immanuel.se/ko/calendar/worship-in-swedish-5/
LOCATION:Kyrksalen
END:VEVENT
BEGIN:VEVENT
DTSTART;TZID=Europe/Stockholm:20260208T123000
DTEND;TZID=Europe/Stockholm:20260208T133000
DTSTAMP:20260419T183404
CREATED:20260126T141625Z
LAST-MODIFIED:20260331T081452Z
UID:10000438-1770553800-1770557400@www.immanuel.se
SUMMARY:Verksamhetsrådet inbjuder till information och samtalsmöte
DESCRIPTION:Verksamhetsrådet inbjuder till samtal och information om den svenska verksamheten 2026. Vi ses efter gudstjänsten söndag 8 februari för ett språkgruppsmöte – vilket är en form av församlingsmöte för endast den svenskspråkiga delen av församlingen. Denna form av möte hålls även i den internationella och koreanska gemenskapen då och då.
URL:https://www.immanuel.se/ko/calendar/verksamhetsradet-inbjuder-till-information-och-samtalsmote/
LOCATION:Kaffestugan
END:VEVENT
END:VCALENDAR