BEGIN:VCALENDAR
VERSION:2.0
PRODID:-//Immanuelskyrkan - ECPv6.15.20//NONSGML v1.0//EN
CALSCALE:GREGORIAN
METHOD:PUBLISH
X-WR-CALNAME:Immanuelskyrkan
X-ORIGINAL-URL:https://www.immanuel.se/ko
X-WR-CALDESC:Events for Immanuelskyrkan
REFRESH-INTERVAL;VALUE=DURATION:PT1H
X-Robots-Tag:noindex
X-PUBLISHED-TTL:PT1H
BEGIN:VTIMEZONE
TZID:Europe/Stockholm
BEGIN:DAYLIGHT
TZOFFSETFROM:+0100
TZOFFSETTO:+0200
TZNAME:CEST
DTSTART:20240331T010000
END:DAYLIGHT
BEGIN:STANDARD
TZOFFSETFROM:+0200
TZOFFSETTO:+0100
TZNAME:CET
DTSTART:20241027T010000
END:STANDARD
BEGIN:DAYLIGHT
TZOFFSETFROM:+0100
TZOFFSETTO:+0200
TZNAME:CEST
DTSTART:20250330T010000
END:DAYLIGHT
BEGIN:STANDARD
TZOFFSETFROM:+0200
TZOFFSETTO:+0100
TZNAME:CET
DTSTART:20251026T010000
END:STANDARD
BEGIN:DAYLIGHT
TZOFFSETFROM:+0100
TZOFFSETTO:+0200
TZNAME:CEST
DTSTART:20260329T010000
END:DAYLIGHT
BEGIN:STANDARD
TZOFFSETFROM:+0200
TZOFFSETTO:+0100
TZNAME:CET
DTSTART:20261025T010000
END:STANDARD
END:VTIMEZONE
BEGIN:VEVENT
DTSTART;TZID=Europe/Stockholm:20250606T180000
DTEND;TZID=Europe/Stockholm:20250606T190000
DTSTAMP:20260420T213338
CREATED:20250523T081322Z
LAST-MODIFIED:20260420T191552Z
UID:10000073-1749232800-1749236400@www.immanuel.se
SUMMARY:Nationaldagskonsert 6 juni kl 18.00
DESCRIPTION:National Day Concert\, June 6 at 6:00 PM \nImmanuel Nova invites you to the National Day Concert!  Welcome to celebrate\nthis day and our beautiful country. We are pleased to be performing with\nSebastian Mattebo and Björn Gäfvert this evening and the program will consist of\nfolk music\, jazz and classical choral music. \nWelcome! \nFri entrance \nImmanuel Nova \nSebastian Mattebo\, saxophone\nBjörn Gäfvert\, organ and piano\nRebecka Gustafsson\, conductor
URL:https://www.immanuel.se/ko/calendar/nationaldagskonsert-6-juni-kl-18-00-2/
LOCATION:Kyrksalen
END:VEVENT
BEGIN:VEVENT
DTSTART;TZID=Europe/Stockholm:20250605T153000
DTEND;TZID=Europe/Stockholm:20250605T163000
DTSTAMP:20260420T213338
CREATED:20250527T071521Z
LAST-MODIFIED:20260420T191552Z
UID:10000087-1749137400-1749141000@www.immanuel.se
SUMMARY:Shower Service
DESCRIPTION:The sports hall’s shower facilities are opened up in support of EU/EEA citizens. Towels are available. Basic hygiene products are included. Meeting point: main entrance on ground floor\, 15:30.
URL:https://www.immanuel.se/ko/calendar/shower-service-4/
LOCATION:Sporthallen
CATEGORIES:Care and Diaconal
END:VEVENT
BEGIN:VEVENT
DTSTART;TZID=Europe/Stockholm:20250604T190000
DTEND;TZID=Europe/Stockholm:20250604T200000
DTSTAMP:20260420T213338
CREATED:20250602T131518Z
LAST-MODIFIED:20260420T191552Z
UID:10000101-1749063600-1749067200@www.immanuel.se
SUMMARY:Mozarts första Opera- Musikskolan
DESCRIPTION:Konsert – Mozarts opera Bastien och Bastienne\n”Gammal kärlek rostar aldrig” \nVälkommen till en konsertant framförd version av Mozarts charmiga opera Bastien och Bastienne – en berättelse om kärlek\, svek och försoning. Verket är nyöversatt av Annelie Korsfeldt och framförs av elever och lärare vid Immanuel Musikskola. \nMozart skrev operan redan som 12-åring\, och den bjuder på en variationsrik musikupplevelse med inslag från flera stilar. \n📅Onsdag 4 juni kl. 19.00\n📍 Immanuelskyrkan\n🎟 Fri entré \nTa med vänner och familj och låt er föras in i Mozarts tidlösa musikaliska värld. \nVarmt välkomna!
URL:https://www.immanuel.se/ko/calendar/mozarts-forsta-opera-musikskolan/
LOCATION:Waldenströmssalen
END:VEVENT
BEGIN:VEVENT
DTSTART;TZID=Europe/Stockholm:20250604T180000
DTEND;TZID=Europe/Stockholm:20250604T184000
DTSTAMP:20260420T213338
CREATED:20250523T081322Z
LAST-MODIFIED:20260420T191552Z
UID:10000072-1749060000-1749062400@www.immanuel.se
SUMMARY:Onsdagsmässa - sista innan sommaren!
DESCRIPTION:Communion Service in swedish – Wednesdays at 18
URL:https://www.immanuel.se/ko/calendar/onsdagsmassa-sista-innan-sommaren-2/
LOCATION:Kyrksalen
END:VEVENT
BEGIN:VEVENT
DTSTART;TZID=Europe/Stockholm:20250601T110000
DTEND;TZID=Europe/Stockholm:20250601T120000
DTSTAMP:20260420T213338
CREATED:20250523T081322Z
LAST-MODIFIED:20260420T191552Z
UID:10000071-1748775600-1748779200@www.immanuel.se
SUMMARY:Gudstjänst - på svenska
DESCRIPTION:Hjälparen kommer.\nPredikan: Esther Kazen\, Musik: Martin Åsander.\nKyrkkaffe serveras\, Barnkyrkan är öppen.\nVälkommen!
URL:https://www.immanuel.se/ko/calendar/gudstjanst-pa-svenska-3/
LOCATION:Kyrksalen
END:VEVENT
BEGIN:VEVENT
DTSTART;TZID=Europe/Stockholm:20250529T153000
DTEND;TZID=Europe/Stockholm:20250529T163000
DTSTAMP:20260420T213338
CREATED:20250523T081322Z
LAST-MODIFIED:20260420T191552Z
UID:10000070-1748532600-1748536200@www.immanuel.se
SUMMARY:Shower Service
DESCRIPTION:The sports hall’s shower facilities are opened up in support of EU/EEA citizens. Towels are available. Basic hygiene products are included. Meeting point: main entrance on ground floor\, 15:30.
URL:https://www.immanuel.se/ko/calendar/shower-service-3/
LOCATION:Sporthallen
CATEGORIES:Care and Diaconal
END:VEVENT
BEGIN:VEVENT
DTSTART;TZID=Europe/Stockholm:20250528T180000
DTEND;TZID=Europe/Stockholm:20250528T184000
DTSTAMP:20260420T213338
CREATED:20250523T081322Z
LAST-MODIFIED:20260420T191552Z
UID:10000069-1748455200-1748457600@www.immanuel.se
SUMMARY:Onsdagsmässa
DESCRIPTION:Communion Service in swedish – Wednesdays at 18
URL:https://www.immanuel.se/ko/calendar/onsdagsmassa-8/
LOCATION:Kyrksalen
END:VEVENT
BEGIN:VEVENT
DTSTART;TZID=Europe/Stockholm:20250525T110000
DTEND;TZID=Europe/Stockholm:20250525T120000
DTSTAMP:20260420T213338
CREATED:20250522T140311Z
LAST-MODIFIED:20260420T191551Z
UID:10000044-1748170800-1748174400@www.immanuel.se
SUMMARY:Gudstjänst på svenska
DESCRIPTION:Bönsöndagen\nPredikan: Anna berndes\, Musik: Immanuel Brass\nKyrkkaffe serveras\, barnkyrkan är öppen\nVälkommen!
URL:https://www.immanuel.se/ko/calendar/immanuel-gospel-konsert/
LOCATION:Kyrksalen
END:VEVENT
BEGIN:VEVENT
DTSTART;TZID=Europe/Stockholm:20250524T180000
DTEND;TZID=Europe/Stockholm:20250524T200000
DTSTAMP:20260420T213338
CREATED:20250523T081321Z
LAST-MODIFIED:20260420T191551Z
UID:10000068-1748109600-1748116800@www.immanuel.se
SUMMARY:Immanuel Gospel Konsert
DESCRIPTION:Vårkonsert Gotta have faith
URL:https://www.immanuel.se/ko/calendar/immanuel-gospel-konsert-2/
LOCATION:Kyrksalen
END:VEVENT
BEGIN:VEVENT
DTSTART;TZID=Europe/Stockholm:20250522T153000
DTEND;TZID=Europe/Stockholm:20250522T163000
DTSTAMP:20260420T213338
CREATED:20250523T081321Z
LAST-MODIFIED:20260420T191551Z
UID:10000067-1747927800-1747931400@www.immanuel.se
SUMMARY:Shower Service
DESCRIPTION:The sports hall’s shower facilities are opened up in support of EU/EEA citizens. Towels are available. Basic hygiene products are included. Meeting point: main entrance on ground floor\, 15:30.
URL:https://www.immanuel.se/ko/calendar/shower-service-2/
LOCATION:Sporthallen
CATEGORIES:Care and Diaconal
END:VEVENT
BEGIN:VEVENT
DTSTART;TZID=Europe/Stockholm:20250521T180000
DTEND;TZID=Europe/Stockholm:20250521T184000
DTSTAMP:20260420T213338
CREATED:20250523T081321Z
LAST-MODIFIED:20260420T191551Z
UID:10000066-1747850400-1747852800@www.immanuel.se
SUMMARY:Onsdagsmässa
DESCRIPTION:Communion Service in swedish – Wednesdays at 18
URL:https://www.immanuel.se/ko/calendar/onsdagsmassa-7/
LOCATION:Kyrksalen
END:VEVENT
BEGIN:VEVENT
DTSTART;TZID=Europe/Stockholm:20250519T180000
DTEND;TZID=Europe/Stockholm:20250519T193000
DTSTAMP:20260420T213338
CREATED:20250523T081321Z
LAST-MODIFIED:20260420T191551Z
UID:10000065-1747677600-1747683000@www.immanuel.se
SUMMARY:Stråkafton
DESCRIPTION:Stråkelever från Immanuelskyrkans musikskola har terminsuppspel!
URL:https://www.immanuel.se/ko/calendar/strakafton-2/
LOCATION:Kyrksalen
END:VEVENT
BEGIN:VEVENT
DTSTART;TZID=Europe/Stockholm:20250518T110000
DTEND;TZID=Europe/Stockholm:20250518T120000
DTSTAMP:20260420T213338
CREATED:20250522T140310Z
LAST-MODIFIED:20260420T191551Z
UID:10000040-1747566000-1747569600@www.immanuel.se
SUMMARY:Gudstjänst - på svenska
DESCRIPTION:Växa i tro\nPredikan: Carin Dernulf\, Musik: Vox Imanuel mfl\nKyrkkaffe serveras\, Barnkyrkan är öppen\nVälkommen!
URL:https://www.immanuel.se/ko/calendar/unga-vuxna-brunch/
LOCATION:Kyrksalen
END:VEVENT
BEGIN:VEVENT
DTSTART;TZID=Europe/Stockholm:20250517T110000
DTEND;TZID=Europe/Stockholm:20250517T130000
DTSTAMP:20260420T213338
CREATED:20250522T140310Z
LAST-MODIFIED:20260420T191551Z
UID:10000039-1747479600-1747486800@www.immanuel.se
SUMMARY:Unga Vuxna Brunch
DESCRIPTION:Young Adults Brunch in Swedish
URL:https://www.immanuel.se/ko/calendar/freda/
LOCATION:Kaffestugan
END:VEVENT
BEGIN:VEVENT
DTSTART;TZID=Europe/Stockholm:20250516T183000
DTEND;TZID=Europe/Stockholm:20250516T220000
DTSTAMP:20260420T213338
CREATED:20250523T081320Z
LAST-MODIFIED:20260420T191551Z
UID:10000064-1747420200-1747432800@www.immanuel.se
SUMMARY:FREDA
DESCRIPTION:
URL:https://www.immanuel.se/ko/calendar/freda-2/
END:VEVENT
BEGIN:VEVENT
DTSTART;TZID=Europe/Stockholm:20250514T180000
DTEND;TZID=Europe/Stockholm:20250514T184000
DTSTAMP:20260420T213338
CREATED:20250523T081320Z
LAST-MODIFIED:20260420T191551Z
UID:10000063-1747245600-1747248000@www.immanuel.se
SUMMARY:Onsdagsmässa
DESCRIPTION:Communion Service in swedish – Wednesdays at 18
URL:https://www.immanuel.se/ko/calendar/onsdagsmassa-6/
LOCATION:Kyrksalen
END:VEVENT
BEGIN:VEVENT
DTSTART;TZID=Europe/Stockholm:20250511T110000
DTEND;TZID=Europe/Stockholm:20250511T120000
DTSTAMP:20260420T213338
CREATED:20250523T081320Z
LAST-MODIFIED:20260420T191551Z
UID:10000062-1746961200-1746964800@www.immanuel.se
SUMMARY:Gudstjänst med nattvard - på svenska
DESCRIPTION:Vägen till Livet\nPredikan: Charlotte Höglund\, Musik: Victor Bodell mfl\nKyrkkaffe serveras\, Barnkyrkan är öppen\nVälkommen!
URL:https://www.immanuel.se/ko/calendar/gudstjanst-med-nattvard-pa-svenska/
LOCATION:Kyrksalen
END:VEVENT
BEGIN:VEVENT
DTSTART;TZID=Europe/Stockholm:20250507T180000
DTEND;TZID=Europe/Stockholm:20250507T184000
DTSTAMP:20260420T213338
CREATED:20250523T081320Z
LAST-MODIFIED:20260420T191550Z
UID:10000061-1746640800-1746643200@www.immanuel.se
SUMMARY:Onsdagsmässa
DESCRIPTION:Communion Service in swedish – Wednesdays at 18
URL:https://www.immanuel.se/ko/calendar/onsdagsmassa-5/
LOCATION:Kyrksalen
END:VEVENT
BEGIN:VEVENT
DTSTART;TZID=Europe/Stockholm:20250504T110000
DTEND;TZID=Europe/Stockholm:20250504T120000
DTSTAMP:20260420T213338
CREATED:20250523T081320Z
LAST-MODIFIED:20260420T191550Z
UID:10000060-1746356400-1746360000@www.immanuel.se
SUMMARY:Gudstjänst - på svenska
DESCRIPTION:Den gode herden\nPredikan: Marco Helles\nMusik: Björn Gäfvert\nKyrkkaffe serveras\, barnkyrkan är inställd denna söndag\nVälkommen!
URL:https://www.immanuel.se/ko/calendar/gudstjanst-pa-svenska-2/
LOCATION:Kyrksalen
END:VEVENT
BEGIN:VEVENT
DTSTART;TZID=Europe/Stockholm:20250430T180000
DTEND;TZID=Europe/Stockholm:20250430T184000
DTSTAMP:20260420T213338
CREATED:20250523T081319Z
LAST-MODIFIED:20260420T191550Z
UID:10000059-1746036000-1746038400@www.immanuel.se
SUMMARY:Onsdagsmässa - Inställd pga valborgsmässoafton
DESCRIPTION:Communion Service in swedish – Wednesdays at 18
URL:https://www.immanuel.se/ko/calendar/onsdagsmassa-installd-pga-valborgsmassoafton-2/
LOCATION:Kyrksalen
END:VEVENT
BEGIN:VEVENT
DTSTART;TZID=Europe/Stockholm:20250413T110000
DTEND;TZID=Europe/Stockholm:20250413T120000
DTSTAMP:20260420T213338
CREATED:20250523T081319Z
LAST-MODIFIED:20260420T191550Z
UID:10000058-1744542000-1744545600@www.immanuel.se
SUMMARY:Gemensam Gudstjänst / Joint Service
DESCRIPTION:Predikan Carin Dernulf\, Musik: Martin Åsander\, Fredrik Jonsson\, Rebecka Gustafsson\, Björn Gäfvert\, Lowe Jonsson\, Samuel Edenvik\, Min Han
URL:https://www.immanuel.se/ko/calendar/gemensam-gudstjanst-joint-service-2/
LOCATION:Kyrksalen
END:VEVENT
BEGIN:VEVENT
DTSTART;TZID=Europe/Stockholm:20250409T180000
DTEND;TZID=Europe/Stockholm:20250409T184000
DTSTAMP:20260420T213338
CREATED:20250410T081326Z
LAST-MODIFIED:20260420T191550Z
UID:10000028-1744221600-1744224000@www.immanuel.se
SUMMARY:Onsdagsmässa
DESCRIPTION:Communion Service in swedish – Wednesdays at 18
URL:https://www.immanuel.se/ko/calendar/test-m-eng-2/
LOCATION:Kyrksalen
END:VEVENT
END:VCALENDAR