BEGIN:VCALENDAR
VERSION:2.0
PRODID:-//Immanuelskyrkan - ECPv6.15.20//NONSGML v1.0//EN
CALSCALE:GREGORIAN
METHOD:PUBLISH
X-WR-CALNAME:Immanuelskyrkan
X-ORIGINAL-URL:https://www.immanuel.se/ko
X-WR-CALDESC:Events for Immanuelskyrkan
REFRESH-INTERVAL;VALUE=DURATION:PT1H
X-Robots-Tag:noindex
X-PUBLISHED-TTL:PT1H
BEGIN:VTIMEZONE
TZID:Europe/Stockholm
BEGIN:DAYLIGHT
TZOFFSETFROM:+0100
TZOFFSETTO:+0200
TZNAME:CEST
DTSTART:20240331T010000
END:DAYLIGHT
BEGIN:STANDARD
TZOFFSETFROM:+0200
TZOFFSETTO:+0100
TZNAME:CET
DTSTART:20241027T010000
END:STANDARD
BEGIN:DAYLIGHT
TZOFFSETFROM:+0100
TZOFFSETTO:+0200
TZNAME:CEST
DTSTART:20250330T010000
END:DAYLIGHT
BEGIN:STANDARD
TZOFFSETFROM:+0200
TZOFFSETTO:+0100
TZNAME:CET
DTSTART:20251026T010000
END:STANDARD
BEGIN:DAYLIGHT
TZOFFSETFROM:+0100
TZOFFSETTO:+0200
TZNAME:CEST
DTSTART:20260329T010000
END:DAYLIGHT
BEGIN:STANDARD
TZOFFSETFROM:+0200
TZOFFSETTO:+0100
TZNAME:CET
DTSTART:20261025T010000
END:STANDARD
END:VTIMEZONE
BEGIN:VEVENT
DTSTART;TZID=Europe/Stockholm:20251207T093000
DTEND;TZID=Europe/Stockholm:20251207T103000
DTSTAMP:20260420T163057
CREATED:20250813T141535Z
LAST-MODIFIED:20260420T141616Z
UID:10000141-1765099800-1765103400@www.immanuel.se
SUMMARY:Breakfast in Community
DESCRIPTION:
URL:https://www.immanuel.se/ko/calendar/julkonsert-immanuel-gospel-2/
LOCATION:Kyrkplan
CATEGORIES:Care and Diaconal
END:VEVENT
BEGIN:VEVENT
DTSTART;TZID=Europe/Stockholm:20251207T110000
DTEND;TZID=Europe/Stockholm:20251207T120000
DTSTAMP:20260420T163057
CREATED:20250901T080325Z
LAST-MODIFIED:20260420T141616Z
UID:10000189-1765105200-1765108800@www.immanuel.se
SUMMARY:Service in Swedish
DESCRIPTION:Sunday\, December 7\, Second Sunday of Advent\, at 11:00 a.m.\nWorship Service in Swedish\nTheme: The Kingdom of God Is Near\nSermon: Charlotte Höglund\nMusic: Advent Choir\, Åsa Bosdotter\nChildren’s Church is open\, and church coffee will be served.
URL:https://www.immanuel.se/ko/calendar/congregational-meeting/
LOCATION:Kyrksalen
CATEGORIES:Sunday Service,Swedish Fellowship
END:VEVENT
BEGIN:VEVENT
DTSTART;TZID=Europe/Stockholm:20251207T133000
DTEND;TZID=Europe/Stockholm:20251207T150000
DTSTAMP:20260420T163057
CREATED:20251002T151544Z
LAST-MODIFIED:20260420T141616Z
UID:10000224-1765114200-1765119600@www.immanuel.se
SUMMARY:Congregational meeting
DESCRIPTION:
URL:https://www.immanuel.se/ko/calendar/hotel-birger-jarls-julkonsert/
LOCATION:Congressen
CATEGORIES:International Fellowship,Korean Fellowship,Swedish Fellowship
END:VEVENT
END:VCALENDAR