BEGIN:VCALENDAR
VERSION:2.0
PRODID:-//Immanuel Church - ECPv6.15.20//NONSGML v1.0//EN
CALSCALE:GREGORIAN
METHOD:PUBLISH
X-ORIGINAL-URL:https://www.immanuel.se/en
X-WR-CALDESC:Events for Immanuel Church
REFRESH-INTERVAL;VALUE=DURATION:PT1H
X-Robots-Tag:noindex
X-PUBLISHED-TTL:PT1H
BEGIN:VTIMEZONE
TZID:Europe/Stockholm
BEGIN:DAYLIGHT
TZOFFSETFROM:+0100
TZOFFSETTO:+0200
TZNAME:CEST
DTSTART:20250330T010000
END:DAYLIGHT
BEGIN:STANDARD
TZOFFSETFROM:+0200
TZOFFSETTO:+0100
TZNAME:CET
DTSTART:20251026T010000
END:STANDARD
BEGIN:DAYLIGHT
TZOFFSETFROM:+0100
TZOFFSETTO:+0200
TZNAME:CEST
DTSTART:20260329T010000
END:DAYLIGHT
BEGIN:STANDARD
TZOFFSETFROM:+0200
TZOFFSETTO:+0100
TZNAME:CET
DTSTART:20261025T010000
END:STANDARD
BEGIN:DAYLIGHT
TZOFFSETFROM:+0100
TZOFFSETTO:+0200
TZNAME:CEST
DTSTART:20270328T010000
END:DAYLIGHT
BEGIN:STANDARD
TZOFFSETFROM:+0200
TZOFFSETTO:+0100
TZNAME:CET
DTSTART:20271031T010000
END:STANDARD
END:VTIMEZONE
BEGIN:VEVENT
DTSTART;TZID=Europe/Stockholm:20261206T110000
DTEND;TZID=Europe/Stockholm:20261206T120000
DTSTAMP:20260422T041242
CREATED:20260327T102142Z
LAST-MODIFIED:20260327T113017Z
UID:24278-1796554800-1796558400@www.immanuel.se
SUMMARY:Worship in Korean
DESCRIPTION:
URL:https://www.immanuel.se/en/calendar/worship-in-korean/2026-12-06/
LOCATION:Waldenströmssalen
CATEGORIES:Korean
END:VEVENT
BEGIN:VEVENT
DTSTART;TZID=Europe/Stockholm:20261206T110000
DTEND;TZID=Europe/Stockholm:20261206T123000
DTSTAMP:20260422T041242
CREATED:20251218T134953Z
LAST-MODIFIED:20260327T105636Z
UID:21185-1796554800-1796560200@www.immanuel.se
SUMMARY:Worship in English
DESCRIPTION:
URL:https://www.immanuel.se/en/calendar/worship-in-english-19/2026-12-06/
CATEGORIES:English,Services
END:VEVENT
BEGIN:VEVENT
DTSTART;TZID=Europe/Stockholm:20261206T131500
DTEND;TZID=Europe/Stockholm:20261206T150000
DTSTAMP:20260422T041242
CREATED:20260325T101659Z
LAST-MODIFIED:20260331T081450Z
UID:23943-1796562900-1796569200@www.immanuel.se
SUMMARY:Congregational meeting
DESCRIPTION:
URL:https://www.immanuel.se/en/calendar/congregational-meeting-25/
LOCATION:Congressen
END:VEVENT
END:VCALENDAR