BEGIN:VCALENDAR
VERSION:2.0
PRODID:-//Immanuel Church - ECPv6.15.20//NONSGML v1.0//EN
CALSCALE:GREGORIAN
METHOD:PUBLISH
X-WR-CALNAME:Immanuel Church
X-ORIGINAL-URL:https://www.immanuel.se/en
X-WR-CALDESC:Events for Immanuel Church
REFRESH-INTERVAL;VALUE=DURATION:PT1H
X-Robots-Tag:noindex
X-PUBLISHED-TTL:PT1H
BEGIN:VTIMEZONE
TZID:Europe/Stockholm
BEGIN:DAYLIGHT
TZOFFSETFROM:+0100
TZOFFSETTO:+0200
TZNAME:CEST
DTSTART:20250330T010000
END:DAYLIGHT
BEGIN:STANDARD
TZOFFSETFROM:+0200
TZOFFSETTO:+0100
TZNAME:CET
DTSTART:20251026T010000
END:STANDARD
BEGIN:DAYLIGHT
TZOFFSETFROM:+0100
TZOFFSETTO:+0200
TZNAME:CEST
DTSTART:20260329T010000
END:DAYLIGHT
BEGIN:STANDARD
TZOFFSETFROM:+0200
TZOFFSETTO:+0100
TZNAME:CET
DTSTART:20261025T010000
END:STANDARD
BEGIN:DAYLIGHT
TZOFFSETFROM:+0100
TZOFFSETTO:+0200
TZNAME:CEST
DTSTART:20270328T010000
END:DAYLIGHT
BEGIN:STANDARD
TZOFFSETFROM:+0200
TZOFFSETTO:+0100
TZNAME:CET
DTSTART:20271031T010000
END:STANDARD
END:VTIMEZONE
BEGIN:VEVENT
DTSTART;TZID=Europe/Stockholm:20260420T130000
DTEND;TZID=Europe/Stockholm:20260420T153000
DTSTAMP:20260420T104503
CREATED:20260205T131626Z
LAST-MODIFIED:20260331T081444Z
UID:22557-1776690000-1776699000@www.immanuel.se
SUMMARY:Knitting café
DESCRIPTION:
URL:https://www.immanuel.se/en/calendar/knitting-cafe-7/
LOCATION:Kyrkplan
END:VEVENT
BEGIN:VEVENT
DTSTART;TZID=Europe/Stockholm:20260421T153000
DTEND;TZID=Europe/Stockholm:20260421T183000
DTSTAMP:20260420T104503
CREATED:20260105T131628Z
LAST-MODIFIED:20260331T081444Z
UID:21749-1776785400-1776796200@www.immanuel.se
SUMMARY:HQ - 0-9 år
DESCRIPTION:Holy Quarters\nVälkommen till HQ – Holy Quarters\, vår öppna efter-skola-verksamhet på Källarplan 3 i Immanuelskyrkan.\nHär finns plats för lek\, skapande\, musik\, sport\, mellis\, läxhjälp och gemenskap – mitt i stan\, mitt i veckan.\nAllt är gratis och ingen anmälan krävs. Kom som du är! \nEn trygg och lekfull eftermiddag med idrott\, pyssel\, musik\, mellis och mys. Perfekt för små upptäckare och deras föräldrar.
URL:https://www.immanuel.se/en/calendar/hq-0-9-ar-15/
LOCATION:K3
END:VEVENT
BEGIN:VEVENT
DTSTART;TZID=Europe/Stockholm:20260421T190000
DTEND;TZID=Europe/Stockholm:20260421T210000
DTSTAMP:20260420T104503
CREATED:20251218T131738Z
LAST-MODIFIED:20260106T082751Z
UID:21125-1776798000-1776805200@www.immanuel.se
SUMMARY:Young Adults Bible Study
DESCRIPTION:You are welcome to join the Young Adults group.\nWe are a group of students and young professionals\ncoming from all over the world with 3 desires: know more about Jesus\,\nbecome daily passionate followers of Christ and build a christian fellowship.\nOnce a week\, we have discussions around the Bible. \nClick here to read more.
URL:https://www.immanuel.se/en/calendar/young-adults-bible-study-3-2026-01-13/2026-04-21/
END:VEVENT
BEGIN:VEVENT
DTSTART;TZID=Europe/Stockholm:20260422T153000
DTEND;TZID=Europe/Stockholm:20260422T183000
DTSTAMP:20260420T104503
CREATED:20260105T131628Z
LAST-MODIFIED:20260331T081444Z
UID:21751-1776871800-1776882600@www.immanuel.se
SUMMARY:HQ - 13-18 år
DESCRIPTION:Holy Quarters\nVälkommen till HQ – Holy Quarters\, vår öppna efter-skola-verksamhet på Källarplan 3 i Immanuelskyrkan.\nHär finns plats för lek\, skapande\, musik\, sport\, mellis\, läxhjälp och gemenskap – mitt i stan\, mitt i veckan.\nAllt är gratis och ingen anmälan krävs. Kom som du är! \nEtt avslappnat häng med musik\, sport\, skapande\, mellis och pluggmöjligheter – där du får vara dig själv\, träffa nya vänner och hitta din plats.
URL:https://www.immanuel.se/en/calendar/hq-13-18-ar-15/
LOCATION:K3
END:VEVENT
BEGIN:VEVENT
DTSTART;TZID=Europe/Stockholm:20260422T180000
DTEND;TZID=Europe/Stockholm:20260422T190000
DTSTAMP:20260420T104503
CREATED:20260205T091624Z
LAST-MODIFIED:20260331T081444Z
UID:22523-1776880800-1776884400@www.immanuel.se
SUMMARY:Onsdagsmässan
DESCRIPTION:
URL:https://www.immanuel.se/en/calendar/onsdagsmassan-29/
LOCATION:Kapellet
CATEGORIES:Swedish at 11
END:VEVENT
BEGIN:VEVENT
DTSTART;TZID=Europe/Stockholm:20260422T183000
DTEND;TZID=Europe/Stockholm:20260422T210000
DTSTAMP:20260420T104503
CREATED:20260325T141640Z
LAST-MODIFIED:20260331T081444Z
UID:23947-1776882600-1776891600@www.immanuel.se
SUMMARY:3 x Democracy
DESCRIPTION:More information to come…\nThis program are held in Swedish.
URL:https://www.immanuel.se/en/calendar/3-x-democracy/
LOCATION:Kyrksalen
END:VEVENT
BEGIN:VEVENT
DTSTART;TZID=Europe/Stockholm:20260423T094500
DTEND;TZID=Europe/Stockholm:20260423T120000
DTSTAMP:20260420T104503
CREATED:20251218T161636Z
LAST-MODIFIED:20251218T161636Z
UID:21210-1776937500-1776945600@www.immanuel.se
SUMMARY:Women's Bible Studay
DESCRIPTION:Women’s Bible Study Group\nThursday mornings • 09.45 -11.45 • Youth Room Level K1\n\nAny women longing for fellowship with other women through the studying of God’s word.\nIf you have any questions\, please contact Rosemary:
URL:https://www.immanuel.se/en/calendar/womens-bible-studay/2026-04-23/
END:VEVENT
BEGIN:VEVENT
DTSTART;TZID=Europe/Stockholm:20260423T121500
DTEND;TZID=Europe/Stockholm:20260423T131500
DTSTAMP:20260420T104503
CREATED:20251218T161955Z
LAST-MODIFIED:20251218T162021Z
UID:21234-1776946500-1776950100@www.immanuel.se
SUMMARY:Moms In Prayer
DESCRIPTION:Thursday Afternoons\nWelcome to Moms in Prayer\, a prayer ministry that brings moms together once a week for one hour to pray for their children and schools. If you find yourself in a similar place\, if you are a mom\, you are more than welcome to join us! \nWe meet Thursday afternoons at 12.15 at Immanuel Church in the Youth Room on level K1. If you would like to join us\, please fill out the form below. If you would like to know more about the Moms in Prayer you can read more about Moms in Prayer visit their website.
URL:https://www.immanuel.se/en/calendar/moms-in-prayer-4/2026-04-23/
END:VEVENT
BEGIN:VEVENT
DTSTART;TZID=Europe/Stockholm:20260423T153000
DTEND;TZID=Europe/Stockholm:20260423T183000
DTSTAMP:20260420T104503
CREATED:20260105T131628Z
LAST-MODIFIED:20260331T081444Z
UID:21753-1776958200-1776969000@www.immanuel.se
SUMMARY:HQ - 10-12 år
DESCRIPTION:Holy Quarters\nVälkommen till HQ – Holy Quarters\, vår öppna efter-skola-verksamhet på Källarplan 3 i Immanuelskyrkan.\nHär finns plats för lek\, skapande\, musik\, sport\, mellis\, läxhjälp och gemenskap – mitt i stan\, mitt i veckan.\nAllt är gratis och ingen anmälan krävs. Kom som du är! \nEn kreativ och aktiv plats efter skolan med sport\, skapande\, musikrum\, mellis och läxhjälp – för dig som vill hänga med kompisar och testa nya saker.
URL:https://www.immanuel.se/en/calendar/hq-10-12-ar-16/
LOCATION:K3
END:VEVENT
BEGIN:VEVENT
DTSTART;TZID=Europe/Stockholm:20260423T183000
DTEND;TZID=Europe/Stockholm:20260423T210000
DTSTAMP:20260420T104503
CREATED:20251218T162538Z
LAST-MODIFIED:20251218T162538Z
UID:21280-1776969000-1776978000@www.immanuel.se
SUMMARY:Evening Bible Study
DESCRIPTION:Thursday evening Bible Study\nis in English and in the Youth Room on level K1 \nThe meeting starts from 18.30 for a light meal and 19.30 for the study. \nStudy is on Sermon on the Mount\nAll are welcome! \nPlease let Hugh know if you intend to come\, partly to know how much food is needed and also so that he can let you have a door code to be used if the main door is locked.
URL:https://www.immanuel.se/en/calendar/evening-bible-study-3/2026-04-23/
END:VEVENT
BEGIN:VEVENT
DTSTART;TZID=Europe/Stockholm:20260424T183000
DTEND;TZID=Europe/Stockholm:20260424T220000
DTSTAMP:20260420T104503
CREATED:20260309T131636Z
LAST-MODIFIED:20260331T081444Z
UID:23460-1777055400-1777068000@www.immanuel.se
SUMMARY:FREDA
DESCRIPTION:FREDA är en tonårskväll för dig som är 13 år och uppåt. Vi träffas varje fredag kl 18.30–22.00. Vi börjar kvällen med fika som följs av aktiviteter och andakt. Se schemat här: https://www.immanuel.se/freda/
URL:https://www.immanuel.se/en/calendar/freda-31/
END:VEVENT
BEGIN:VEVENT
DTSTART;TZID=Europe/Stockholm:20260426T101500
DTEND;TZID=Europe/Stockholm:20260426T105000
DTSTAMP:20260420T104503
CREATED:20260105T101620Z
LAST-MODIFIED:20260331T081445Z
UID:21647-1777198500-1777200600@www.immanuel.se
SUMMARY:Kör-lek
DESCRIPTION:Välkommen att lära känna fler barnfamiljer i Immanuelskyrkan! Vi sjunger\, leker och har trevligt tillsammans. Kl. 10.50 bjuds på frukt\, och därefter finns möjlighet att gå vidare till någon av församlingens tre gudstjänster.
URL:https://www.immanuel.se/en/calendar/kor-lek-17/
LOCATION:Kapellet
END:VEVENT
BEGIN:VEVENT
DTSTART;TZID=Europe/Stockholm:20260426T110000
DTEND;TZID=Europe/Stockholm:20260426T120000
DTSTAMP:20260420T104503
CREATED:20251230T224552Z
LAST-MODIFIED:20260331T081444Z
UID:21525-1777201200-1777204800@www.immanuel.se
SUMMARY:Worship in Swedish
DESCRIPTION:Söndag 26 april kl 11 Gemensam gudstjänst\nTema:\nPredikan: Carin Dernulf\nMusik: Martin Åsander\nBarnkyrkan är öppen\, Kyrkkaffe serveras
URL:https://www.immanuel.se/en/calendar/worship-in-swedish-17/
LOCATION:Kyrksalen
CATEGORIES:Swedish at 11
END:VEVENT
BEGIN:VEVENT
DTSTART;TZID=Europe/Stockholm:20260426T110000
DTEND;TZID=Europe/Stockholm:20260426T120000
DTSTAMP:20260420T104503
CREATED:20260327T102142Z
LAST-MODIFIED:20260327T113446Z
UID:24245-1777201200-1777204800@www.immanuel.se
SUMMARY:Worship in Korean
DESCRIPTION:
URL:https://www.immanuel.se/en/calendar/worship-in-korean/2026-04-26/
LOCATION:Waldenströmssalen
CATEGORIES:Korean
END:VEVENT
BEGIN:VEVENT
DTSTART;TZID=Europe/Stockholm:20260426T130000
DTEND;TZID=Europe/Stockholm:20260426T160000
DTSTAMP:20260420T104503
CREATED:20251230T224552Z
LAST-MODIFIED:20260331T081445Z
UID:21527-1777208400-1777219200@www.immanuel.se
SUMMARY:Annual Meeting
DESCRIPTION:
URL:https://www.immanuel.se/en/calendar/annual-meeting-4/
LOCATION:Congressen
END:VEVENT
END:VCALENDAR