BEGIN:VCALENDAR
VERSION:2.0
PRODID:-//Immanuel Church - ECPv6.15.20//NONSGML v1.0//EN
CALSCALE:GREGORIAN
METHOD:PUBLISH
X-WR-CALNAME:Immanuel Church
X-ORIGINAL-URL:https://www.immanuel.se/en
X-WR-CALDESC:Events for Immanuel Church
REFRESH-INTERVAL;VALUE=DURATION:PT1H
X-Robots-Tag:noindex
X-PUBLISHED-TTL:PT1H
BEGIN:VTIMEZONE
TZID:Europe/Stockholm
BEGIN:DAYLIGHT
TZOFFSETFROM:+0100
TZOFFSETTO:+0200
TZNAME:CEST
DTSTART:20250330T010000
END:DAYLIGHT
BEGIN:STANDARD
TZOFFSETFROM:+0200
TZOFFSETTO:+0100
TZNAME:CET
DTSTART:20251026T010000
END:STANDARD
BEGIN:DAYLIGHT
TZOFFSETFROM:+0100
TZOFFSETTO:+0200
TZNAME:CEST
DTSTART:20260329T010000
END:DAYLIGHT
BEGIN:STANDARD
TZOFFSETFROM:+0200
TZOFFSETTO:+0100
TZNAME:CET
DTSTART:20261025T010000
END:STANDARD
BEGIN:DAYLIGHT
TZOFFSETFROM:+0100
TZOFFSETTO:+0200
TZNAME:CEST
DTSTART:20270328T010000
END:DAYLIGHT
BEGIN:STANDARD
TZOFFSETFROM:+0200
TZOFFSETTO:+0100
TZNAME:CET
DTSTART:20271031T010000
END:STANDARD
END:VTIMEZONE
BEGIN:VEVENT
DTSTART;TZID=Europe/Stockholm:20260223T120000
DTEND;TZID=Europe/Stockholm:20260223T130000
DTSTAMP:20260425T145909
CREATED:20260112T111619Z
LAST-MODIFIED:20260425T121646Z
UID:10006508-1771848000-1771851600@www.immanuel.se
SUMMARY:Lunch concert
DESCRIPTION:“Romantiska pärlor för piano”\nBengt Eklund\, piano
URL:https://www.immanuel.se/en/calendar/lunch-concert-18/
LOCATION:Kyrksalen
END:VEVENT
BEGIN:VEVENT
DTSTART;TZID=Europe/Stockholm:20260223T130000
DTEND;TZID=Europe/Stockholm:20260223T153000
DTSTAMP:20260425T145909
CREATED:20260205T131622Z
LAST-MODIFIED:20260425T121646Z
UID:10006539-1771851600-1771860600@www.immanuel.se
SUMMARY:Knitting café
DESCRIPTION:
URL:https://www.immanuel.se/en/calendar/knitting-cafe-4/
LOCATION:Kyrkplan
END:VEVENT
BEGIN:VEVENT
DTSTART;TZID=Europe/Stockholm:20260224T153000
DTEND;TZID=Europe/Stockholm:20260224T183000
DTSTAMP:20260425T145909
CREATED:20260105T131623Z
LAST-MODIFIED:20260425T121646Z
UID:10006457-1771947000-1771957800@www.immanuel.se
SUMMARY:HQ - 0-9 år
DESCRIPTION:Holy Quarters\nVälkommen till HQ – Holy Quarters\, vår öppna efter-skola-verksamhet på Källarplan 3 i Immanuelskyrkan.\nHär finns plats för lek\, skapande\, musik\, sport\, mellis\, läxhjälp och gemenskap – mitt i stan\, mitt i veckan.\nAllt är gratis och ingen anmälan krävs. Kom som du är! \nEn trygg och lekfull eftermiddag med idrott\, pyssel\, musik\, mellis och mys. Perfekt för små upptäckare och deras föräldrar.
URL:https://www.immanuel.se/en/calendar/hq-0-9-ar-7/
LOCATION:K3
END:VEVENT
BEGIN:VEVENT
DTSTART;TZID=Europe/Stockholm:20260224T190000
DTEND;TZID=Europe/Stockholm:20260224T210000
DTSTAMP:20260425T145909
CREATED:20251218T131738Z
LAST-MODIFIED:20260106T082750Z
UID:10006234-1771959600-1771966800@www.immanuel.se
SUMMARY:Young Adults Bible Study
DESCRIPTION:You are welcome to join the Young Adults group.\nWe are a group of students and young professionals\ncoming from all over the world with 3 desires: know more about Jesus\,\nbecome daily passionate followers of Christ and build a christian fellowship.\nOnce a week\, we have discussions around the Bible. \nClick here to read more.
URL:https://www.immanuel.se/en/calendar/young-adults-bible-study-3-2026-01-13/2026-02-24/
END:VEVENT
BEGIN:VEVENT
DTSTART;TZID=Europe/Stockholm:20260225T153000
DTEND;TZID=Europe/Stockholm:20260225T183000
DTSTAMP:20260425T145909
CREATED:20260105T131623Z
LAST-MODIFIED:20260425T121646Z
UID:10006458-1772033400-1772044200@www.immanuel.se
SUMMARY:HQ - 13-18 år
DESCRIPTION:Holy Quarters\nVälkommen till HQ – Holy Quarters\, vår öppna efter-skola-verksamhet på Källarplan 3 i Immanuelskyrkan.\nHär finns plats för lek\, skapande\, musik\, sport\, mellis\, läxhjälp och gemenskap – mitt i stan\, mitt i veckan.\nAllt är gratis och ingen anmälan krävs. Kom som du är! \nEtt avslappnat häng med musik\, sport\, skapande\, mellis och pluggmöjligheter – där du får vara dig själv\, träffa nya vänner och hitta din plats.
URL:https://www.immanuel.se/en/calendar/hq-13-18-ar-7/
LOCATION:K3
END:VEVENT
BEGIN:VEVENT
DTSTART;TZID=Europe/Stockholm:20260225T180000
DTEND;TZID=Europe/Stockholm:20260225T190000
DTSTAMP:20260425T145909
CREATED:20251230T224550Z
LAST-MODIFIED:20260425T121646Z
UID:10006394-1772042400-1772046000@www.immanuel.se
SUMMARY:Onsdagsmässan
DESCRIPTION:
URL:https://www.immanuel.se/en/calendar/onsdagsmassan-22/
LOCATION:Kapellet
END:VEVENT
BEGIN:VEVENT
DTSTART;TZID=Europe/Stockholm:20260225T190000
DTEND;TZID=Europe/Stockholm:20260225T210000
DTSTAMP:20260425T145909
CREATED:20251230T224550Z
LAST-MODIFIED:20260425T121646Z
UID:10006395-1772046000-1772053200@www.immanuel.se
SUMMARY:After Worship
DESCRIPTION:Existens
URL:https://www.immanuel.se/en/calendar/after-worship-12/
LOCATION:K3
END:VEVENT
BEGIN:VEVENT
DTSTART;TZID=Europe/Stockholm:20260226T153000
DTEND;TZID=Europe/Stockholm:20260226T183000
DTSTAMP:20260425T145909
CREATED:20260105T131624Z
LAST-MODIFIED:20260425T121646Z
UID:10006459-1772119800-1772130600@www.immanuel.se
SUMMARY:HQ - 10-12 år
DESCRIPTION:Holy Quarters\nVälkommen till HQ – Holy Quarters\, vår öppna efter-skola-verksamhet på Källarplan 3 i Immanuelskyrkan.\nHär finns plats för lek\, skapande\, musik\, sport\, mellis\, läxhjälp och gemenskap – mitt i stan\, mitt i veckan.\nAllt är gratis och ingen anmälan krävs. Kom som du är! \nEn kreativ och aktiv plats efter skolan med sport\, skapande\, musikrum\, mellis och läxhjälp – för dig som vill hänga med kompisar och testa nya saker.
URL:https://www.immanuel.se/en/calendar/hq-10-12-ar-8/
LOCATION:K3
END:VEVENT
BEGIN:VEVENT
DTSTART;TZID=Europe/Stockholm:20260228T120000
DTEND;TZID=Europe/Stockholm:20260228T140000
DTSTAMP:20260425T145909
CREATED:20260125T151615Z
LAST-MODIFIED:20260425T121646Z
UID:10006517-1772280000-1772287200@www.immanuel.se
SUMMARY:Lunch in Community
DESCRIPTION:
URL:https://www.immanuel.se/en/calendar/lunch-in-community-16/
LOCATION:Kyrkplan
CATEGORIES:Care and Diaconal
END:VEVENT
BEGIN:VEVENT
DTSTART;TZID=Europe/Stockholm:20260301T093000
DTEND;TZID=Europe/Stockholm:20260301T103000
DTSTAMP:20260425T145909
CREATED:20260222T101616Z
LAST-MODIFIED:20260425T121646Z
UID:10006551-1772357400-1772361000@www.immanuel.se
SUMMARY:Breakfast in Community
DESCRIPTION:
URL:https://www.immanuel.se/en/calendar/breakfast-in-community-17/
CATEGORIES:Care and Diaconal
END:VEVENT
BEGIN:VEVENT
DTSTART;TZID=Europe/Stockholm:20260301T101500
DTEND;TZID=Europe/Stockholm:20260301T105000
DTSTAMP:20260425T145909
CREATED:20260105T101616Z
LAST-MODIFIED:20260425T121646Z
UID:10006422-1772360100-1772362200@www.immanuel.se
SUMMARY:Kör-lek
DESCRIPTION:Välkommen att lära känna fler barnfamiljer i Immanuelskyrkan! Vi sjunger\, leker och har trevligt tillsammans. Kl. 10.50 bjuds på frukt\, och därefter finns möjlighet att gå vidare till någon av församlingens tre gudstjänster.
URL:https://www.immanuel.se/en/calendar/kor-lek-9/
LOCATION:Kapellet
END:VEVENT
BEGIN:VEVENT
DTSTART;TZID=Europe/Stockholm:20260301T110000
DTEND;TZID=Europe/Stockholm:20260301T120000
DTSTAMP:20260425T145909
CREATED:20251230T224550Z
LAST-MODIFIED:20260425T121646Z
UID:10006396-1772362800-1772366400@www.immanuel.se
SUMMARY:Worship in Swedish
DESCRIPTION:Söndag 1 mars kl 11 Gudstjänst på svenska\nTema: Den kämpande tron\n2:a sön i fastan\nPredikan: Charlotte Höglund\nMusik: Martin Åsander Björn Gäfvert och Berit Ekespong\nBarnkyrkan är öppen\, Kyrkkaffe serveras
URL:https://www.immanuel.se/en/calendar/worship-in-swedish-9/
LOCATION:Kyrksalen
END:VEVENT
BEGIN:VEVENT
DTSTART;TZID=Europe/Stockholm:20260301T110000
DTEND;TZID=Europe/Stockholm:20260301T123000
DTSTAMP:20260425T145909
CREATED:20251218T134953Z
LAST-MODIFIED:20260224T132153Z
UID:10006294-1772362800-1772368200@www.immanuel.se
SUMMARY:Worship in English
DESCRIPTION:Communion Sunday \nIsaiah 35:1-10\nJohn 6:1-15  \nPastor Hugh Doyle preaching
URL:https://www.immanuel.se/en/calendar/worship-in-english-19-2026-03-01/
CATEGORIES:English,Services
END:VEVENT
END:VCALENDAR