BEGIN:VCALENDAR
VERSION:2.0
PRODID:-//Immanuel Church - ECPv6.15.20//NONSGML v1.0//EN
CALSCALE:GREGORIAN
METHOD:PUBLISH
X-WR-CALNAME:Immanuel Church
X-ORIGINAL-URL:https://www.immanuel.se/en
X-WR-CALDESC:Events for Immanuel Church
REFRESH-INTERVAL;VALUE=DURATION:PT1H
X-Robots-Tag:noindex
X-PUBLISHED-TTL:PT1H
BEGIN:VTIMEZONE
TZID:Europe/Stockholm
BEGIN:DAYLIGHT
TZOFFSETFROM:+0100
TZOFFSETTO:+0200
TZNAME:CEST
DTSTART:20240331T010000
END:DAYLIGHT
BEGIN:STANDARD
TZOFFSETFROM:+0200
TZOFFSETTO:+0100
TZNAME:CET
DTSTART:20241027T010000
END:STANDARD
BEGIN:DAYLIGHT
TZOFFSETFROM:+0100
TZOFFSETTO:+0200
TZNAME:CEST
DTSTART:20250330T010000
END:DAYLIGHT
BEGIN:STANDARD
TZOFFSETFROM:+0200
TZOFFSETTO:+0100
TZNAME:CET
DTSTART:20251026T010000
END:STANDARD
BEGIN:DAYLIGHT
TZOFFSETFROM:+0100
TZOFFSETTO:+0200
TZNAME:CEST
DTSTART:20260329T010000
END:DAYLIGHT
BEGIN:STANDARD
TZOFFSETFROM:+0200
TZOFFSETTO:+0100
TZNAME:CET
DTSTART:20261025T010000
END:STANDARD
END:VTIMEZONE
BEGIN:VEVENT
DTSTART;TZID=Europe/Stockholm:20250331T120000
DTEND;TZID=Europe/Stockholm:20250331T123000
DTSTAMP:20260420T184357
CREATED:20250127T104256Z
LAST-MODIFIED:20250218T121608Z
UID:15635-1743422400-1743424200@www.immanuel.se
SUMMARY:Lunch Concert
DESCRIPTION:
URL:https://www.immanuel.se/en/calendar/lunch-concert-10/2025-03-31/
CATEGORIES:Concerts,Music & Culture
END:VEVENT
BEGIN:VEVENT
DTSTART;TZID=Europe/Stockholm:20250401T190000
DTEND;TZID=Europe/Stockholm:20250401T210000
DTSTAMP:20260420T184357
CREATED:20241210T101933Z
LAST-MODIFIED:20241210T101933Z
UID:14430-1743534000-1743541200@www.immanuel.se
SUMMARY:Young Adults Bible Study
DESCRIPTION:You are welcome to join the Young Adults group. We are a group of students and young professionals coming from all over the world with 3 desires : know more about Jesus\, become daily passionate followers of Christ and build a christian fellowship. Once a week\, we have discussions around the Bible and other community-building events are organized sporadically. Click here to read more. \n 
URL:https://www.immanuel.se/en/calendar/young-adults-bible-study/2025-04-01/
END:VEVENT
BEGIN:VEVENT
DTSTART;TZID=Europe/Stockholm:20250403T120000
DTEND;TZID=Europe/Stockholm:20250403T130000
DTSTAMP:20260420T184357
CREATED:20241210T121708Z
LAST-MODIFIED:20241210T121826Z
UID:14633-1743681600-1743685200@www.immanuel.se
SUMMARY:Moms In Prayer
DESCRIPTION:Thursday Afternoons \nWelcome to Moms in Prayer\, a prayer ministry that brings moms together once a week for one hour to pray for their children and schools. If you find yourself in a similar place\, if you are a mom\, you are more than welcome to join us! \nWe meet Thursday afternoons at 12.00 at Immanuel Church in the Youth Room on level K1. If you would like to join us\, please fill out the form below. If you would like to know more about the Moms in Prayer group fill out the form below. You can read more about Moms in Prayer visit their website.
URL:https://www.immanuel.se/en/calendar/moms-in-prayer-3/2025-04-03/
END:VEVENT
BEGIN:VEVENT
DTSTART;TZID=Europe/Stockholm:20250403T183000
DTEND;TZID=Europe/Stockholm:20250403T210000
DTSTAMP:20260420T184357
CREATED:20241203T115910Z
LAST-MODIFIED:20250319T105023Z
UID:14362-1743705000-1743714000@www.immanuel.se
SUMMARY:Evening Bible Study
DESCRIPTION:Thursday evening Bible Study \nThe meeting starts from 18.30 for a light meal and 19.30 for the study.\nThe course is designed primarily for new and young Christians and all are welcome! \nPlease let Hugh know if you intend to come\, partly to know how much food is needed and also so that he can let you have a door code to be used if the main door is locked.
URL:https://www.immanuel.se/en/calendar/evening-bible-study/2025-04-03/
END:VEVENT
BEGIN:VEVENT
DTSTART;TZID=Europe/Stockholm:20250404T183000
DTEND;TZID=Europe/Stockholm:20250404T220000
DTSTAMP:20260420T184357
CREATED:20250107T092146Z
LAST-MODIFIED:20250107T092146Z
UID:15387-1743791400-1743804000@www.immanuel.se
SUMMARY:FREDA
DESCRIPTION:FREDA is Stockholm’s finest youth event for those who are 13 years and up. We meet every Friday at 18.30–22.00 until December 8. We start the evening with fika followed by activities and devotional service. \nFREDA wants to be a safe place in the middle of town where you as a teenager can meet new friends\, have fun\, hang out and have the opportunity to talk about life and faith.
URL:https://www.immanuel.se/en/calendar/freda-18/2025-04-04/
CATEGORIES:Youth and children
END:VEVENT
BEGIN:VEVENT
DTSTART;TZID=Europe/Stockholm:20250405T160000
DTEND;TZID=Europe/Stockholm:20250405T180000
DTSTAMP:20260420T184357
CREATED:20250226T125013Z
LAST-MODIFIED:20250226T125013Z
UID:15927-1743868800-1743876000@www.immanuel.se
SUMMARY:Release Concert – Songs from Immanuel
DESCRIPTION:Release Concert – Songs from ImmanuelIn this concert\, we experience the full expression of Songs from Immanuel—ranging from choir and solo performances to meditations and improvisations.
URL:https://www.immanuel.se/en/calendar/releasekonsert-sanger-fran-immanuel/
END:VEVENT
BEGIN:VEVENT
DTSTART;TZID=Europe/Stockholm:20250406T110000
DTEND;TZID=Europe/Stockholm:20250406T123000
DTSTAMP:20260420T184357
CREATED:20241203T113215Z
LAST-MODIFIED:20250327T100108Z
UID:14279-1743937200-1743942600@www.immanuel.se
SUMMARY:Worship in English
DESCRIPTION:Giving up for Lent: Trying to be first \nMatthew 20:1-16 \nPastor Hugh Doyle Preaching
URL:https://www.immanuel.se/en/calendar/worship-in-english-18-2025-04-06/
CATEGORIES:English,Services
END:VEVENT
END:VCALENDAR