BEGIN:VCALENDAR
VERSION:2.0
PRODID:-//Immanuel Church - ECPv6.15.20//NONSGML v1.0//EN
CALSCALE:GREGORIAN
METHOD:PUBLISH
X-ORIGINAL-URL:https://www.immanuel.se/en
X-WR-CALDESC:Events for Immanuel Church
REFRESH-INTERVAL;VALUE=DURATION:PT1H
X-Robots-Tag:noindex
X-PUBLISHED-TTL:PT1H
BEGIN:VTIMEZONE
TZID:Europe/Stockholm
BEGIN:DAYLIGHT
TZOFFSETFROM:+0100
TZOFFSETTO:+0200
TZNAME:CEST
DTSTART:20240331T010000
END:DAYLIGHT
BEGIN:STANDARD
TZOFFSETFROM:+0200
TZOFFSETTO:+0100
TZNAME:CET
DTSTART:20241027T010000
END:STANDARD
BEGIN:DAYLIGHT
TZOFFSETFROM:+0100
TZOFFSETTO:+0200
TZNAME:CEST
DTSTART:20250330T010000
END:DAYLIGHT
BEGIN:STANDARD
TZOFFSETFROM:+0200
TZOFFSETTO:+0100
TZNAME:CET
DTSTART:20251026T010000
END:STANDARD
BEGIN:DAYLIGHT
TZOFFSETFROM:+0100
TZOFFSETTO:+0200
TZNAME:CEST
DTSTART:20260329T010000
END:DAYLIGHT
BEGIN:STANDARD
TZOFFSETFROM:+0200
TZOFFSETTO:+0100
TZNAME:CET
DTSTART:20261025T010000
END:STANDARD
END:VTIMEZONE
BEGIN:VEVENT
DTSTART;TZID=Europe/Stockholm:20250228T180000
DTEND;TZID=Europe/Stockholm:20250301T083000
DTSTAMP:20260420T153709
CREATED:20250218T101316Z
LAST-MODIFIED:20250218T101429Z
UID:15846-1740765600-1740817800@www.immanuel.se
SUMMARY:Lock-In 2025
DESCRIPTION:Looking  for a great time during sportlov?\nJoin us on Friday\, 28 February at 18.00 \nin the Church Square at Immanuel Church.\nIt will be a night filled with friendship\, fun\, fellowship\, food\, and so much more! \nCost: 100 kr per person / Swish: 1231849843\nin the message write Lock In 2025 (dinner\, breakfast and snacks included).\nYou can pay by scanning the QR code below. \nWhat to bring: Tooth brush\, sleeping bag/pillow\, gym clothes\, water bottle\, and a lot of energy! \nEnds: 8.30 Saturday morning Register no later than Sunday\, 23 February \nContact: Geri at geri.lindberg@immanuelskyrkan.se
URL:https://www.immanuel.se/en/calendar/lock-in-2025/
END:VEVENT
BEGIN:VEVENT
DTSTART;TZID=Europe/Stockholm:20250301T120000
DTEND;TZID=Europe/Stockholm:20250301T140000
DTSTAMP:20260420T153709
CREATED:20250115T115742Z
LAST-MODIFIED:20260326T133429Z
UID:15504-1740830400-1740837600@www.immanuel.se
SUMMARY:Community Lunch
DESCRIPTION:Community Lunch\nA meeting place on Saturdays where a free lunch is served. \nLunch is served 12.00 – 14.00\, the premises close at 15.00. \nLunch i Gemenskap is a cooperation between Ny Gemenskap and different inner city churches (Immanuel Church\, S:t Matteus församling\, Frälsningsarmén\, Filadelfiakyrkan\, Adolf Fredriks musikklasser Maria Magdalena församling) Norrmalmskyrkan\, Hela människan Sthlms län. \nCommunity Lunch_Spring 2025Download
URL:https://www.immanuel.se/en/calendar/lunch-in-community-8/
CATEGORIES:Care and Diaconal
END:VEVENT
BEGIN:VEVENT
DTSTART;TZID=Europe/Stockholm:20250302T093000
DTEND;TZID=Europe/Stockholm:20250302T103000
DTSTAMP:20260420T153709
CREATED:20250228T075726Z
LAST-MODIFIED:20250228T080316Z
UID:16021-1740907800-1740911400@www.immanuel.se
SUMMARY:Breakfast in Community
DESCRIPTION:You are warmly invited to join us for breakfast in Community at Immanuel Church\, in connection with our Sunday service at 11.00. Breakfast is served from 9:30  to 10:30 and is open to everyone\, completely free of charge.
URL:https://www.immanuel.se/en/calendar/breakfast-in-community-7/
END:VEVENT
BEGIN:VEVENT
DTSTART;TZID=Europe/Stockholm:20250302T110000
DTEND;TZID=Europe/Stockholm:20250302T123000
DTSTAMP:20260420T153709
CREATED:20241203T113215Z
LAST-MODIFIED:20250225T214459Z
UID:14273-1740913200-1740918600@www.immanuel.se
SUMMARY:Worship in English
DESCRIPTION:How to listen in the kingdom\nMark 10:35-45 & 1 Corinthians 1:18-25\nDr Joseph Sverker preaching
URL:https://www.immanuel.se/en/calendar/worship-in-english-18-2025-03-02/
CATEGORIES:English,Services
END:VEVENT
BEGIN:VEVENT
DTSTART;TZID=Europe/Stockholm:20250303T120000
DTEND;TZID=Europe/Stockholm:20250303T123000
DTSTAMP:20260420T153709
CREATED:20250127T104256Z
LAST-MODIFIED:20250218T121607Z
UID:15631-1741003200-1741005000@www.immanuel.se
SUMMARY:Lunch Concert
DESCRIPTION:
URL:https://www.immanuel.se/en/calendar/lunch-concert-10/2025-03-03/
CATEGORIES:Concerts,Music & Culture
END:VEVENT
BEGIN:VEVENT
DTSTART;TZID=Europe/Stockholm:20250304T190000
DTEND;TZID=Europe/Stockholm:20250304T210000
DTSTAMP:20260420T153709
CREATED:20241210T101933Z
LAST-MODIFIED:20241210T101933Z
UID:14426-1741114800-1741122000@www.immanuel.se
SUMMARY:Young Adults Bible Study
DESCRIPTION:You are welcome to join the Young Adults group. We are a group of students and young professionals coming from all over the world with 3 desires : know more about Jesus\, become daily passionate followers of Christ and build a christian fellowship. Once a week\, we have discussions around the Bible and other community-building events are organized sporadically. Click here to read more. \n 
URL:https://www.immanuel.se/en/calendar/young-adults-bible-study/2025-03-04/
END:VEVENT
BEGIN:VEVENT
DTSTART;TZID=Europe/Stockholm:20250306T120000
DTEND;TZID=Europe/Stockholm:20250306T130000
DTSTAMP:20260420T153709
CREATED:20241210T121708Z
LAST-MODIFIED:20241210T121824Z
UID:14628-1741262400-1741266000@www.immanuel.se
SUMMARY:Moms In Prayer
DESCRIPTION:Thursday Afternoons \nWelcome to Moms in Prayer\, a prayer ministry that brings moms together once a week for one hour to pray for their children and schools. If you find yourself in a similar place\, if you are a mom\, you are more than welcome to join us! \nWe meet Thursday afternoons at 12.00 at Immanuel Church in the Youth Room on level K1. If you would like to join us\, please fill out the form below. If you would like to know more about the Moms in Prayer group fill out the form below. You can read more about Moms in Prayer visit their website.
URL:https://www.immanuel.se/en/calendar/moms-in-prayer-3/2025-03-06/
END:VEVENT
BEGIN:VEVENT
DTSTART;TZID=Europe/Stockholm:20250306T183000
DTEND;TZID=Europe/Stockholm:20250306T210000
DTSTAMP:20260420T153709
CREATED:20241203T115910Z
LAST-MODIFIED:20250227T143022Z
UID:14357-1741285800-1741294800@www.immanuel.se
SUMMARY:NO Evening Bible Study
DESCRIPTION:Thursday evening Bible Study \nThere will be no Thursday evening Bible study TODAY.
URL:https://www.immanuel.se/en/calendar/evening-bible-study-2025-03-06/
END:VEVENT
BEGIN:VEVENT
DTSTART;TZID=Europe/Stockholm:20250306T190000
DTEND;TZID=Europe/Stockholm:20250306T200000
DTSTAMP:20260420T153709
CREATED:20250107T101216Z
LAST-MODIFIED:20250107T101216Z
UID:15394-1741287600-1741291200@www.immanuel.se
SUMMARY:Korean prayer meeting
DESCRIPTION:We meet in Waldenströmssalen. \nWelcome!
URL:https://www.immanuel.se/en/calendar/korean-prayer-meeting/
CATEGORIES:Devotions,Korean
END:VEVENT
BEGIN:VEVENT
DTSTART;TZID=Europe/Stockholm:20250307T183000
DTEND;TZID=Europe/Stockholm:20250307T220000
DTSTAMP:20260420T153709
CREATED:20250107T092146Z
LAST-MODIFIED:20250107T092146Z
UID:15382-1741372200-1741384800@www.immanuel.se
SUMMARY:FREDA
DESCRIPTION:FREDA is Stockholm’s finest youth event for those who are 13 years and up. We meet every Friday at 18.30–22.00 until December 8. We start the evening with fika followed by activities and devotional service. \nFREDA wants to be a safe place in the middle of town where you as a teenager can meet new friends\, have fun\, hang out and have the opportunity to talk about life and faith.
URL:https://www.immanuel.se/en/calendar/freda-18/2025-03-07/
CATEGORIES:Youth and children
END:VEVENT
BEGIN:VEVENT
DTSTART;TZID=Europe/Stockholm:20250308T160000
DTEND;TZID=Europe/Stockholm:20250308T180000
DTSTAMP:20260420T153709
CREATED:20250226T073133Z
LAST-MODIFIED:20250226T073133Z
UID:15924-1741449600-1741456800@www.immanuel.se
SUMMARY:Immanuel Brass: Women in Music
DESCRIPTION:Welcome to a Concert on International Women’s Day\, Saturday\, March 8th! \nTo celebrate this special day\, we invite you to a program featuring exclusively female composers and soloists. Expect everything from soulful melodies and worship to uplifting dance—an event you don’t want to miss! \nFree entryConcert starts at 4:00 PMWaldenström Hall\, Immanuel ChurchMetro: Rådmansgatan \nOrganized in collaboration with the Bilda Study Association.
URL:https://www.immanuel.se/en/calendar/immanuel-brass-kvinnor-i-musiken/
END:VEVENT
BEGIN:VEVENT
DTSTART;TZID=Europe/Stockholm:20250309T110000
DTEND;TZID=Europe/Stockholm:20250309T123000
DTSTAMP:20260420T153709
CREATED:20241203T113215Z
LAST-MODIFIED:20250102T174424Z
UID:14274-1741518000-1741523400@www.immanuel.se
SUMMARY:Worship in English
DESCRIPTION:LENT 1 \nGiving up the desire for vengeance\nMatthew 18.21-25\nPastor Hugh preaching
URL:https://www.immanuel.se/en/calendar/worship-in-english-18-2025-03-09/
CATEGORIES:English,Services
END:VEVENT
BEGIN:VEVENT
DTSTART;TZID=Europe/Stockholm:20250310T120000
DTEND;TZID=Europe/Stockholm:20250310T123000
DTSTAMP:20260420T153709
CREATED:20250127T104256Z
LAST-MODIFIED:20250218T121607Z
UID:15632-1741608000-1741609800@www.immanuel.se
SUMMARY:Lunch Concert
DESCRIPTION:
URL:https://www.immanuel.se/en/calendar/lunch-concert-10/2025-03-10/
CATEGORIES:Concerts,Music & Culture
END:VEVENT
BEGIN:VEVENT
DTSTART;TZID=Europe/Stockholm:20250311T180000
DTEND;TZID=Europe/Stockholm:20250311T190000
DTSTAMP:20260420T153709
CREATED:20250127T104921Z
LAST-MODIFIED:20250127T105212Z
UID:15638-1741716000-1741719600@www.immanuel.se
SUMMARY:Concert with the music school
DESCRIPTION:String evening with students from the Immanuel music school in Waldenströmssalen. \nWelcome!
URL:https://www.immanuel.se/en/calendar/concert-85/
CATEGORIES:Concerts,Live
END:VEVENT
BEGIN:VEVENT
DTSTART;TZID=Europe/Stockholm:20250311T190000
DTEND;TZID=Europe/Stockholm:20250311T210000
DTSTAMP:20260420T153709
CREATED:20241210T101933Z
LAST-MODIFIED:20241210T101933Z
UID:14427-1741719600-1741726800@www.immanuel.se
SUMMARY:Young Adults Bible Study
DESCRIPTION:You are welcome to join the Young Adults group. We are a group of students and young professionals coming from all over the world with 3 desires : know more about Jesus\, become daily passionate followers of Christ and build a christian fellowship. Once a week\, we have discussions around the Bible and other community-building events are organized sporadically. Click here to read more. \n 
URL:https://www.immanuel.se/en/calendar/young-adults-bible-study/2025-03-11/
END:VEVENT
BEGIN:VEVENT
DTSTART;TZID=Europe/Stockholm:20250313T120000
DTEND;TZID=Europe/Stockholm:20250313T130000
DTSTAMP:20260420T153709
CREATED:20241210T121708Z
LAST-MODIFIED:20241210T121824Z
UID:14629-1741867200-1741870800@www.immanuel.se
SUMMARY:Moms In Prayer
DESCRIPTION:Thursday Afternoons \nWelcome to Moms in Prayer\, a prayer ministry that brings moms together once a week for one hour to pray for their children and schools. If you find yourself in a similar place\, if you are a mom\, you are more than welcome to join us! \nWe meet Thursday afternoons at 12.00 at Immanuel Church in the Youth Room on level K1. If you would like to join us\, please fill out the form below. If you would like to know more about the Moms in Prayer group fill out the form below. You can read more about Moms in Prayer visit their website.
URL:https://www.immanuel.se/en/calendar/moms-in-prayer-3/2025-03-13/
END:VEVENT
BEGIN:VEVENT
DTSTART;TZID=Europe/Stockholm:20250313T183000
DTEND;TZID=Europe/Stockholm:20250313T210000
DTSTAMP:20260420T153709
CREATED:20241203T115910Z
LAST-MODIFIED:20250319T105023Z
UID:14358-1741890600-1741899600@www.immanuel.se
SUMMARY:Evening Bible Study
DESCRIPTION:Thursday evening Bible Study \nThe meeting starts from 18.30 for a light meal and 19.30 for the study.\nThe course is designed primarily for new and young Christians and all are welcome! \nPlease let Hugh know if you intend to come\, partly to know how much food is needed and also so that he can let you have a door code to be used if the main door is locked.
URL:https://www.immanuel.se/en/calendar/evening-bible-study/2025-03-13/
END:VEVENT
BEGIN:VEVENT
DTSTART;TZID=Europe/Stockholm:20250314T183000
DTEND;TZID=Europe/Stockholm:20250314T220000
DTSTAMP:20260420T153709
CREATED:20250107T092146Z
LAST-MODIFIED:20250107T092146Z
UID:15383-1741977000-1741989600@www.immanuel.se
SUMMARY:FREDA
DESCRIPTION:FREDA is Stockholm’s finest youth event for those who are 13 years and up. We meet every Friday at 18.30–22.00 until December 8. We start the evening with fika followed by activities and devotional service. \nFREDA wants to be a safe place in the middle of town where you as a teenager can meet new friends\, have fun\, hang out and have the opportunity to talk about life and faith.
URL:https://www.immanuel.se/en/calendar/freda-18/2025-03-14/
CATEGORIES:Youth and children
END:VEVENT
BEGIN:VEVENT
DTSTART;TZID=Europe/Stockholm:20250316T110000
DTEND;TZID=Europe/Stockholm:20250316T123000
DTSTAMP:20260420T153709
CREATED:20241203T113215Z
LAST-MODIFIED:20250316T072453Z
UID:14275-1742122800-1742128200@www.immanuel.se
SUMMARY:Worship in English
DESCRIPTION:Giving up for Lent: Hiding our treasure\nMatthew 25:14-30 and Hebrews 6:1-12\nPastor Hugh Doyle preaching
URL:https://www.immanuel.se/en/calendar/worship-in-english-18-2025-03-16/
CATEGORIES:English,Services
END:VEVENT
BEGIN:VEVENT
DTSTART;TZID=Europe/Stockholm:20250317T120000
DTEND;TZID=Europe/Stockholm:20250317T123000
DTSTAMP:20260420T153709
CREATED:20250127T104256Z
LAST-MODIFIED:20250218T121607Z
UID:15633-1742212800-1742214600@www.immanuel.se
SUMMARY:Lunch Concert
DESCRIPTION:
URL:https://www.immanuel.se/en/calendar/lunch-concert-10/2025-03-17/
CATEGORIES:Concerts,Music & Culture
END:VEVENT
BEGIN:VEVENT
DTSTART;TZID=Europe/Stockholm:20250318T190000
DTEND;TZID=Europe/Stockholm:20250318T210000
DTSTAMP:20260420T153709
CREATED:20241210T101933Z
LAST-MODIFIED:20241210T101933Z
UID:14428-1742324400-1742331600@www.immanuel.se
SUMMARY:Young Adults Bible Study
DESCRIPTION:You are welcome to join the Young Adults group. We are a group of students and young professionals coming from all over the world with 3 desires : know more about Jesus\, become daily passionate followers of Christ and build a christian fellowship. Once a week\, we have discussions around the Bible and other community-building events are organized sporadically. Click here to read more. \n 
URL:https://www.immanuel.se/en/calendar/young-adults-bible-study/2025-03-18/
END:VEVENT
BEGIN:VEVENT
DTSTART;TZID=Europe/Stockholm:20250320T120000
DTEND;TZID=Europe/Stockholm:20250320T130000
DTSTAMP:20260420T153709
CREATED:20241210T121708Z
LAST-MODIFIED:20241210T121824Z
UID:14630-1742472000-1742475600@www.immanuel.se
SUMMARY:Moms In Prayer
DESCRIPTION:Thursday Afternoons \nWelcome to Moms in Prayer\, a prayer ministry that brings moms together once a week for one hour to pray for their children and schools. If you find yourself in a similar place\, if you are a mom\, you are more than welcome to join us! \nWe meet Thursday afternoons at 12.00 at Immanuel Church in the Youth Room on level K1. If you would like to join us\, please fill out the form below. If you would like to know more about the Moms in Prayer group fill out the form below. You can read more about Moms in Prayer visit their website.
URL:https://www.immanuel.se/en/calendar/moms-in-prayer-3/2025-03-20/
END:VEVENT
BEGIN:VEVENT
DTSTART;TZID=Europe/Stockholm:20250320T183000
DTEND;TZID=Europe/Stockholm:20250320T210000
DTSTAMP:20260420T153709
CREATED:20241203T115910Z
LAST-MODIFIED:20250319T105023Z
UID:14359-1742495400-1742504400@www.immanuel.se
SUMMARY:Evening Bible Study
DESCRIPTION:Thursday evening Bible Study \nThe meeting starts from 18.30 for a light meal and 19.30 for the study.\nThe course is designed primarily for new and young Christians and all are welcome! \nPlease let Hugh know if you intend to come\, partly to know how much food is needed and also so that he can let you have a door code to be used if the main door is locked.
URL:https://www.immanuel.se/en/calendar/evening-bible-study/2025-03-20/
END:VEVENT
BEGIN:VEVENT
DTSTART;TZID=Europe/Stockholm:20250321T183000
DTEND;TZID=Europe/Stockholm:20250321T220000
DTSTAMP:20260420T153709
CREATED:20250107T092146Z
LAST-MODIFIED:20250107T092146Z
UID:15384-1742581800-1742594400@www.immanuel.se
SUMMARY:FREDA
DESCRIPTION:FREDA is Stockholm’s finest youth event for those who are 13 years and up. We meet every Friday at 18.30–22.00 until December 8. We start the evening with fika followed by activities and devotional service. \nFREDA wants to be a safe place in the middle of town where you as a teenager can meet new friends\, have fun\, hang out and have the opportunity to talk about life and faith.
URL:https://www.immanuel.se/en/calendar/freda-18/2025-03-21/
CATEGORIES:Youth and children
END:VEVENT
BEGIN:VEVENT
DTSTART;TZID=Europe/Stockholm:20250323T110000
DTEND;TZID=Europe/Stockholm:20250323T123000
DTSTAMP:20260420T153709
CREATED:20241203T113215Z
LAST-MODIFIED:20250318T155927Z
UID:14277-1742727600-1742733000@www.immanuel.se
SUMMARY:Worship in English
DESCRIPTION:Giving up: worrying about tomorrow\nMatthew 6:25-34\nPastor Hugh Doyle preaching
URL:https://www.immanuel.se/en/calendar/worship-in-english-18-2025-03-23/
CATEGORIES:English,Services
END:VEVENT
BEGIN:VEVENT
DTSTART;TZID=Europe/Stockholm:20250323T130000
DTEND;TZID=Europe/Stockholm:20250323T170000
DTSTAMP:20260420T153709
CREATED:20250114T084023Z
LAST-MODIFIED:20250114T084023Z
UID:15432-1742734800-1742749200@www.immanuel.se
SUMMARY:Congregational Meeting
DESCRIPTION:More information to come.
URL:https://www.immanuel.se/en/calendar/congregational-meeting-18/
END:VEVENT
BEGIN:VEVENT
DTSTART;TZID=Europe/Stockholm:20250324T120000
DTEND;TZID=Europe/Stockholm:20250324T123000
DTSTAMP:20260420T153709
CREATED:20250127T104256Z
LAST-MODIFIED:20250218T121608Z
UID:15634-1742817600-1742819400@www.immanuel.se
SUMMARY:Lunch Concert
DESCRIPTION:
URL:https://www.immanuel.se/en/calendar/lunch-concert-10/2025-03-24/
CATEGORIES:Concerts,Music & Culture
END:VEVENT
BEGIN:VEVENT
DTSTART;TZID=Europe/Stockholm:20250325T190000
DTEND;TZID=Europe/Stockholm:20250325T210000
DTSTAMP:20260420T153709
CREATED:20241210T101933Z
LAST-MODIFIED:20241210T101933Z
UID:14429-1742929200-1742936400@www.immanuel.se
SUMMARY:Young Adults Bible Study
DESCRIPTION:You are welcome to join the Young Adults group. We are a group of students and young professionals coming from all over the world with 3 desires : know more about Jesus\, become daily passionate followers of Christ and build a christian fellowship. Once a week\, we have discussions around the Bible and other community-building events are organized sporadically. Click here to read more. \n 
URL:https://www.immanuel.se/en/calendar/young-adults-bible-study/2025-03-25/
END:VEVENT
BEGIN:VEVENT
DTSTART;TZID=Europe/Stockholm:20250327T120000
DTEND;TZID=Europe/Stockholm:20250327T130000
DTSTAMP:20260420T153709
CREATED:20241210T121708Z
LAST-MODIFIED:20241210T121824Z
UID:14631-1743076800-1743080400@www.immanuel.se
SUMMARY:Moms In Prayer
DESCRIPTION:Thursday Afternoons \nWelcome to Moms in Prayer\, a prayer ministry that brings moms together once a week for one hour to pray for their children and schools. If you find yourself in a similar place\, if you are a mom\, you are more than welcome to join us! \nWe meet Thursday afternoons at 12.00 at Immanuel Church in the Youth Room on level K1. If you would like to join us\, please fill out the form below. If you would like to know more about the Moms in Prayer group fill out the form below. You can read more about Moms in Prayer visit their website.
URL:https://www.immanuel.se/en/calendar/moms-in-prayer-3/2025-03-27/
END:VEVENT
BEGIN:VEVENT
DTSTART;TZID=Europe/Stockholm:20250327T183000
DTEND;TZID=Europe/Stockholm:20250327T210000
DTSTAMP:20260420T153709
CREATED:20241203T115910Z
LAST-MODIFIED:20250319T105023Z
UID:14361-1743100200-1743109200@www.immanuel.se
SUMMARY:Evening Bible Study
DESCRIPTION:Thursday evening Bible Study \nThe meeting starts from 18.30 for a light meal and 19.30 for the study.\nThe course is designed primarily for new and young Christians and all are welcome! \nPlease let Hugh know if you intend to come\, partly to know how much food is needed and also so that he can let you have a door code to be used if the main door is locked.
URL:https://www.immanuel.se/en/calendar/evening-bible-study/2025-03-27/
END:VEVENT
END:VCALENDAR