BEGIN:VCALENDAR
VERSION:2.0
PRODID:-//Immanuel Church - ECPv6.15.20//NONSGML v1.0//EN
CALSCALE:GREGORIAN
METHOD:PUBLISH
X-ORIGINAL-URL:https://www.immanuel.se/en
X-WR-CALDESC:Events for Immanuel Church
REFRESH-INTERVAL;VALUE=DURATION:PT1H
X-Robots-Tag:noindex
X-PUBLISHED-TTL:PT1H
BEGIN:VTIMEZONE
TZID:Europe/Stockholm
BEGIN:DAYLIGHT
TZOFFSETFROM:+0100
TZOFFSETTO:+0200
TZNAME:CEST
DTSTART:20250330T010000
END:DAYLIGHT
BEGIN:STANDARD
TZOFFSETFROM:+0200
TZOFFSETTO:+0100
TZNAME:CET
DTSTART:20251026T010000
END:STANDARD
BEGIN:DAYLIGHT
TZOFFSETFROM:+0100
TZOFFSETTO:+0200
TZNAME:CEST
DTSTART:20260329T010000
END:DAYLIGHT
BEGIN:STANDARD
TZOFFSETFROM:+0200
TZOFFSETTO:+0100
TZNAME:CET
DTSTART:20261025T010000
END:STANDARD
BEGIN:DAYLIGHT
TZOFFSETFROM:+0100
TZOFFSETTO:+0200
TZNAME:CEST
DTSTART:20270328T010000
END:DAYLIGHT
BEGIN:STANDARD
TZOFFSETFROM:+0200
TZOFFSETTO:+0100
TZNAME:CET
DTSTART:20271031T010000
END:STANDARD
END:VTIMEZONE
BEGIN:VEVENT
DTSTART;TZID=Europe/Stockholm:20260618T183000
DTEND;TZID=Europe/Stockholm:20260618T210000
DTSTAMP:20260422T031429
CREATED:20251218T162538Z
LAST-MODIFIED:20251218T162538Z
UID:21288-1781807400-1781816400@www.immanuel.se
SUMMARY:Evening Bible Study
DESCRIPTION:Thursday evening Bible Study\nis in English and in the Youth Room on level K1 \nThe meeting starts from 18.30 for a light meal and 19.30 for the study. \nStudy is on Sermon on the Mount\nAll are welcome! \nPlease let Hugh know if you intend to come\, partly to know how much food is needed and also so that he can let you have a door code to be used if the main door is locked.
URL:https://www.immanuel.se/en/calendar/evening-bible-study-3/2026-06-18/
END:VEVENT
BEGIN:VEVENT
DTSTART;TZID=Europe/Stockholm:20260621T101500
DTEND;TZID=Europe/Stockholm:20260621T105000
DTSTAMP:20260422T031429
CREATED:20260105T101622Z
LAST-MODIFIED:20260331T081449Z
UID:21663-1782036900-1782039000@www.immanuel.se
SUMMARY:Kör-lek
DESCRIPTION:Välkommen att lära känna fler barnfamiljer i Immanuelskyrkan! Vi sjunger\, leker och har trevligt tillsammans. Kl. 10.50 bjuds på frukt\, och därefter finns möjlighet att gå vidare till någon av församlingens tre gudstjänster.
URL:https://www.immanuel.se/en/calendar/kor-lek-25/
LOCATION:Kapellet
END:VEVENT
BEGIN:VEVENT
DTSTART;TZID=Europe/Stockholm:20260621T110000
DTEND;TZID=Europe/Stockholm:20260621T120000
DTSTAMP:20260422T031429
CREATED:20251230T224553Z
LAST-MODIFIED:20260331T081449Z
UID:21543-1782039600-1782043200@www.immanuel.se
SUMMARY:Gudstjänst på svenska
DESCRIPTION:
URL:https://www.immanuel.se/en/calendar/gudstjanst-pa-svenska-20/
LOCATION:Kyrksalen
CATEGORIES:Swedish at 11
END:VEVENT
BEGIN:VEVENT
DTSTART;TZID=Europe/Stockholm:20260621T110000
DTEND;TZID=Europe/Stockholm:20260621T120000
DTSTAMP:20260422T031429
CREATED:20260327T102142Z
LAST-MODIFIED:20260327T113450Z
UID:24254-1782039600-1782043200@www.immanuel.se
SUMMARY:Worship in Korean
DESCRIPTION:
URL:https://www.immanuel.se/en/calendar/worship-in-korean/2026-06-21/
LOCATION:Waldenströmssalen
CATEGORIES:Korean
END:VEVENT
BEGIN:VEVENT
DTSTART;TZID=Europe/Stockholm:20260621T110000
DTEND;TZID=Europe/Stockholm:20260621T123000
DTSTAMP:20260422T031429
CREATED:20251218T134953Z
LAST-MODIFIED:20260327T105628Z
UID:21161-1782039600-1782045000@www.immanuel.se
SUMMARY:Worship in English
DESCRIPTION:
URL:https://www.immanuel.se/en/calendar/worship-in-english-19/2026-06-21/
CATEGORIES:English,Services
END:VEVENT
BEGIN:VEVENT
DTSTART;TZID=Europe/Stockholm:20260627T120000
DTEND;TZID=Europe/Stockholm:20260627T140000
DTSTAMP:20260422T031429
CREATED:20260222T131619Z
LAST-MODIFIED:20260331T081449Z
UID:23071-1782561600-1782568800@www.immanuel.se
SUMMARY:Lunch in Community
DESCRIPTION:
URL:https://www.immanuel.se/en/calendar/lunch-in-community-19/
LOCATION:Kyrkplan
CATEGORIES:Care and Diaconal
END:VEVENT
BEGIN:VEVENT
DTSTART;TZID=Europe/Stockholm:20260628T093000
DTEND;TZID=Europe/Stockholm:20260628T103000
DTSTAMP:20260422T031429
CREATED:20260222T131619Z
LAST-MODIFIED:20260331T081449Z
UID:23073-1782639000-1782642600@www.immanuel.se
SUMMARY:Breakfast in Community
DESCRIPTION:
URL:https://www.immanuel.se/en/calendar/breakfast-in-community-19/
LOCATION:Kyrkplan
CATEGORIES:Care and Diaconal
END:VEVENT
BEGIN:VEVENT
DTSTART;TZID=Europe/Stockholm:20260628T110000
DTEND;TZID=Europe/Stockholm:20260628T120000
DTSTAMP:20260422T031429
CREATED:20260327T102142Z
LAST-MODIFIED:20260327T113451Z
UID:24255-1782644400-1782648000@www.immanuel.se
SUMMARY:Worship in Korean
DESCRIPTION:
URL:https://www.immanuel.se/en/calendar/worship-in-korean/2026-06-28/
LOCATION:Waldenströmssalen
CATEGORIES:Korean
END:VEVENT
BEGIN:VEVENT
DTSTART;TZID=Europe/Stockholm:20260628T110000
DTEND;TZID=Europe/Stockholm:20260628T123000
DTSTAMP:20260422T031429
CREATED:20251218T134953Z
LAST-MODIFIED:20260327T105628Z
UID:21162-1782644400-1782649800@www.immanuel.se
SUMMARY:Worship in English
DESCRIPTION:
URL:https://www.immanuel.se/en/calendar/worship-in-english-19/2026-06-28/
CATEGORIES:English,Services
END:VEVENT
BEGIN:VEVENT
DTSTART;TZID=Europe/Stockholm:20260705T110000
DTEND;TZID=Europe/Stockholm:20260705T120000
DTSTAMP:20260422T031429
CREATED:20260327T102142Z
LAST-MODIFIED:20260327T113451Z
UID:24256-1783249200-1783252800@www.immanuel.se
SUMMARY:Worship in Korean
DESCRIPTION:
URL:https://www.immanuel.se/en/calendar/worship-in-korean/2026-07-05/
LOCATION:Waldenströmssalen
CATEGORIES:Korean
END:VEVENT
BEGIN:VEVENT
DTSTART;TZID=Europe/Stockholm:20260705T110000
DTEND;TZID=Europe/Stockholm:20260705T123000
DTSTAMP:20260422T031429
CREATED:20251218T134953Z
LAST-MODIFIED:20260327T105628Z
UID:21163-1783249200-1783254600@www.immanuel.se
SUMMARY:Worship in English
DESCRIPTION:
URL:https://www.immanuel.se/en/calendar/worship-in-english-19/2026-07-05/
CATEGORIES:English,Services
END:VEVENT
BEGIN:VEVENT
DTSTART;TZID=Europe/Stockholm:20260712T110000
DTEND;TZID=Europe/Stockholm:20260712T120000
DTSTAMP:20260422T031429
CREATED:20260327T102142Z
LAST-MODIFIED:20260327T113451Z
UID:24257-1783854000-1783857600@www.immanuel.se
SUMMARY:Worship in Korean
DESCRIPTION:
URL:https://www.immanuel.se/en/calendar/worship-in-korean/2026-07-12/
LOCATION:Waldenströmssalen
CATEGORIES:Korean
END:VEVENT
BEGIN:VEVENT
DTSTART;TZID=Europe/Stockholm:20260712T110000
DTEND;TZID=Europe/Stockholm:20260712T123000
DTSTAMP:20260422T031429
CREATED:20251218T134953Z
LAST-MODIFIED:20260327T105629Z
UID:21164-1783854000-1783859400@www.immanuel.se
SUMMARY:Worship in English
DESCRIPTION:
URL:https://www.immanuel.se/en/calendar/worship-in-english-19/2026-07-12/
CATEGORIES:English,Services
END:VEVENT
BEGIN:VEVENT
DTSTART;TZID=Europe/Stockholm:20260719T110000
DTEND;TZID=Europe/Stockholm:20260719T120000
DTSTAMP:20260422T031429
CREATED:20260327T102142Z
LAST-MODIFIED:20260327T113451Z
UID:24258-1784458800-1784462400@www.immanuel.se
SUMMARY:Worship in Korean
DESCRIPTION:
URL:https://www.immanuel.se/en/calendar/worship-in-korean/2026-07-19/
LOCATION:Waldenströmssalen
CATEGORIES:Korean
END:VEVENT
BEGIN:VEVENT
DTSTART;TZID=Europe/Stockholm:20260719T110000
DTEND;TZID=Europe/Stockholm:20260719T123000
DTSTAMP:20260422T031429
CREATED:20251218T134953Z
LAST-MODIFIED:20260327T105629Z
UID:21165-1784458800-1784464200@www.immanuel.se
SUMMARY:Worship in English
DESCRIPTION:
URL:https://www.immanuel.se/en/calendar/worship-in-english-19/2026-07-19/
CATEGORIES:English,Services
END:VEVENT
BEGIN:VEVENT
DTSTART;TZID=Europe/Stockholm:20260726T110000
DTEND;TZID=Europe/Stockholm:20260726T120000
DTSTAMP:20260422T031429
CREATED:20260327T102142Z
LAST-MODIFIED:20260327T113452Z
UID:24259-1785063600-1785067200@www.immanuel.se
SUMMARY:Worship in Korean
DESCRIPTION:
URL:https://www.immanuel.se/en/calendar/worship-in-korean/2026-07-26/
LOCATION:Waldenströmssalen
CATEGORIES:Korean
END:VEVENT
BEGIN:VEVENT
DTSTART;TZID=Europe/Stockholm:20260726T110000
DTEND;TZID=Europe/Stockholm:20260726T123000
DTSTAMP:20260422T031429
CREATED:20251218T134953Z
LAST-MODIFIED:20260327T105629Z
UID:21166-1785063600-1785069000@www.immanuel.se
SUMMARY:Worship in English
DESCRIPTION:
URL:https://www.immanuel.se/en/calendar/worship-in-english-19/2026-07-26/
CATEGORIES:English,Services
END:VEVENT
BEGIN:VEVENT
DTSTART;TZID=Europe/Stockholm:20260802T110000
DTEND;TZID=Europe/Stockholm:20260802T120000
DTSTAMP:20260422T031429
CREATED:20260327T102142Z
LAST-MODIFIED:20260327T113452Z
UID:24260-1785668400-1785672000@www.immanuel.se
SUMMARY:Worship in Korean
DESCRIPTION:
URL:https://www.immanuel.se/en/calendar/worship-in-korean/2026-08-02/
LOCATION:Waldenströmssalen
CATEGORIES:Korean
END:VEVENT
BEGIN:VEVENT
DTSTART;TZID=Europe/Stockholm:20260802T110000
DTEND;TZID=Europe/Stockholm:20260802T123000
DTSTAMP:20260422T031429
CREATED:20251218T134953Z
LAST-MODIFIED:20260327T105629Z
UID:21167-1785668400-1785673800@www.immanuel.se
SUMMARY:Worship in English
DESCRIPTION:
URL:https://www.immanuel.se/en/calendar/worship-in-english-19/2026-08-02/
CATEGORIES:English,Services
END:VEVENT
BEGIN:VEVENT
DTSTART;TZID=Europe/Stockholm:20260809T110000
DTEND;TZID=Europe/Stockholm:20260809T120000
DTSTAMP:20260422T031429
CREATED:20260327T102142Z
LAST-MODIFIED:20260327T113452Z
UID:24261-1786273200-1786276800@www.immanuel.se
SUMMARY:Worship in Korean
DESCRIPTION:
URL:https://www.immanuel.se/en/calendar/worship-in-korean/2026-08-09/
LOCATION:Waldenströmssalen
CATEGORIES:Korean
END:VEVENT
BEGIN:VEVENT
DTSTART;TZID=Europe/Stockholm:20260809T110000
DTEND;TZID=Europe/Stockholm:20260809T123000
DTSTAMP:20260422T031429
CREATED:20251218T134953Z
LAST-MODIFIED:20260327T105629Z
UID:21168-1786273200-1786278600@www.immanuel.se
SUMMARY:Worship in English
DESCRIPTION:
URL:https://www.immanuel.se/en/calendar/worship-in-english-19/2026-08-09/
CATEGORIES:English,Services
END:VEVENT
BEGIN:VEVENT
DTSTART;TZID=Europe/Stockholm:20260816T110000
DTEND;TZID=Europe/Stockholm:20260816T120000
DTSTAMP:20260422T031429
CREATED:20260327T102142Z
LAST-MODIFIED:20260327T113453Z
UID:24262-1786878000-1786881600@www.immanuel.se
SUMMARY:Worship in Korean
DESCRIPTION:
URL:https://www.immanuel.se/en/calendar/worship-in-korean/2026-08-16/
LOCATION:Waldenströmssalen
CATEGORIES:Korean
END:VEVENT
BEGIN:VEVENT
DTSTART;TZID=Europe/Stockholm:20260816T110000
DTEND;TZID=Europe/Stockholm:20260816T123000
DTSTAMP:20260422T031429
CREATED:20251218T134953Z
LAST-MODIFIED:20260327T105631Z
UID:21169-1786878000-1786883400@www.immanuel.se
SUMMARY:Worship in English
DESCRIPTION:
URL:https://www.immanuel.se/en/calendar/worship-in-english-19/2026-08-16/
CATEGORIES:English,Services
END:VEVENT
BEGIN:VEVENT
DTSTART;TZID=Europe/Stockholm:20260823T110000
DTEND;TZID=Europe/Stockholm:20260823T120000
DTSTAMP:20260422T031429
CREATED:20260327T102142Z
LAST-MODIFIED:20260327T113453Z
UID:24263-1787482800-1787486400@www.immanuel.se
SUMMARY:Worship in Korean
DESCRIPTION:
URL:https://www.immanuel.se/en/calendar/worship-in-korean/2026-08-23/
LOCATION:Waldenströmssalen
CATEGORIES:Korean
END:VEVENT
BEGIN:VEVENT
DTSTART;TZID=Europe/Stockholm:20260823T110000
DTEND;TZID=Europe/Stockholm:20260823T123000
DTSTAMP:20260422T031429
CREATED:20251218T134953Z
LAST-MODIFIED:20260327T105631Z
UID:21170-1787482800-1787488200@www.immanuel.se
SUMMARY:Worship in English
DESCRIPTION:
URL:https://www.immanuel.se/en/calendar/worship-in-english-19/2026-08-23/
CATEGORIES:English,Services
END:VEVENT
BEGIN:VEVENT
DTSTART;TZID=Europe/Stockholm:20260830T110000
DTEND;TZID=Europe/Stockholm:20260830T120000
DTSTAMP:20260422T031429
CREATED:20260327T102142Z
LAST-MODIFIED:20260327T113454Z
UID:24264-1788087600-1788091200@www.immanuel.se
SUMMARY:Worship in Korean
DESCRIPTION:
URL:https://www.immanuel.se/en/calendar/worship-in-korean/2026-08-30/
LOCATION:Waldenströmssalen
CATEGORIES:Korean
END:VEVENT
BEGIN:VEVENT
DTSTART;TZID=Europe/Stockholm:20260830T110000
DTEND;TZID=Europe/Stockholm:20260830T123000
DTSTAMP:20260422T031429
CREATED:20251218T134953Z
LAST-MODIFIED:20260327T105631Z
UID:21171-1788087600-1788093000@www.immanuel.se
SUMMARY:Worship in English
DESCRIPTION:
URL:https://www.immanuel.se/en/calendar/worship-in-english-19/2026-08-30/
CATEGORIES:English,Services
END:VEVENT
BEGIN:VEVENT
DTSTART;TZID=Europe/Stockholm:20260906T110000
DTEND;TZID=Europe/Stockholm:20260906T120000
DTSTAMP:20260422T031429
CREATED:20260327T102142Z
LAST-MODIFIED:20260327T113454Z
UID:24265-1788692400-1788696000@www.immanuel.se
SUMMARY:Worship in Korean
DESCRIPTION:
URL:https://www.immanuel.se/en/calendar/worship-in-korean/2026-09-06/
LOCATION:Waldenströmssalen
CATEGORIES:Korean
END:VEVENT
BEGIN:VEVENT
DTSTART;TZID=Europe/Stockholm:20260906T110000
DTEND;TZID=Europe/Stockholm:20260906T123000
DTSTAMP:20260422T031429
CREATED:20251218T134953Z
LAST-MODIFIED:20260327T105631Z
UID:21172-1788692400-1788697800@www.immanuel.se
SUMMARY:Worship in English
DESCRIPTION:
URL:https://www.immanuel.se/en/calendar/worship-in-english-19/2026-09-06/
CATEGORIES:English,Services
END:VEVENT
BEGIN:VEVENT
DTSTART;TZID=Europe/Stockholm:20260913T110000
DTEND;TZID=Europe/Stockholm:20260913T120000
DTSTAMP:20260422T031429
CREATED:20260327T102142Z
LAST-MODIFIED:20260327T113454Z
UID:24266-1789297200-1789300800@www.immanuel.se
SUMMARY:Worship in Korean
DESCRIPTION:
URL:https://www.immanuel.se/en/calendar/worship-in-korean/2026-09-13/
LOCATION:Waldenströmssalen
CATEGORIES:Korean
END:VEVENT
END:VCALENDAR