BEGIN:VCALENDAR
VERSION:2.0
PRODID:-//Immanuel Church - ECPv6.15.20//NONSGML v1.0//EN
CALSCALE:GREGORIAN
METHOD:PUBLISH
X-WR-CALNAME:Immanuel Church
X-ORIGINAL-URL:https://www.immanuel.se/en
X-WR-CALDESC:Events for Immanuel Church
REFRESH-INTERVAL;VALUE=DURATION:PT1H
X-Robots-Tag:noindex
X-PUBLISHED-TTL:PT1H
BEGIN:VTIMEZONE
TZID:Europe/Stockholm
BEGIN:DAYLIGHT
TZOFFSETFROM:+0100
TZOFFSETTO:+0200
TZNAME:CEST
DTSTART:20250330T010000
END:DAYLIGHT
BEGIN:STANDARD
TZOFFSETFROM:+0200
TZOFFSETTO:+0100
TZNAME:CET
DTSTART:20251026T010000
END:STANDARD
BEGIN:DAYLIGHT
TZOFFSETFROM:+0100
TZOFFSETTO:+0200
TZNAME:CEST
DTSTART:20260329T010000
END:DAYLIGHT
BEGIN:STANDARD
TZOFFSETFROM:+0200
TZOFFSETTO:+0100
TZNAME:CET
DTSTART:20261025T010000
END:STANDARD
BEGIN:DAYLIGHT
TZOFFSETFROM:+0100
TZOFFSETTO:+0200
TZNAME:CEST
DTSTART:20270328T010000
END:DAYLIGHT
BEGIN:STANDARD
TZOFFSETFROM:+0200
TZOFFSETTO:+0100
TZNAME:CET
DTSTART:20271031T010000
END:STANDARD
END:VTIMEZONE
BEGIN:VEVENT
DTSTART;TZID=Europe/Stockholm:20260514T094500
DTEND;TZID=Europe/Stockholm:20260514T120000
DTSTAMP:20260421T204242
CREATED:20251218T161636Z
LAST-MODIFIED:20251218T161636Z
UID:21213-1778751900-1778760000@www.immanuel.se
SUMMARY:Women's Bible Studay
DESCRIPTION:Women’s Bible Study Group\nThursday mornings • 09.45 -11.45 • Youth Room Level K1\n\nAny women longing for fellowship with other women through the studying of God’s word.\nIf you have any questions\, please contact Rosemary:
URL:https://www.immanuel.se/en/calendar/womens-bible-studay/2026-05-14/
END:VEVENT
BEGIN:VEVENT
DTSTART;TZID=Europe/Stockholm:20260514T121500
DTEND;TZID=Europe/Stockholm:20260514T131500
DTSTAMP:20260421T204242
CREATED:20251218T161955Z
LAST-MODIFIED:20251218T162022Z
UID:21237-1778760900-1778764500@www.immanuel.se
SUMMARY:Moms In Prayer
DESCRIPTION:Thursday Afternoons\nWelcome to Moms in Prayer\, a prayer ministry that brings moms together once a week for one hour to pray for their children and schools. If you find yourself in a similar place\, if you are a mom\, you are more than welcome to join us! \nWe meet Thursday afternoons at 12.15 at Immanuel Church in the Youth Room on level K1. If you would like to join us\, please fill out the form below. If you would like to know more about the Moms in Prayer you can read more about Moms in Prayer visit their website.
URL:https://www.immanuel.se/en/calendar/moms-in-prayer-4/2026-05-14/
END:VEVENT
BEGIN:VEVENT
DTSTART;TZID=Europe/Stockholm:20260514T153000
DTEND;TZID=Europe/Stockholm:20260514T183000
DTSTAMP:20260421T204242
CREATED:20260105T131630Z
LAST-MODIFIED:20260331T081446Z
UID:21771-1778772600-1778783400@www.immanuel.se
SUMMARY:HQ - 10-12 år
DESCRIPTION:Holy Quarters\nVälkommen till HQ – Holy Quarters\, vår öppna efter-skola-verksamhet på Källarplan 3 i Immanuelskyrkan.\nHär finns plats för lek\, skapande\, musik\, sport\, mellis\, läxhjälp och gemenskap – mitt i stan\, mitt i veckan.\nAllt är gratis och ingen anmälan krävs. Kom som du är! \nEn kreativ och aktiv plats efter skolan med sport\, skapande\, musikrum\, mellis och läxhjälp – för dig som vill hänga med kompisar och testa nya saker.
URL:https://www.immanuel.se/en/calendar/hq-10-12-ar-19/
LOCATION:K3
END:VEVENT
BEGIN:VEVENT
DTSTART;TZID=Europe/Stockholm:20260514T183000
DTEND;TZID=Europe/Stockholm:20260514T210000
DTSTAMP:20260421T204242
CREATED:20251218T162538Z
LAST-MODIFIED:20251218T162538Z
UID:21283-1778783400-1778792400@www.immanuel.se
SUMMARY:Evening Bible Study
DESCRIPTION:Thursday evening Bible Study\nis in English and in the Youth Room on level K1 \nThe meeting starts from 18.30 for a light meal and 19.30 for the study. \nStudy is on Sermon on the Mount\nAll are welcome! \nPlease let Hugh know if you intend to come\, partly to know how much food is needed and also so that he can let you have a door code to be used if the main door is locked.
URL:https://www.immanuel.se/en/calendar/evening-bible-study-3/2026-05-14/
END:VEVENT
BEGIN:VEVENT
DTSTART;TZID=Europe/Stockholm:20260515T183000
DTEND;TZID=Europe/Stockholm:20260515T220000
DTSTAMP:20260421T204242
CREATED:20260309T131638Z
LAST-MODIFIED:20260331T081446Z
UID:23466-1778869800-1778882400@www.immanuel.se
SUMMARY:FREDA
DESCRIPTION:FREDA är en tonårskväll för dig som är 13 år och uppåt. Vi träffas varje fredag kl 18.30–22.00. Vi börjar kvällen med fika som följs av aktiviteter och andakt. Se schemat här: https://www.immanuel.se/freda/
URL:https://www.immanuel.se/en/calendar/freda-34/
END:VEVENT
BEGIN:VEVENT
DTSTART;TZID=Europe/Stockholm:20260517T101500
DTEND;TZID=Europe/Stockholm:20260517T105000
DTSTAMP:20260421T204242
CREATED:20260105T101620Z
LAST-MODIFIED:20260331T081447Z
UID:21653-1779012900-1779015000@www.immanuel.se
SUMMARY:Kör-lek
DESCRIPTION:Välkommen att lära känna fler barnfamiljer i Immanuelskyrkan! Vi sjunger\, leker och har trevligt tillsammans. Kl. 10.50 bjuds på frukt\, och därefter finns möjlighet att gå vidare till någon av församlingens tre gudstjänster.
URL:https://www.immanuel.se/en/calendar/kor-lek-20/
LOCATION:Kapellet
END:VEVENT
BEGIN:VEVENT
DTSTART;TZID=Europe/Stockholm:20260517T110000
DTEND;TZID=Europe/Stockholm:20260517T120000
DTSTAMP:20260421T204242
CREATED:20251230T224552Z
LAST-MODIFIED:20260331T081446Z
UID:21533-1779015600-1779019200@www.immanuel.se
SUMMARY:Gudstjänst på svenska
DESCRIPTION:Söndag 17 maj kl 11 Gudstjänst på svenska\nTema: Hjälparen kommer\nSön före pingst\nPredikan: Carin Dernulf\nMusik: Immanuel Nova under ledning av Rebecka Gustafsson\nBarnkyrkan är öppen\, Kyrkkaffe serveras
URL:https://www.immanuel.se/en/calendar/gudstjanst-pa-svenska-15/
LOCATION:Kyrksalen
CATEGORIES:Swedish at 11
END:VEVENT
BEGIN:VEVENT
DTSTART;TZID=Europe/Stockholm:20260517T110000
DTEND;TZID=Europe/Stockholm:20260517T120000
DTSTAMP:20260421T204242
CREATED:20260327T102142Z
LAST-MODIFIED:20260327T113447Z
UID:24248-1779015600-1779019200@www.immanuel.se
SUMMARY:Worship in Korean
DESCRIPTION:
URL:https://www.immanuel.se/en/calendar/worship-in-korean/2026-05-17/
LOCATION:Waldenströmssalen
CATEGORIES:Korean
END:VEVENT
BEGIN:VEVENT
DTSTART;TZID=Europe/Stockholm:20260517T110000
DTEND;TZID=Europe/Stockholm:20260517T123000
DTSTAMP:20260421T204242
CREATED:20251218T134953Z
LAST-MODIFIED:20260327T105624Z
UID:21156-1779015600-1779021000@www.immanuel.se
SUMMARY:Worship in English
DESCRIPTION:
URL:https://www.immanuel.se/en/calendar/worship-in-english-19/2026-05-17/
CATEGORIES:English,Services
END:VEVENT
BEGIN:VEVENT
DTSTART;TZID=Europe/Stockholm:20260518T130000
DTEND;TZID=Europe/Stockholm:20260518T153000
DTSTAMP:20260421T204242
CREATED:20260205T131628Z
LAST-MODIFIED:20260331T081447Z
UID:22561-1779109200-1779118200@www.immanuel.se
SUMMARY:Knitting café
DESCRIPTION:
URL:https://www.immanuel.se/en/calendar/knitting-cafe-9/
LOCATION:Kyrkplan
END:VEVENT
BEGIN:VEVENT
DTSTART;TZID=Europe/Stockholm:20260519T153000
DTEND;TZID=Europe/Stockholm:20260519T183000
DTSTAMP:20260421T204242
CREATED:20260105T131630Z
LAST-MODIFIED:20260331T081447Z
UID:21773-1779204600-1779215400@www.immanuel.se
SUMMARY:HQ - 0-9 år
DESCRIPTION:Holy Quarters\nVälkommen till HQ – Holy Quarters\, vår öppna efter-skola-verksamhet på Källarplan 3 i Immanuelskyrkan.\nHär finns plats för lek\, skapande\, musik\, sport\, mellis\, läxhjälp och gemenskap – mitt i stan\, mitt i veckan.\nAllt är gratis och ingen anmälan krävs. Kom som du är! \nEn trygg och lekfull eftermiddag med idrott\, pyssel\, musik\, mellis och mys. Perfekt för små upptäckare och deras föräldrar.
URL:https://www.immanuel.se/en/calendar/hq-0-9-ar-19/
LOCATION:K3
END:VEVENT
BEGIN:VEVENT
DTSTART;TZID=Europe/Stockholm:20260519T190000
DTEND;TZID=Europe/Stockholm:20260519T210000
DTSTAMP:20260421T204242
CREATED:20251218T131738Z
LAST-MODIFIED:20260106T082751Z
UID:21129-1779217200-1779224400@www.immanuel.se
SUMMARY:Young Adults Bible Study
DESCRIPTION:You are welcome to join the Young Adults group.\nWe are a group of students and young professionals\ncoming from all over the world with 3 desires: know more about Jesus\,\nbecome daily passionate followers of Christ and build a christian fellowship.\nOnce a week\, we have discussions around the Bible. \nClick here to read more.
URL:https://www.immanuel.se/en/calendar/young-adults-bible-study-3-2026-01-13/2026-05-19/
END:VEVENT
BEGIN:VEVENT
DTSTART;TZID=Europe/Stockholm:20260520T153000
DTEND;TZID=Europe/Stockholm:20260520T183000
DTSTAMP:20260421T204242
CREATED:20260105T131630Z
LAST-MODIFIED:20260331T081447Z
UID:21775-1779291000-1779301800@www.immanuel.se
SUMMARY:HQ - 13-18 år
DESCRIPTION:Holy Quarters\nVälkommen till HQ – Holy Quarters\, vår öppna efter-skola-verksamhet på Källarplan 3 i Immanuelskyrkan.\nHär finns plats för lek\, skapande\, musik\, sport\, mellis\, läxhjälp och gemenskap – mitt i stan\, mitt i veckan.\nAllt är gratis och ingen anmälan krävs. Kom som du är! \nEtt avslappnat häng med musik\, sport\, skapande\, mellis och pluggmöjligheter – där du får vara dig själv\, träffa nya vänner och hitta din plats.
URL:https://www.immanuel.se/en/calendar/hq-13-18-ar-19/
LOCATION:K3
END:VEVENT
BEGIN:VEVENT
DTSTART;TZID=Europe/Stockholm:20260520T180000
DTEND;TZID=Europe/Stockholm:20260520T190000
DTSTAMP:20260421T204242
CREATED:20260205T091626Z
LAST-MODIFIED:20260331T081447Z
UID:22535-1779300000-1779303600@www.immanuel.se
SUMMARY:Onsdagsmässan
DESCRIPTION:
URL:https://www.immanuel.se/en/calendar/onsdagsmassan-33/
LOCATION:Kapellet
END:VEVENT
BEGIN:VEVENT
DTSTART;TZID=Europe/Stockholm:20260520T180000
DTEND;TZID=Europe/Stockholm:20260520T190000
DTSTAMP:20260421T204242
CREATED:20260327T101703Z
LAST-MODIFIED:20260331T081447Z
UID:24153-1779300000-1779303600@www.immanuel.se
SUMMARY:Musikskolans sång\, piano och flöjt
DESCRIPTION:Musikskolans sång\, piano och flöjtelever
URL:https://www.immanuel.se/en/calendar/musikskolans-sang-piano-och-flojt/
LOCATION:Waldenströmssalen
END:VEVENT
BEGIN:VEVENT
DTSTART;TZID=Europe/Stockholm:20260521T094500
DTEND;TZID=Europe/Stockholm:20260521T120000
DTSTAMP:20260421T204242
CREATED:20251218T161636Z
LAST-MODIFIED:20251218T161636Z
UID:21214-1779356700-1779364800@www.immanuel.se
SUMMARY:Women's Bible Studay
DESCRIPTION:Women’s Bible Study Group\nThursday mornings • 09.45 -11.45 • Youth Room Level K1\n\nAny women longing for fellowship with other women through the studying of God’s word.\nIf you have any questions\, please contact Rosemary:
URL:https://www.immanuel.se/en/calendar/womens-bible-studay/2026-05-21/
END:VEVENT
BEGIN:VEVENT
DTSTART;TZID=Europe/Stockholm:20260521T121500
DTEND;TZID=Europe/Stockholm:20260521T131500
DTSTAMP:20260421T204242
CREATED:20251218T161955Z
LAST-MODIFIED:20251218T162022Z
UID:21238-1779365700-1779369300@www.immanuel.se
SUMMARY:Moms In Prayer
DESCRIPTION:Thursday Afternoons\nWelcome to Moms in Prayer\, a prayer ministry that brings moms together once a week for one hour to pray for their children and schools. If you find yourself in a similar place\, if you are a mom\, you are more than welcome to join us! \nWe meet Thursday afternoons at 12.15 at Immanuel Church in the Youth Room on level K1. If you would like to join us\, please fill out the form below. If you would like to know more about the Moms in Prayer you can read more about Moms in Prayer visit their website.
URL:https://www.immanuel.se/en/calendar/moms-in-prayer-4/2026-05-21/
END:VEVENT
BEGIN:VEVENT
DTSTART;TZID=Europe/Stockholm:20260521T153000
DTEND;TZID=Europe/Stockholm:20260521T183000
DTSTAMP:20260421T204242
CREATED:20260105T131630Z
LAST-MODIFIED:20260331T081447Z
UID:21777-1779377400-1779388200@www.immanuel.se
SUMMARY:HQ - 10-12 år
DESCRIPTION:Holy Quarters\nVälkommen till HQ – Holy Quarters\, vår öppna efter-skola-verksamhet på Källarplan 3 i Immanuelskyrkan.\nHär finns plats för lek\, skapande\, musik\, sport\, mellis\, läxhjälp och gemenskap – mitt i stan\, mitt i veckan.\nAllt är gratis och ingen anmälan krävs. Kom som du är! \nEn kreativ och aktiv plats efter skolan med sport\, skapande\, musikrum\, mellis och läxhjälp – för dig som vill hänga med kompisar och testa nya saker.
URL:https://www.immanuel.se/en/calendar/hq-10-12-ar-20/
LOCATION:K3
END:VEVENT
BEGIN:VEVENT
DTSTART;TZID=Europe/Stockholm:20260521T183000
DTEND;TZID=Europe/Stockholm:20260521T210000
DTSTAMP:20260421T204242
CREATED:20251218T162538Z
LAST-MODIFIED:20251218T162538Z
UID:21284-1779388200-1779397200@www.immanuel.se
SUMMARY:Evening Bible Study
DESCRIPTION:Thursday evening Bible Study\nis in English and in the Youth Room on level K1 \nThe meeting starts from 18.30 for a light meal and 19.30 for the study. \nStudy is on Sermon on the Mount\nAll are welcome! \nPlease let Hugh know if you intend to come\, partly to know how much food is needed and also so that he can let you have a door code to be used if the main door is locked.
URL:https://www.immanuel.se/en/calendar/evening-bible-study-3/2026-05-21/
END:VEVENT
BEGIN:VEVENT
DTSTART;TZID=Europe/Stockholm:20260522T183000
DTEND;TZID=Europe/Stockholm:20260522T220000
DTSTAMP:20260421T204242
CREATED:20260309T131639Z
LAST-MODIFIED:20260331T081447Z
UID:23468-1779474600-1779487200@www.immanuel.se
SUMMARY:FREDA
DESCRIPTION:FREDA är en tonårskväll för dig som är 13 år och uppåt. Vi träffas varje fredag kl 18.30–22.00. Vi börjar kvällen med fika som följs av aktiviteter och andakt. Se schemat här: https://www.immanuel.se/freda/
URL:https://www.immanuel.se/en/calendar/freda-35/
END:VEVENT
BEGIN:VEVENT
DTSTART;TZID=Europe/Stockholm:20260523T180000
DTEND;TZID=Europe/Stockholm:20260523T200000
DTSTAMP:20260421T204242
CREATED:20260317T111641Z
LAST-MODIFIED:20260331T081447Z
UID:23749-1779559200-1779566400@www.immanuel.se
SUMMARY:Jubileumskonsert Immanuel Gospel
DESCRIPTION:Biljetter finns att köpa inom kort.
URL:https://www.immanuel.se/en/calendar/jubileumskonsert-immanuel-gospel/
LOCATION:Waldenströmssalen
END:VEVENT
BEGIN:VEVENT
DTSTART;TZID=Europe/Stockholm:20260524T101500
DTEND;TZID=Europe/Stockholm:20260524T105000
DTSTAMP:20260421T204242
CREATED:20260105T101621Z
LAST-MODIFIED:20260331T081447Z
UID:21655-1779617700-1779619800@www.immanuel.se
SUMMARY:Kör-lek
DESCRIPTION:Välkommen att lära känna fler barnfamiljer i Immanuelskyrkan! Vi sjunger\, leker och har trevligt tillsammans. Kl. 10.50 bjuds på frukt\, och därefter finns möjlighet att gå vidare till någon av församlingens tre gudstjänster.
URL:https://www.immanuel.se/en/calendar/kor-lek-21/
LOCATION:Kapellet
END:VEVENT
BEGIN:VEVENT
DTSTART;TZID=Europe/Stockholm:20260524T110000
DTEND;TZID=Europe/Stockholm:20260524T120000
DTSTAMP:20260421T204242
CREATED:20251230T224552Z
LAST-MODIFIED:20260331T081447Z
UID:21535-1779620400-1779624000@www.immanuel.se
SUMMARY:Gudstjänst på svenska
DESCRIPTION:
URL:https://www.immanuel.se/en/calendar/gudstjanst-pa-svenska-16/
LOCATION:Kyrksalen
CATEGORIES:Swedish at 11
END:VEVENT
BEGIN:VEVENT
DTSTART;TZID=Europe/Stockholm:20260524T110000
DTEND;TZID=Europe/Stockholm:20260524T120000
DTSTAMP:20260421T204242
CREATED:20260327T102142Z
LAST-MODIFIED:20260327T113447Z
UID:24249-1779620400-1779624000@www.immanuel.se
SUMMARY:Worship in Korean
DESCRIPTION:
URL:https://www.immanuel.se/en/calendar/worship-in-korean/2026-05-24/
LOCATION:Waldenströmssalen
CATEGORIES:Korean
END:VEVENT
BEGIN:VEVENT
DTSTART;TZID=Europe/Stockholm:20260526T153000
DTEND;TZID=Europe/Stockholm:20260526T183000
DTSTAMP:20260421T204242
CREATED:20260105T131631Z
LAST-MODIFIED:20260331T081447Z
UID:21779-1779809400-1779820200@www.immanuel.se
SUMMARY:HQ - 0-9 år
DESCRIPTION:Holy Quarters\nVälkommen till HQ – Holy Quarters\, vår öppna efter-skola-verksamhet på Källarplan 3 i Immanuelskyrkan.\nHär finns plats för lek\, skapande\, musik\, sport\, mellis\, läxhjälp och gemenskap – mitt i stan\, mitt i veckan.\nAllt är gratis och ingen anmälan krävs. Kom som du är! \nEn trygg och lekfull eftermiddag med idrott\, pyssel\, musik\, mellis och mys. Perfekt för små upptäckare och deras föräldrar.
URL:https://www.immanuel.se/en/calendar/hq-0-9-ar-20/
LOCATION:K3
END:VEVENT
BEGIN:VEVENT
DTSTART;TZID=Europe/Stockholm:20260526T190000
DTEND;TZID=Europe/Stockholm:20260526T210000
DTSTAMP:20260421T204242
CREATED:20251218T131738Z
LAST-MODIFIED:20260106T082751Z
UID:21130-1779822000-1779829200@www.immanuel.se
SUMMARY:Young Adults Bible Study
DESCRIPTION:You are welcome to join the Young Adults group.\nWe are a group of students and young professionals\ncoming from all over the world with 3 desires: know more about Jesus\,\nbecome daily passionate followers of Christ and build a christian fellowship.\nOnce a week\, we have discussions around the Bible. \nClick here to read more.
URL:https://www.immanuel.se/en/calendar/young-adults-bible-study-3-2026-01-13/2026-05-26/
END:VEVENT
BEGIN:VEVENT
DTSTART;TZID=Europe/Stockholm:20260527T153000
DTEND;TZID=Europe/Stockholm:20260527T183000
DTSTAMP:20260421T204242
CREATED:20260105T131631Z
LAST-MODIFIED:20260331T081447Z
UID:21781-1779895800-1779906600@www.immanuel.se
SUMMARY:HQ - 13-18 år
DESCRIPTION:Holy Quarters\nVälkommen till HQ – Holy Quarters\, vår öppna efter-skola-verksamhet på Källarplan 3 i Immanuelskyrkan.\nHär finns plats för lek\, skapande\, musik\, sport\, mellis\, läxhjälp och gemenskap – mitt i stan\, mitt i veckan.\nAllt är gratis och ingen anmälan krävs. Kom som du är! \nEtt avslappnat häng med musik\, sport\, skapande\, mellis och pluggmöjligheter – där du får vara dig själv\, träffa nya vänner och hitta din plats.
URL:https://www.immanuel.se/en/calendar/hq-13-18-ar-20/
LOCATION:K3
END:VEVENT
BEGIN:VEVENT
DTSTART;TZID=Europe/Stockholm:20260528T094500
DTEND;TZID=Europe/Stockholm:20260528T120000
DTSTAMP:20260421T204242
CREATED:20251218T161636Z
LAST-MODIFIED:20251218T161636Z
UID:21215-1779961500-1779969600@www.immanuel.se
SUMMARY:Women's Bible Studay
DESCRIPTION:Women’s Bible Study Group\nThursday mornings • 09.45 -11.45 • Youth Room Level K1\n\nAny women longing for fellowship with other women through the studying of God’s word.\nIf you have any questions\, please contact Rosemary:
URL:https://www.immanuel.se/en/calendar/womens-bible-studay/2026-05-28/
END:VEVENT
BEGIN:VEVENT
DTSTART;TZID=Europe/Stockholm:20260528T121500
DTEND;TZID=Europe/Stockholm:20260528T131500
DTSTAMP:20260421T204242
CREATED:20251218T161955Z
LAST-MODIFIED:20251218T162022Z
UID:21239-1779970500-1779974100@www.immanuel.se
SUMMARY:Moms In Prayer
DESCRIPTION:Thursday Afternoons\nWelcome to Moms in Prayer\, a prayer ministry that brings moms together once a week for one hour to pray for their children and schools. If you find yourself in a similar place\, if you are a mom\, you are more than welcome to join us! \nWe meet Thursday afternoons at 12.15 at Immanuel Church in the Youth Room on level K1. If you would like to join us\, please fill out the form below. If you would like to know more about the Moms in Prayer you can read more about Moms in Prayer visit their website.
URL:https://www.immanuel.se/en/calendar/moms-in-prayer-4/2026-05-28/
END:VEVENT
BEGIN:VEVENT
DTSTART;TZID=Europe/Stockholm:20260528T153000
DTEND;TZID=Europe/Stockholm:20260528T183000
DTSTAMP:20260421T204242
CREATED:20260105T131631Z
LAST-MODIFIED:20260331T081447Z
UID:21783-1779982200-1779993000@www.immanuel.se
SUMMARY:HQ - 10-12 år
DESCRIPTION:Holy Quarters\nVälkommen till HQ – Holy Quarters\, vår öppna efter-skola-verksamhet på Källarplan 3 i Immanuelskyrkan.\nHär finns plats för lek\, skapande\, musik\, sport\, mellis\, läxhjälp och gemenskap – mitt i stan\, mitt i veckan.\nAllt är gratis och ingen anmälan krävs. Kom som du är! \nEn kreativ och aktiv plats efter skolan med sport\, skapande\, musikrum\, mellis och läxhjälp – för dig som vill hänga med kompisar och testa nya saker.
URL:https://www.immanuel.se/en/calendar/hq-10-12-ar-21/
LOCATION:K3
END:VEVENT
END:VCALENDAR