BEGIN:VCALENDAR
VERSION:2.0
PRODID:-//Immanuel Church - ECPv6.15.20//NONSGML v1.0//EN
CALSCALE:GREGORIAN
METHOD:PUBLISH
X-ORIGINAL-URL:https://www.immanuel.se/en
X-WR-CALDESC:Events for Immanuel Church
REFRESH-INTERVAL;VALUE=DURATION:PT1H
X-Robots-Tag:noindex
X-PUBLISHED-TTL:PT1H
BEGIN:VTIMEZONE
TZID:Europe/Stockholm
BEGIN:DAYLIGHT
TZOFFSETFROM:+0100
TZOFFSETTO:+0200
TZNAME:CEST
DTSTART:20250330T010000
END:DAYLIGHT
BEGIN:STANDARD
TZOFFSETFROM:+0200
TZOFFSETTO:+0100
TZNAME:CET
DTSTART:20251026T010000
END:STANDARD
BEGIN:DAYLIGHT
TZOFFSETFROM:+0100
TZOFFSETTO:+0200
TZNAME:CEST
DTSTART:20260329T010000
END:DAYLIGHT
BEGIN:STANDARD
TZOFFSETFROM:+0200
TZOFFSETTO:+0100
TZNAME:CET
DTSTART:20261025T010000
END:STANDARD
BEGIN:DAYLIGHT
TZOFFSETFROM:+0100
TZOFFSETTO:+0200
TZNAME:CEST
DTSTART:20270328T010000
END:DAYLIGHT
BEGIN:STANDARD
TZOFFSETFROM:+0200
TZOFFSETTO:+0100
TZNAME:CET
DTSTART:20271031T010000
END:STANDARD
END:VTIMEZONE
BEGIN:VEVENT
DTSTART;TZID=Europe/Stockholm:20261213T110000
DTEND;TZID=Europe/Stockholm:20261213T120000
DTSTAMP:20260422T030808
CREATED:20260327T102142Z
LAST-MODIFIED:20260327T113018Z
UID:24279-1797159600-1797163200@www.immanuel.se
SUMMARY:Worship in Korean
DESCRIPTION:
URL:https://www.immanuel.se/en/calendar/worship-in-korean/2026-12-13/
LOCATION:Waldenströmssalen
CATEGORIES:Korean
END:VEVENT
BEGIN:VEVENT
DTSTART;TZID=Europe/Stockholm:20261213T110000
DTEND;TZID=Europe/Stockholm:20261213T123000
DTSTAMP:20260422T030808
CREATED:20251218T134953Z
LAST-MODIFIED:20260327T105636Z
UID:21186-1797159600-1797165000@www.immanuel.se
SUMMARY:Worship in English
DESCRIPTION:
URL:https://www.immanuel.se/en/calendar/worship-in-english-19/2026-12-13/
CATEGORIES:English,Services
END:VEVENT
BEGIN:VEVENT
DTSTART;TZID=Europe/Stockholm:20261220T110000
DTEND;TZID=Europe/Stockholm:20261220T120000
DTSTAMP:20260422T030808
CREATED:20260327T102142Z
LAST-MODIFIED:20260327T113018Z
UID:24280-1797764400-1797768000@www.immanuel.se
SUMMARY:Worship in Korean
DESCRIPTION:
URL:https://www.immanuel.se/en/calendar/worship-in-korean/2026-12-20/
LOCATION:Waldenströmssalen
CATEGORIES:Korean
END:VEVENT
BEGIN:VEVENT
DTSTART;TZID=Europe/Stockholm:20261220T110000
DTEND;TZID=Europe/Stockholm:20261220T123000
DTSTAMP:20260422T030808
CREATED:20251218T134953Z
LAST-MODIFIED:20260327T105636Z
UID:21187-1797764400-1797769800@www.immanuel.se
SUMMARY:Worship in English
DESCRIPTION:
URL:https://www.immanuel.se/en/calendar/worship-in-english-19/2026-12-20/
CATEGORIES:English,Services
END:VEVENT
BEGIN:VEVENT
DTSTART;TZID=Europe/Stockholm:20261227T110000
DTEND;TZID=Europe/Stockholm:20261227T120000
DTSTAMP:20260422T030808
CREATED:20260327T102142Z
LAST-MODIFIED:20260327T113018Z
UID:24281-1798369200-1798372800@www.immanuel.se
SUMMARY:Worship in Korean
DESCRIPTION:
URL:https://www.immanuel.se/en/calendar/worship-in-korean/2026-12-27/
LOCATION:Waldenströmssalen
CATEGORIES:Korean
END:VEVENT
BEGIN:VEVENT
DTSTART;TZID=Europe/Stockholm:20261227T110000
DTEND;TZID=Europe/Stockholm:20261227T123000
DTSTAMP:20260422T030808
CREATED:20251218T134953Z
LAST-MODIFIED:20260327T105636Z
UID:21188-1798369200-1798374600@www.immanuel.se
SUMMARY:Worship in English
DESCRIPTION:
URL:https://www.immanuel.se/en/calendar/worship-in-english-19/2026-12-27/
CATEGORIES:English,Services
END:VEVENT
END:VCALENDAR