BEGIN:VCALENDAR
VERSION:2.0
PRODID:-//Immanuel Church - ECPv6.15.20//NONSGML v1.0//EN
CALSCALE:GREGORIAN
METHOD:PUBLISH
X-ORIGINAL-URL:https://www.immanuel.se/en
X-WR-CALDESC:Events for Immanuel Church
REFRESH-INTERVAL;VALUE=DURATION:PT1H
X-Robots-Tag:noindex
X-PUBLISHED-TTL:PT1H
BEGIN:VTIMEZONE
TZID:Europe/Stockholm
BEGIN:DAYLIGHT
TZOFFSETFROM:+0100
TZOFFSETTO:+0200
TZNAME:CEST
DTSTART:20240331T010000
END:DAYLIGHT
BEGIN:STANDARD
TZOFFSETFROM:+0200
TZOFFSETTO:+0100
TZNAME:CET
DTSTART:20241027T010000
END:STANDARD
BEGIN:DAYLIGHT
TZOFFSETFROM:+0100
TZOFFSETTO:+0200
TZNAME:CEST
DTSTART:20250330T010000
END:DAYLIGHT
BEGIN:STANDARD
TZOFFSETFROM:+0200
TZOFFSETTO:+0100
TZNAME:CET
DTSTART:20251026T010000
END:STANDARD
BEGIN:DAYLIGHT
TZOFFSETFROM:+0100
TZOFFSETTO:+0200
TZNAME:CEST
DTSTART:20260329T010000
END:DAYLIGHT
BEGIN:STANDARD
TZOFFSETFROM:+0200
TZOFFSETTO:+0100
TZNAME:CET
DTSTART:20261025T010000
END:STANDARD
END:VTIMEZONE
BEGIN:VEVENT
DTSTART;TZID=Europe/Stockholm:20250531T120000
DTEND;TZID=Europe/Stockholm:20250531T140000
DTSTAMP:20260420T134213
CREATED:20241210T122218Z
LAST-MODIFIED:20260326T133429Z
UID:14711-1748692800-1748700000@www.immanuel.se
SUMMARY:Lunch in Community
DESCRIPTION:Community Lunch\nA meeting place on Saturdays where a free lunch is served. \nLunch is served 12.00 – 14.00\, the premises close at 15.00. \nLunch i Gemenskap is a cooperation between Ny Gemenskap and different inner city churches (Immanuel Church\, S:t Matteus församling\, Frälsningsarmén\, Filadelfiakyrkan\, Adolf Fredriks musikklasser Maria Magdalena församling) Norrmalmskyrkan\, Hela människan Sthlms län.
URL:https://www.immanuel.se/en/calendar/lunch-in-community-7/
CATEGORIES:Care and Diaconal
END:VEVENT
BEGIN:VEVENT
DTSTART;TZID=Europe/Stockholm:20250601T093000
DTEND;TZID=Europe/Stockholm:20250601T103000
DTSTAMP:20260420T134213
CREATED:20241210T122737Z
LAST-MODIFIED:20241210T122847Z
UID:14714-1748770200-1748773800@www.immanuel.se
SUMMARY:Breakfast in Community
DESCRIPTION:Community Breakfast\nYou are warmly invited to join us for breakfast in Immanuel Church before the church Sunday services. \nWe open the church doors at 9:30 and breakfast will be served until 10:30. The breakfast is open to everyone and it is free.
URL:https://www.immanuel.se/en/calendar/breakfast-in-community-5/
END:VEVENT
BEGIN:VEVENT
DTSTART;TZID=Europe/Stockholm:20250601T110000
DTEND;TZID=Europe/Stockholm:20250601T120000
DTSTAMP:20260420T134213
CREATED:20250523T081316Z
LAST-MODIFIED:20260420T111539Z
UID:16767-1748775600-1748779200@www.immanuel.se
SUMMARY:Gudstjänst - på svenska
DESCRIPTION:Hjälparen kommer.\nPredikan: Esther Kazen\, Musik: Martin Åsander.\nKyrkkaffe serveras\, Barnkyrkan är öppen.\nVälkommen!
URL:https://www.immanuel.se/en/calendar/gudstjanst-pa-svenska-6/
LOCATION:Kyrksalen
END:VEVENT
BEGIN:VEVENT
DTSTART;TZID=Europe/Stockholm:20250601T110000
DTEND;TZID=Europe/Stockholm:20250601T123000
DTSTAMP:20260420T134213
CREATED:20241203T113215Z
LAST-MODIFIED:20250527T204257Z
UID:14288-1748775600-1748781000@www.immanuel.se
SUMMARY:Worship in English
DESCRIPTION:Jesus: The Way the Truth and the Life\nIsaiah 35\nJohn 14:1-11\nPastor Hugh Doyle
URL:https://www.immanuel.se/en/calendar/worship-in-english-18-2025-06-01/
CATEGORIES:English,Services
END:VEVENT
BEGIN:VEVENT
DTSTART;TZID=Europe/Stockholm:20250603T190000
DTEND;TZID=Europe/Stockholm:20250603T210000
DTSTAMP:20260420T134213
CREATED:20241210T101933Z
LAST-MODIFIED:20241210T101933Z
UID:14439-1748977200-1748984400@www.immanuel.se
SUMMARY:Young Adults Bible Study
DESCRIPTION:You are welcome to join the Young Adults group. We are a group of students and young professionals coming from all over the world with 3 desires : know more about Jesus\, become daily passionate followers of Christ and build a christian fellowship. Once a week\, we have discussions around the Bible and other community-building events are organized sporadically. Click here to read more. \n 
URL:https://www.immanuel.se/en/calendar/young-adults-bible-study/2025-06-03/
END:VEVENT
BEGIN:VEVENT
DTSTART;TZID=Europe/Stockholm:20250604T180000
DTEND;TZID=Europe/Stockholm:20250604T184000
DTSTAMP:20260420T134213
CREATED:20250523T081316Z
LAST-MODIFIED:20260420T111539Z
UID:16770-1749060000-1749062400@www.immanuel.se
SUMMARY:Onsdagsmässa - sista innan sommaren!
DESCRIPTION:Communion Service in swedish – Wednesdays at 18
URL:https://www.immanuel.se/en/calendar/onsdagsmassa-sista-innan-sommaren-2/
LOCATION:Kyrksalen
END:VEVENT
BEGIN:VEVENT
DTSTART;TZID=Europe/Stockholm:20250604T190000
DTEND;TZID=Europe/Stockholm:20250604T200000
DTSTAMP:20260420T134213
CREATED:20250602T131513Z
LAST-MODIFIED:20260420T111539Z
UID:16964-1749063600-1749067200@www.immanuel.se
SUMMARY:Mozarts första Opera- Musikskolan
DESCRIPTION:Konsert – Mozarts opera Bastien och Bastienne\n”Gammal kärlek rostar aldrig” \nVälkommen till en konsertant framförd version av Mozarts charmiga opera Bastien och Bastienne – en berättelse om kärlek\, svek och försoning. Verket är nyöversatt av Annelie Korsfeldt och framförs av elever och lärare vid Immanuel Musikskola. \nMozart skrev operan redan som 12-åring\, och den bjuder på en variationsrik musikupplevelse med inslag från flera stilar. \n📅Onsdag 4 juni kl. 19.00\n📍 Immanuelskyrkan\n🎟 Fri entré \nTa med vänner och familj och låt er föras in i Mozarts tidlösa musikaliska värld. \nVarmt välkomna!
URL:https://www.immanuel.se/en/calendar/mozarts-forsta-opera-musikskolan/
LOCATION:Waldenströmssalen
END:VEVENT
BEGIN:VEVENT
DTSTART;TZID=Europe/Stockholm:20250605T153000
DTEND;TZID=Europe/Stockholm:20250605T163000
DTSTAMP:20260420T134213
CREATED:20250527T071516Z
LAST-MODIFIED:20260420T111540Z
UID:16843-1749137400-1749141000@www.immanuel.se
SUMMARY:Shower Service
DESCRIPTION:The sports hall’s shower facilities are opened up in support of EU/EEA citizens. Towels are available. Basic hygiene products are included. Meeting point: main entrance on ground floor\, 15:30.
URL:https://www.immanuel.se/en/calendar/shower-service-4/
LOCATION:Sporthallen
CATEGORIES:Care and Diaconal
END:VEVENT
BEGIN:VEVENT
DTSTART;TZID=Europe/Stockholm:20250606T180000
DTEND;TZID=Europe/Stockholm:20250606T190000
DTSTAMP:20260420T134213
CREATED:20250523T081316Z
LAST-MODIFIED:20260420T111540Z
UID:16773-1749232800-1749236400@www.immanuel.se
SUMMARY:Nationaldagskonsert 6 juni kl 18.00
DESCRIPTION:National Day Concert\, June 6 at 6:00 PM \nImmanuel Nova invites you to the National Day Concert!  Welcome to celebrate\nthis day and our beautiful country. We are pleased to be performing with\nSebastian Mattebo and Björn Gäfvert this evening and the program will consist of\nfolk music\, jazz and classical choral music. \nWelcome! \nFri entrance \nImmanuel Nova \nSebastian Mattebo\, saxophone\nBjörn Gäfvert\, organ and piano\nRebecka Gustafsson\, conductor
URL:https://www.immanuel.se/en/calendar/nationaldagskonsert-6-juni-kl-18-00-2/
LOCATION:Kyrksalen
END:VEVENT
BEGIN:VEVENT
DTSTART;TZID=Europe/Stockholm:20250608T110000
DTEND;TZID=Europe/Stockholm:20250608T120000
DTSTAMP:20260420T134213
CREATED:20241210T123726Z
LAST-MODIFIED:20241210T123810Z
UID:14719-1749380400-1749384000@www.immanuel.se
SUMMARY:Joint service
DESCRIPTION:
URL:https://www.immanuel.se/en/calendar/joint-service-7/
CATEGORIES:English,Korean,Services,Swedish at 11
END:VEVENT
BEGIN:VEVENT
DTSTART;TZID=Europe/Stockholm:20250608T110000
DTEND;TZID=Europe/Stockholm:20250608T120000
DTSTAMP:20260420T134213
CREATED:20250523T081316Z
LAST-MODIFIED:20260420T111540Z
UID:16776-1749380400-1749384000@www.immanuel.se
SUMMARY:Joint Service
DESCRIPTION:Joint Service with Communion
URL:https://www.immanuel.se/en/calendar/joint-service-9/
LOCATION:Kyrksalen
END:VEVENT
BEGIN:VEVENT
DTSTART;TZID=Europe/Stockholm:20250610T190000
DTEND;TZID=Europe/Stockholm:20250610T210000
DTSTAMP:20260420T134213
CREATED:20241210T101933Z
LAST-MODIFIED:20241210T101933Z
UID:14440-1749582000-1749589200@www.immanuel.se
SUMMARY:Young Adults Bible Study
DESCRIPTION:You are welcome to join the Young Adults group. We are a group of students and young professionals coming from all over the world with 3 desires : know more about Jesus\, become daily passionate followers of Christ and build a christian fellowship. Once a week\, we have discussions around the Bible and other community-building events are organized sporadically. Click here to read more. \n 
URL:https://www.immanuel.se/en/calendar/young-adults-bible-study/2025-06-10/
END:VEVENT
BEGIN:VEVENT
DTSTART;TZID=Europe/Stockholm:20250612T153000
DTEND;TZID=Europe/Stockholm:20250612T163000
DTSTAMP:20260420T134213
CREATED:20250527T121515Z
LAST-MODIFIED:20260420T111540Z
UID:16849-1749742200-1749745800@www.immanuel.se
SUMMARY:Shower Service
DESCRIPTION:The sports hall’s shower facilities are opened up in support of EU/EEA citizens. Towels are available. Basic hygiene products are included. Meeting point: main entrance on ground floor\, 15:30.
URL:https://www.immanuel.se/en/calendar/shower-service-5/
LOCATION:Sporthallen
CATEGORIES:Care and Diaconal
END:VEVENT
BEGIN:VEVENT
DTSTART;TZID=Europe/Stockholm:20250612T183000
DTEND;TZID=Europe/Stockholm:20250612T210000
DTSTAMP:20260420T134213
CREATED:20241203T115910Z
LAST-MODIFIED:20250319T105024Z
UID:14372-1749753000-1749762000@www.immanuel.se
SUMMARY:Evening Bible Study
DESCRIPTION:Thursday evening Bible Study \nThe meeting starts from 18.30 for a light meal and 19.30 for the study.\nThe course is designed primarily for new and young Christians and all are welcome! \nPlease let Hugh know if you intend to come\, partly to know how much food is needed and also so that he can let you have a door code to be used if the main door is locked.
URL:https://www.immanuel.se/en/calendar/evening-bible-study/2025-06-12/
END:VEVENT
BEGIN:VEVENT
DTSTART;TZID=Europe/Stockholm:20250614T120000
DTEND;TZID=Europe/Stockholm:20250614T150000
DTSTAMP:20260420T134213
CREATED:20250523T081316Z
LAST-MODIFIED:20260420T111540Z
UID:16779-1749902400-1749913200@www.immanuel.se
SUMMARY:Lunch i gemenskap
DESCRIPTION:
URL:https://www.immanuel.se/en/calendar/lunch-i-gemenskap-15/
LOCATION:Kyrkplan
END:VEVENT
BEGIN:VEVENT
DTSTART;TZID=Europe/Stockholm:20250615T093000
DTEND;TZID=Europe/Stockholm:20250615T103000
DTSTAMP:20260420T134213
CREATED:20250522T140307Z
LAST-MODIFIED:20260420T111540Z
UID:16696-1749979800-1749983400@www.immanuel.se
SUMMARY:Frukost i gemenskap
DESCRIPTION:
URL:https://www.immanuel.se/en/calendar/lunch-i-gemenskap-14/
LOCATION:Kyrkplan
END:VEVENT
BEGIN:VEVENT
DTSTART;TZID=Europe/Stockholm:20250615T110000
DTEND;TZID=Europe/Stockholm:20250615T120000
DTSTAMP:20260420T134213
CREATED:20250522T140307Z
LAST-MODIFIED:20260420T111540Z
UID:16698-1749985200-1749988800@www.immanuel.se
SUMMARY:Gudstjänst - på svenska
DESCRIPTION:Gud – Fader\, Son och Ande\nPredikan: Carin Dernulf\nMusik:\nKyrkkaffe serveras\, barnkyrkan är öppen\nVälkommen!
URL:https://www.immanuel.se/en/calendar/frukost-i-gemenskap-5/
LOCATION:Kyrksalen
END:VEVENT
BEGIN:VEVENT
DTSTART;TZID=Europe/Stockholm:20250615T110000
DTEND;TZID=Europe/Stockholm:20250615T123000
DTSTAMP:20260420T134213
CREATED:20241203T113215Z
LAST-MODIFIED:20250603T124340Z
UID:14290-1749985200-1749990600@www.immanuel.se
SUMMARY:Worship in English
DESCRIPTION:Niklas Piensoho preaching
URL:https://www.immanuel.se/en/calendar/worship-in-english-18-2025-06-15/
CATEGORIES:English,Services
END:VEVENT
BEGIN:VEVENT
DTSTART;TZID=Europe/Stockholm:20250617T190000
DTEND;TZID=Europe/Stockholm:20250617T210000
DTSTAMP:20260420T134213
CREATED:20241210T101933Z
LAST-MODIFIED:20241210T101933Z
UID:14441-1750186800-1750194000@www.immanuel.se
SUMMARY:Young Adults Bible Study
DESCRIPTION:You are welcome to join the Young Adults group. We are a group of students and young professionals coming from all over the world with 3 desires : know more about Jesus\, become daily passionate followers of Christ and build a christian fellowship. Once a week\, we have discussions around the Bible and other community-building events are organized sporadically. Click here to read more. \n 
URL:https://www.immanuel.se/en/calendar/young-adults-bible-study/2025-06-17/
END:VEVENT
BEGIN:VEVENT
DTSTART;TZID=Europe/Stockholm:20250618T120000
DTEND;TZID=Europe/Stockholm:20250618T140000
DTSTAMP:20260420T134213
CREATED:20250523T081317Z
LAST-MODIFIED:20260420T111541Z
UID:16785-1750248000-1750255200@www.immanuel.se
SUMMARY:Summer days with the diaconal team - A Taste of Midsummer
DESCRIPTION:Welcome to a midsummer lunch including the traditional pickled herring and its side dishes. Senior Pastor Carin Dernulf will join us\, and we’ll talk about how the church can better include children and youth. Sign up by Friday\, June 13 by sending a message to to ulrika.grevin@immanuelskyrkan.se or call 08-587 503 20.
URL:https://www.immanuel.se/en/calendar/midsommarlunch-med-diakonin-2/
LOCATION:Kyrkplan
CATEGORIES:Care and Diaconal
END:VEVENT
BEGIN:VEVENT
DTSTART;TZID=Europe/Stockholm:20250619T153000
DTEND;TZID=Europe/Stockholm:20250619T163000
DTSTAMP:20260420T134213
CREATED:20250527T121515Z
LAST-MODIFIED:20260420T111541Z
UID:16851-1750347000-1750350600@www.immanuel.se
SUMMARY:Shower Service
DESCRIPTION:NOTE! – Last occasion before summer break.\nThe sports hall’s shower facilities are opened up in support of EU/EEA citizens. Towels are available. Basic hygiene products are included. Meeting point: main entrance on ground floor\, 15:30. \nRe-opening: Aug 7th\, 15:30.
URL:https://www.immanuel.se/en/calendar/shower-service-6/
LOCATION:Sports hall
CATEGORIES:Care and Diaconal
END:VEVENT
BEGIN:VEVENT
DTSTART;TZID=Europe/Stockholm:20250619T183000
DTEND;TZID=Europe/Stockholm:20250619T210000
DTSTAMP:20260420T134213
CREATED:20241203T115910Z
LAST-MODIFIED:20250319T105024Z
UID:14373-1750357800-1750366800@www.immanuel.se
SUMMARY:Evening Bible Study
DESCRIPTION:Thursday evening Bible Study \nThe meeting starts from 18.30 for a light meal and 19.30 for the study.\nThe course is designed primarily for new and young Christians and all are welcome! \nPlease let Hugh know if you intend to come\, partly to know how much food is needed and also so that he can let you have a door code to be used if the main door is locked.
URL:https://www.immanuel.se/en/calendar/evening-bible-study/2025-06-19/
END:VEVENT
BEGIN:VEVENT
DTSTART;TZID=Europe/Stockholm:20250622T110000
DTEND;TZID=Europe/Stockholm:20250622T120000
DTSTAMP:20260420T134213
CREATED:20250523T081317Z
LAST-MODIFIED:20260420T111541Z
UID:16788-1750590000-1750593600@www.immanuel.se
SUMMARY:Summer Service in Swedish
DESCRIPTION:Communion service
URL:https://www.immanuel.se/en/calendar/summer-service-in-swedish-3/
LOCATION:Kyrksalen
END:VEVENT
BEGIN:VEVENT
DTSTART;TZID=Europe/Stockholm:20250622T110000
DTEND;TZID=Europe/Stockholm:20250622T123000
DTSTAMP:20260420T134213
CREATED:20241203T113215Z
LAST-MODIFIED:20250603T125753Z
UID:14291-1750590000-1750595400@www.immanuel.se
SUMMARY:Worship in English
DESCRIPTION:Fruit of the spirit 1: Love\nPastor Hugh Doyle preaching
URL:https://www.immanuel.se/en/calendar/worship-in-english-18-2025-06-22/
CATEGORIES:English,Services
END:VEVENT
BEGIN:VEVENT
DTSTART;TZID=Europe/Stockholm:20250625T140000
DTEND;TZID=Europe/Stockholm:20250625T153000
DTSTAMP:20260420T134213
CREATED:20250523T091513Z
LAST-MODIFIED:20260420T111541Z
UID:16818-1750860000-1750865400@www.immanuel.se
SUMMARY:Summer days with the diaconal team - Summer Songs and Sweet Moments
DESCRIPTION:Come and enjoy a bouquet of summer songs performed by Stefan Sjöblom on vocals\nand guitar. Naturally\, we’ll also enjoy some fika (coffee and treats).
URL:https://www.immanuel.se/en/calendar/summer-days-with-the-diaconal-team-summer-songs-and-sweet-moments/
LOCATION:Kyrkplan
CATEGORIES:Care and Diaconal
END:VEVENT
BEGIN:VEVENT
DTSTART;TZID=Europe/Stockholm:20250629T110000
DTEND;TZID=Europe/Stockholm:20250629T120000
DTSTAMP:20260420T134213
CREATED:20250523T081317Z
LAST-MODIFIED:20260420T111541Z
UID:16793-1751194800-1751198400@www.immanuel.se
SUMMARY:Sommargudstjänst på svenska
DESCRIPTION:Välkommen till en lite enklare gudstjänst med nattvard\nPredikan\, textläsning\, musik och nattvard med enkelt sommarfika efteråt\nFestis och glass finns för barnen\, men tyvärr ingen barnaktivitet parallellt med gudstjänsten\nGudstjänsten sänds inte online\nKom gärna kl 10 om du vill hjälpa till med något!
URL:https://www.immanuel.se/en/calendar/sommargudstjanst-pa-svenska-6/
LOCATION:Kyrksalen
END:VEVENT
BEGIN:VEVENT
DTSTART;TZID=Europe/Stockholm:20250629T110000
DTEND;TZID=Europe/Stockholm:20250629T123000
DTSTAMP:20260420T134213
CREATED:20241203T113215Z
LAST-MODIFIED:20250603T125945Z
UID:14292-1751194800-1751200200@www.immanuel.se
SUMMARY:Worship in English
DESCRIPTION:Fruit of the spirit 2: Joy\nPastor Hugh Doyle preaching
URL:https://www.immanuel.se/en/calendar/worship-in-english-18-2025-06-29/
CATEGORIES:English,Services
END:VEVENT
BEGIN:VEVENT
DTSTART;TZID=Europe/Stockholm:20250702T140000
DTEND;TZID=Europe/Stockholm:20250702T153000
DTSTAMP:20260420T134213
CREATED:20250527T121516Z
LAST-MODIFIED:20260420T111541Z
UID:16853-1751464800-1751470200@www.immanuel.se
SUMMARY:Summer days with the diaconal team - Getting Tech-Savvy (with cake on the side)
DESCRIPTION:Are today’s phones\, tablets and computers a challenge to you? Our church technician Markus will be with us to talk about current technology and useful tools. Once we’re a little wiser\, we’ll enjoy some fika!
URL:https://www.immanuel.se/en/calendar/summer-days-with-the-diaconal-team-getting-tech-savvy-with-cake-on-the-side/
LOCATION:Kyrkplan
CATEGORIES:Care and Diaconal
END:VEVENT
BEGIN:VEVENT
DTSTART;TZID=Europe/Stockholm:20250706T110000
DTEND;TZID=Europe/Stockholm:20250706T120000
DTSTAMP:20260420T134213
CREATED:20250523T081317Z
LAST-MODIFIED:20260420T111542Z
UID:16796-1751799600-1751803200@www.immanuel.se
SUMMARY:Sommargudstjänst på svenska
DESCRIPTION:Välkommen till en lite enklare gudstjänst med nattvard\nPredikan\, textläsning\, musik och nattvard med enkelt sommarfika efteråt\nFestis och glass finns för barnen\, men tyvärr ingen barnaktivitet parallellt med gudstjänsten\nGudstjänsten sänds inte online\nKom gärna kl 10 om du vill hjälpa till med något! \nPredikan: Esther Kazen\nMusik: Göran Nygren
URL:https://www.immanuel.se/en/calendar/sommargudstjanst-pa-svenska-7/
LOCATION:Kyrksalen
END:VEVENT
BEGIN:VEVENT
DTSTART;TZID=Europe/Stockholm:20250706T110000
DTEND;TZID=Europe/Stockholm:20250706T123000
DTSTAMP:20260420T134213
CREATED:20241203T113215Z
LAST-MODIFIED:20250603T130200Z
UID:14293-1751799600-1751805000@www.immanuel.se
SUMMARY:Worship in English
DESCRIPTION:Fruit of the spirit 3: Peace\nPastor Hugh preaching
URL:https://www.immanuel.se/en/calendar/worship-in-english-18-2025-07-06/
CATEGORIES:English,Services
END:VEVENT
END:VCALENDAR