BEGIN:VCALENDAR
VERSION:2.0
PRODID:-//Immanuel Church - ECPv6.15.20//NONSGML v1.0//EN
CALSCALE:GREGORIAN
METHOD:PUBLISH
X-WR-CALNAME:Immanuel Church
X-ORIGINAL-URL:https://www.immanuel.se/en
X-WR-CALDESC:Events for Immanuel Church
REFRESH-INTERVAL;VALUE=DURATION:PT1H
X-Robots-Tag:noindex
X-PUBLISHED-TTL:PT1H
BEGIN:VTIMEZONE
TZID:Europe/Stockholm
BEGIN:DAYLIGHT
TZOFFSETFROM:+0100
TZOFFSETTO:+0200
TZNAME:CEST
DTSTART:20240331T010000
END:DAYLIGHT
BEGIN:STANDARD
TZOFFSETFROM:+0200
TZOFFSETTO:+0100
TZNAME:CET
DTSTART:20241027T010000
END:STANDARD
BEGIN:DAYLIGHT
TZOFFSETFROM:+0100
TZOFFSETTO:+0200
TZNAME:CEST
DTSTART:20250330T010000
END:DAYLIGHT
BEGIN:STANDARD
TZOFFSETFROM:+0200
TZOFFSETTO:+0100
TZNAME:CET
DTSTART:20251026T010000
END:STANDARD
BEGIN:DAYLIGHT
TZOFFSETFROM:+0100
TZOFFSETTO:+0200
TZNAME:CEST
DTSTART:20260329T010000
END:DAYLIGHT
BEGIN:STANDARD
TZOFFSETFROM:+0200
TZOFFSETTO:+0100
TZNAME:CET
DTSTART:20261025T010000
END:STANDARD
END:VTIMEZONE
BEGIN:VEVENT
DTSTART;TZID=Europe/Stockholm:20250625T140000
DTEND;TZID=Europe/Stockholm:20250625T153000
DTSTAMP:20260420T143652
CREATED:20250523T091513Z
LAST-MODIFIED:20260420T121538Z
UID:16818-1750860000-1750865400@www.immanuel.se
SUMMARY:Summer days with the diaconal team - Summer Songs and Sweet Moments
DESCRIPTION:Come and enjoy a bouquet of summer songs performed by Stefan Sjöblom on vocals\nand guitar. Naturally\, we’ll also enjoy some fika (coffee and treats).
URL:https://www.immanuel.se/en/calendar/summer-days-with-the-diaconal-team-summer-songs-and-sweet-moments/
LOCATION:Kyrkplan
CATEGORIES:Care and Diaconal
END:VEVENT
END:VCALENDAR