BEGIN:VCALENDAR
VERSION:2.0
PRODID:-//Immanuel Church - ECPv6.15.20//NONSGML v1.0//EN
CALSCALE:GREGORIAN
METHOD:PUBLISH
X-WR-CALNAME:Immanuel Church
X-ORIGINAL-URL:https://www.immanuel.se/en
X-WR-CALDESC:Events for Immanuel Church
REFRESH-INTERVAL;VALUE=DURATION:PT1H
X-Robots-Tag:noindex
X-PUBLISHED-TTL:PT1H
BEGIN:VTIMEZONE
TZID:Europe/Stockholm
BEGIN:DAYLIGHT
TZOFFSETFROM:+0100
TZOFFSETTO:+0200
TZNAME:CEST
DTSTART:20240331T010000
END:DAYLIGHT
BEGIN:STANDARD
TZOFFSETFROM:+0200
TZOFFSETTO:+0100
TZNAME:CET
DTSTART:20241027T010000
END:STANDARD
BEGIN:DAYLIGHT
TZOFFSETFROM:+0100
TZOFFSETTO:+0200
TZNAME:CEST
DTSTART:20250330T010000
END:DAYLIGHT
BEGIN:STANDARD
TZOFFSETFROM:+0200
TZOFFSETTO:+0100
TZNAME:CET
DTSTART:20251026T010000
END:STANDARD
BEGIN:DAYLIGHT
TZOFFSETFROM:+0100
TZOFFSETTO:+0200
TZNAME:CEST
DTSTART:20260329T010000
END:DAYLIGHT
BEGIN:STANDARD
TZOFFSETFROM:+0200
TZOFFSETTO:+0100
TZNAME:CET
DTSTART:20261025T010000
END:STANDARD
END:VTIMEZONE
BEGIN:VEVENT
DTSTART;TZID=Europe/Stockholm:20250608T110000
DTEND;TZID=Europe/Stockholm:20250608T120000
DTSTAMP:20260420T142706
CREATED:20241210T123726Z
LAST-MODIFIED:20241210T123810Z
UID:14719-1749380400-1749384000@www.immanuel.se
SUMMARY:Joint service
DESCRIPTION:
URL:https://www.immanuel.se/en/calendar/joint-service-7/
CATEGORIES:English,Korean,Services,Swedish at 11
END:VEVENT
BEGIN:VEVENT
DTSTART;TZID=Europe/Stockholm:20250608T110000
DTEND;TZID=Europe/Stockholm:20250608T120000
DTSTAMP:20260420T142706
CREATED:20250523T081316Z
LAST-MODIFIED:20260420T121537Z
UID:16776-1749380400-1749384000@www.immanuel.se
SUMMARY:Joint Service
DESCRIPTION:Joint Service with Communion
URL:https://www.immanuel.se/en/calendar/joint-service-9/
LOCATION:Kyrksalen
END:VEVENT
END:VCALENDAR