BEGIN:VCALENDAR
VERSION:2.0
PRODID:-//Immanuel Church - ECPv6.15.20//NONSGML v1.0//EN
CALSCALE:GREGORIAN
METHOD:PUBLISH
X-ORIGINAL-URL:https://www.immanuel.se/en
X-WR-CALDESC:Events for Immanuel Church
REFRESH-INTERVAL;VALUE=DURATION:PT1H
X-Robots-Tag:noindex
X-PUBLISHED-TTL:PT1H
BEGIN:VTIMEZONE
TZID:Europe/Stockholm
BEGIN:DAYLIGHT
TZOFFSETFROM:+0100
TZOFFSETTO:+0200
TZNAME:CEST
DTSTART:20240331T010000
END:DAYLIGHT
BEGIN:STANDARD
TZOFFSETFROM:+0200
TZOFFSETTO:+0100
TZNAME:CET
DTSTART:20241027T010000
END:STANDARD
BEGIN:DAYLIGHT
TZOFFSETFROM:+0100
TZOFFSETTO:+0200
TZNAME:CEST
DTSTART:20250330T010000
END:DAYLIGHT
BEGIN:STANDARD
TZOFFSETFROM:+0200
TZOFFSETTO:+0100
TZNAME:CET
DTSTART:20251026T010000
END:STANDARD
BEGIN:DAYLIGHT
TZOFFSETFROM:+0100
TZOFFSETTO:+0200
TZNAME:CEST
DTSTART:20260329T010000
END:DAYLIGHT
BEGIN:STANDARD
TZOFFSETFROM:+0200
TZOFFSETTO:+0100
TZNAME:CET
DTSTART:20261025T010000
END:STANDARD
END:VTIMEZONE
BEGIN:VEVENT
DTSTART;TZID=Europe/Stockholm:20250606T180000
DTEND;TZID=Europe/Stockholm:20250606T190000
DTSTAMP:20260420T143853
CREATED:20250523T081316Z
LAST-MODIFIED:20260420T121537Z
UID:16773-1749232800-1749236400@www.immanuel.se
SUMMARY:Nationaldagskonsert 6 juni kl 18.00
DESCRIPTION:National Day Concert\, June 6 at 6:00 PM \nImmanuel Nova invites you to the National Day Concert!  Welcome to celebrate\nthis day and our beautiful country. We are pleased to be performing with\nSebastian Mattebo and Björn Gäfvert this evening and the program will consist of\nfolk music\, jazz and classical choral music. \nWelcome! \nFri entrance \nImmanuel Nova \nSebastian Mattebo\, saxophone\nBjörn Gäfvert\, organ and piano\nRebecka Gustafsson\, conductor
URL:https://www.immanuel.se/en/calendar/nationaldagskonsert-6-juni-kl-18-00-2/
LOCATION:Kyrksalen
END:VEVENT
END:VCALENDAR