BEGIN:VCALENDAR
VERSION:2.0
PRODID:-//Immanuel Church - ECPv6.15.20//NONSGML v1.0//EN
CALSCALE:GREGORIAN
METHOD:PUBLISH
X-ORIGINAL-URL:https://www.immanuel.se/en
X-WR-CALDESC:Events for Immanuel Church
REFRESH-INTERVAL;VALUE=DURATION:PT1H
X-Robots-Tag:noindex
X-PUBLISHED-TTL:PT1H
BEGIN:VTIMEZONE
TZID:Europe/Stockholm
BEGIN:DAYLIGHT
TZOFFSETFROM:+0100
TZOFFSETTO:+0200
TZNAME:CEST
DTSTART:20240331T010000
END:DAYLIGHT
BEGIN:STANDARD
TZOFFSETFROM:+0200
TZOFFSETTO:+0100
TZNAME:CET
DTSTART:20241027T010000
END:STANDARD
BEGIN:DAYLIGHT
TZOFFSETFROM:+0100
TZOFFSETTO:+0200
TZNAME:CEST
DTSTART:20250330T010000
END:DAYLIGHT
BEGIN:STANDARD
TZOFFSETFROM:+0200
TZOFFSETTO:+0100
TZNAME:CET
DTSTART:20251026T010000
END:STANDARD
BEGIN:DAYLIGHT
TZOFFSETFROM:+0100
TZOFFSETTO:+0200
TZNAME:CEST
DTSTART:20260329T010000
END:DAYLIGHT
BEGIN:STANDARD
TZOFFSETFROM:+0200
TZOFFSETTO:+0100
TZNAME:CET
DTSTART:20261025T010000
END:STANDARD
END:VTIMEZONE
BEGIN:VEVENT
DTSTART;TZID=Europe/Stockholm:20250504T110000
DTEND;TZID=Europe/Stockholm:20250504T120000
DTSTAMP:20260420T135629
CREATED:20250523T081313Z
LAST-MODIFIED:20260420T111537Z
UID:16726-1746356400-1746360000@www.immanuel.se
SUMMARY:Gudstjänst - på svenska
DESCRIPTION:Den gode herden\nPredikan: Marco Helles\nMusik: Björn Gäfvert\nKyrkkaffe serveras\, barnkyrkan är inställd denna söndag\nVälkommen!
URL:https://www.immanuel.se/en/calendar/gudstjanst-pa-svenska-5/
LOCATION:Kyrksalen
END:VEVENT
BEGIN:VEVENT
DTSTART;TZID=Europe/Stockholm:20250504T110000
DTEND;TZID=Europe/Stockholm:20250504T123000
DTSTAMP:20260420T135629
CREATED:20241203T113215Z
LAST-MODIFIED:20250428T185139Z
UID:14283-1746356400-1746361800@www.immanuel.se
SUMMARY:Worship in English
DESCRIPTION:Jesus: The Bread of Life\nExodus 16:11-18 & John 6:25-35\nPastor Hugh preaching
URL:https://www.immanuel.se/en/calendar/worship-in-english-18-2025-05-04/
CATEGORIES:English,Services
END:VEVENT
BEGIN:VEVENT
DTSTART;TZID=Europe/Stockholm:20250504T133000
DTEND;TZID=Europe/Stockholm:20250504T153000
DTSTAMP:20260420T135629
CREATED:20250319T104130Z
LAST-MODIFIED:20250319T104130Z
UID:16131-1746365400-1746372600@www.immanuel.se
SUMMARY:Parent-child communication workshop (in English)
DESCRIPTION:4 May 2025 from 13.30 to 15.30\nVenue: Immanuelskyrkan Congressen\nStrengthening Parent-Child Communication; Relationship Building\nEffective communication is key to a strong\, loving parent-child\nrelationship. This workshop will equip you with insights and practical\nstrategies to foster trust\, understanding\, and deeper connections\nwith your child. Join us for an interactive session designed to help\nyou create a home filled with love and open communication.
URL:https://www.immanuel.se/en/calendar/parent-child-communication-workshop-in-english/
END:VEVENT
END:VCALENDAR