BEGIN:VCALENDAR
VERSION:2.0
PRODID:-//Immanuelskyrkan - ECPv6.15.20//NONSGML v1.0//EN
CALSCALE:GREGORIAN
METHOD:PUBLISH
X-ORIGINAL-URL:https://www.immanuel.se
X-WR-CALDESC:Händelser för Immanuelskyrkan
REFRESH-INTERVAL;VALUE=DURATION:PT1H
X-Robots-Tag:noindex
X-PUBLISHED-TTL:PT1H
BEGIN:VTIMEZONE
TZID:Europe/Stockholm
BEGIN:DAYLIGHT
TZOFFSETFROM:+0100
TZOFFSETTO:+0200
TZNAME:CEST
DTSTART:20250330T010000
END:DAYLIGHT
BEGIN:STANDARD
TZOFFSETFROM:+0200
TZOFFSETTO:+0100
TZNAME:CET
DTSTART:20251026T010000
END:STANDARD
BEGIN:DAYLIGHT
TZOFFSETFROM:+0100
TZOFFSETTO:+0200
TZNAME:CEST
DTSTART:20260329T010000
END:DAYLIGHT
BEGIN:STANDARD
TZOFFSETFROM:+0200
TZOFFSETTO:+0100
TZNAME:CET
DTSTART:20261025T010000
END:STANDARD
BEGIN:DAYLIGHT
TZOFFSETFROM:+0100
TZOFFSETTO:+0200
TZNAME:CEST
DTSTART:20270328T010000
END:DAYLIGHT
BEGIN:STANDARD
TZOFFSETFROM:+0200
TZOFFSETTO:+0100
TZNAME:CET
DTSTART:20271031T010000
END:STANDARD
END:VTIMEZONE
BEGIN:VEVENT
DTSTART;TZID=Europe/Stockholm:20260602T153000
DTEND;TZID=Europe/Stockholm:20260602T183000
DTSTAMP:20260423T225803
CREATED:20260105T131617Z
LAST-MODIFIED:20260331T081432Z
UID:30250-1780414200-1780425000@www.immanuel.se
SUMMARY:HQ - 0-9 år
DESCRIPTION:Holy Quarters\nVälkommen till HQ – Holy Quarters\, vår öppna efter-skola-verksamhet på Källarplan 3 i Immanuelskyrkan.\nHär finns plats för lek\, skapande\, musik\, sport\, mellis\, läxhjälp och gemenskap – mitt i stan\, mitt i veckan.\nAllt är gratis och ingen anmälan krävs. Kom som du är! \nEn trygg och lekfull eftermiddag med idrott\, pyssel\, musik\, mellis och mys. Perfekt för små upptäckare och deras föräldrar.
URL:https://www.immanuel.se/calendar/hq-0-9-ar-23/
LOCATION:K3
CATEGORIES:Barn & unga
END:VEVENT
BEGIN:VEVENT
DTSTART;TZID=Europe/Stockholm:20260603T153000
DTEND;TZID=Europe/Stockholm:20260603T183000
DTSTAMP:20260423T225803
CREATED:20260105T131617Z
LAST-MODIFIED:20260331T081432Z
UID:30252-1780500600-1780511400@www.immanuel.se
SUMMARY:HQ - 13-18 år
DESCRIPTION:Holy Quarters\nVälkommen till HQ – Holy Quarters\, vår öppna efter-skola-verksamhet på Källarplan 3 i Immanuelskyrkan.\nHär finns plats för lek\, skapande\, musik\, sport\, mellis\, läxhjälp och gemenskap – mitt i stan\, mitt i veckan.\nAllt är gratis och ingen anmälan krävs. Kom som du är! \nEtt avslappnat häng med musik\, sport\, skapande\, mellis och pluggmöjligheter – där du får vara dig själv\, träffa nya vänner och hitta din plats.
URL:https://www.immanuel.se/calendar/hq-13-18-ar-23/
LOCATION:K3
CATEGORIES:Barn & unga
END:VEVENT
BEGIN:VEVENT
DTSTART;TZID=Europe/Stockholm:20260604T153000
DTEND;TZID=Europe/Stockholm:20260604T183000
DTSTAMP:20260423T225803
CREATED:20260105T131617Z
LAST-MODIFIED:20260331T081432Z
UID:30254-1780587000-1780597800@www.immanuel.se
SUMMARY:HQ - 10-12 år
DESCRIPTION:Holy Quarters\nVälkommen till HQ – Holy Quarters\, vår öppna efter-skola-verksamhet på Källarplan 3 i Immanuelskyrkan.\nHär finns plats för lek\, skapande\, musik\, sport\, mellis\, läxhjälp och gemenskap – mitt i stan\, mitt i veckan.\nAllt är gratis och ingen anmälan krävs. Kom som du är! \nEn kreativ och aktiv plats efter skolan med sport\, skapande\, musikrum\, mellis och läxhjälp – för dig som vill hänga med kompisar och testa nya saker.
URL:https://www.immanuel.se/calendar/hq-10-12-ar-23/
LOCATION:K3
CATEGORIES:Barn & unga
END:VEVENT
BEGIN:VEVENT
DTSTART;TZID=Europe/Stockholm:20260606T120000
DTEND;TZID=Europe/Stockholm:20260606T140000
DTSTAMP:20260423T225803
CREATED:20260222T131607Z
LAST-MODIFIED:20260331T081432Z
UID:31808-1780747200-1780754400@www.immanuel.se
SUMMARY:Lunch i Gemenskap
DESCRIPTION:
URL:https://www.immanuel.se/calendar/lunch-i-gemenskap-51/
LOCATION:Kyrkplan
CATEGORIES:Diakoni
END:VEVENT
BEGIN:VEVENT
DTSTART;TZID=Europe/Stockholm:20260606T150000
DTEND;TZID=Europe/Stockholm:20260606T161500
DTSTAMP:20260423T225804
CREATED:20260203T141630Z
LAST-MODIFIED:20260331T081432Z
UID:30964-1780758000-1780762500@www.immanuel.se
SUMMARY:Nationaldagskonsert
DESCRIPTION:Välkommen att fira Nationaldagen i Immanuelskyrkan! \nMedverkande:\nImmanuel Nova och Ungdomskören\nRebecka Gustafsson och Therése Börjesson
URL:https://www.immanuel.se/calendar/nationaldagskonsert-5/
CATEGORIES:Konsert
END:VEVENT
BEGIN:VEVENT
DTSTART;TZID=Europe/Stockholm:20260607T093000
DTEND;TZID=Europe/Stockholm:20260607T103000
DTSTAMP:20260423T225804
CREATED:20260222T131607Z
LAST-MODIFIED:20260331T081432Z
UID:31810-1780824600-1780828200@www.immanuel.se
SUMMARY:Frukost i Gemenskap
DESCRIPTION:
URL:https://www.immanuel.se/calendar/frukost-i-gemenskap-24/
LOCATION:Kyrkplan
CATEGORIES:Diakoni
END:VEVENT
BEGIN:VEVENT
DTSTART;TZID=Europe/Stockholm:20260607T101500
DTEND;TZID=Europe/Stockholm:20260607T105000
DTSTAMP:20260423T225804
CREATED:20260105T101612Z
LAST-MODIFIED:20260331T081432Z
UID:30124-1780827300-1780829400@www.immanuel.se
SUMMARY:Kör-lek
DESCRIPTION:Välkommen att lära känna fler barnfamiljer i Immanuelskyrkan! Vi sjunger\, leker och har trevligt tillsammans. Kl. 10.50 bjuds på frukt\, och därefter finns möjlighet att gå vidare till någon av församlingens tre gudstjänster.
URL:https://www.immanuel.se/calendar/kor-lek-23/
LOCATION:Kapellet
CATEGORIES:Barn & unga
END:VEVENT
BEGIN:VEVENT
DTSTART;TZID=Europe/Stockholm:20260607T110000
DTEND;TZID=Europe/Stockholm:20260607T120000
DTSTAMP:20260423T225804
CREATED:20251230T224546Z
LAST-MODIFIED:20260331T081432Z
UID:29992-1780830000-1780833600@www.immanuel.se
SUMMARY:Gudstjänst på svenska
DESCRIPTION:
URL:https://www.immanuel.se/calendar/gudstjanst-pa-svenska-83/
LOCATION:Kyrksalen
CATEGORIES:Gudstjänst
END:VEVENT
END:VCALENDAR