BEGIN:VCALENDAR
VERSION:2.0
PRODID:-//Immanuelskyrkan - ECPv6.15.20//NONSGML v1.0//EN
CALSCALE:GREGORIAN
METHOD:PUBLISH
X-WR-CALNAME:Immanuelskyrkan
X-ORIGINAL-URL:https://www.immanuel.se
X-WR-CALDESC:Händelser för Immanuelskyrkan
REFRESH-INTERVAL;VALUE=DURATION:PT1H
X-Robots-Tag:noindex
X-PUBLISHED-TTL:PT1H
BEGIN:VTIMEZONE
TZID:Europe/Stockholm
BEGIN:DAYLIGHT
TZOFFSETFROM:+0100
TZOFFSETTO:+0200
TZNAME:CEST
DTSTART:20250330T010000
END:DAYLIGHT
BEGIN:STANDARD
TZOFFSETFROM:+0200
TZOFFSETTO:+0100
TZNAME:CET
DTSTART:20251026T010000
END:STANDARD
BEGIN:DAYLIGHT
TZOFFSETFROM:+0100
TZOFFSETTO:+0200
TZNAME:CEST
DTSTART:20260329T010000
END:DAYLIGHT
BEGIN:STANDARD
TZOFFSETFROM:+0200
TZOFFSETTO:+0100
TZNAME:CET
DTSTART:20261025T010000
END:STANDARD
BEGIN:DAYLIGHT
TZOFFSETFROM:+0100
TZOFFSETTO:+0200
TZNAME:CEST
DTSTART:20270328T010000
END:DAYLIGHT
BEGIN:STANDARD
TZOFFSETFROM:+0200
TZOFFSETTO:+0100
TZNAME:CET
DTSTART:20271031T010000
END:STANDARD
END:VTIMEZONE
BEGIN:VEVENT
DTSTART;TZID=Europe/Stockholm:20260223T120000
DTEND;TZID=Europe/Stockholm:20260223T130000
DTSTAMP:20260425T144347
CREATED:20260112T111609Z
LAST-MODIFIED:20260425T121630Z
UID:10006136-1771848000-1771851600@www.immanuel.se
SUMMARY:Lunchkonsert
DESCRIPTION:“Romantiska pärlor för piano”\nBengt Eklund\, piano
URL:https://www.immanuel.se/calendar/lunchkonsert-27/
LOCATION:Kyrksalen
CATEGORIES:Konsert
END:VEVENT
BEGIN:VEVENT
DTSTART;TZID=Europe/Stockholm:20260223T130000
DTEND;TZID=Europe/Stockholm:20260223T153000
DTSTAMP:20260425T144347
CREATED:20260205T131609Z
LAST-MODIFIED:20260425T121630Z
UID:10006187-1771851600-1771860600@www.immanuel.se
SUMMARY:Stickcafé
DESCRIPTION:
URL:https://www.immanuel.se/calendar/stickcafe-19/
LOCATION:Kyrkplan
CATEGORIES:Hantverk
END:VEVENT
BEGIN:VEVENT
DTSTART;TZID=Europe/Stockholm:20260224T130000
DTEND;TZID=Europe/Stockholm:20260224T150000
DTSTAMP:20260425T144347
CREATED:20260115T152252Z
LAST-MODIFIED:20260115T152416Z
UID:10006148-1771938000-1771945200@www.immanuel.se
SUMMARY:Tisdagsträffen
DESCRIPTION:Är du dagledig och intresserad av kultur\, teologi\, kyrka och samhälle? Då erbjuder Immanuel Senior ett varierat program. Öppet för alla oavsett livsåskådning. Välkommen in i gemenskapen! \nSe vårens fulla program här
URL:https://www.immanuel.se/calendar/tisdagstraffen-53/2026-02-24/
LOCATION:Waldenströmssalen
CATEGORIES:Senior
END:VEVENT
BEGIN:VEVENT
DTSTART;TZID=Europe/Stockholm:20260224T153000
DTEND;TZID=Europe/Stockholm:20260224T183000
DTSTAMP:20260425T144347
CREATED:20260105T131609Z
LAST-MODIFIED:20260425T121631Z
UID:10006085-1771947000-1771957800@www.immanuel.se
SUMMARY:HQ - 0-9 år
DESCRIPTION:Holy Quarters\nVälkommen till HQ – Holy Quarters\, vår öppna efter-skola-verksamhet på Källarplan 3 i Immanuelskyrkan.\nHär finns plats för lek\, skapande\, musik\, sport\, mellis\, läxhjälp och gemenskap – mitt i stan\, mitt i veckan.\nAllt är gratis och ingen anmälan krävs. Kom som du är! \nEn trygg och lekfull eftermiddag med idrott\, pyssel\, musik\, mellis och mys. Perfekt för små upptäckare och deras föräldrar.
URL:https://www.immanuel.se/calendar/hq-0-9-ar-9/
LOCATION:K3
CATEGORIES:Barn & unga
END:VEVENT
BEGIN:VEVENT
DTSTART;TZID=Europe/Stockholm:20260224T190000
DTEND;TZID=Europe/Stockholm:20260224T210000
DTSTAMP:20260425T144347
CREATED:20251216T145057Z
LAST-MODIFIED:20251216T145524Z
UID:10005971-1771959600-1771966800@www.immanuel.se
SUMMARY:Bibelstudium för unga vuxna
DESCRIPTION:Du är varmt välkommen att gå med i Young Adults-gruppen.\nVi är en grupp studenter och unga yrkesverksamma från\nhela världen med tre önskningar: att lära känna Jesus bättre\,\natt bli passionerade efterföljare av Kristus i vardagen och\natt bygga en kristen gemenskap. En gång i veckan har vi samtal\noch diskussioner kring Bibeln. Denna grupp hålls på engelska. \nClick here to read more.
URL:https://www.immanuel.se/calendar/bibelstudium-for-unga-vuxna-3/2026-02-24/
END:VEVENT
BEGIN:VEVENT
DTSTART;TZID=Europe/Stockholm:20260225T153000
DTEND;TZID=Europe/Stockholm:20260225T183000
DTSTAMP:20260425T144347
CREATED:20260105T131609Z
LAST-MODIFIED:20260425T121631Z
UID:10006086-1772033400-1772044200@www.immanuel.se
SUMMARY:HQ - 13-18 år
DESCRIPTION:Holy Quarters\nVälkommen till HQ – Holy Quarters\, vår öppna efter-skola-verksamhet på Källarplan 3 i Immanuelskyrkan.\nHär finns plats för lek\, skapande\, musik\, sport\, mellis\, läxhjälp och gemenskap – mitt i stan\, mitt i veckan.\nAllt är gratis och ingen anmälan krävs. Kom som du är! \nEtt avslappnat häng med musik\, sport\, skapande\, mellis och pluggmöjligheter – där du får vara dig själv\, träffa nya vänner och hitta din plats.
URL:https://www.immanuel.se/calendar/hq-13-18-ar-9/
LOCATION:K3
CATEGORIES:Barn & unga
END:VEVENT
BEGIN:VEVENT
DTSTART;TZID=Europe/Stockholm:20260225T180000
DTEND;TZID=Europe/Stockholm:20260225T190000
DTSTAMP:20260425T144347
CREATED:20251230T224543Z
LAST-MODIFIED:20260425T121631Z
UID:10006022-1772042400-1772046000@www.immanuel.se
SUMMARY:Onsdagsmässan
DESCRIPTION:
URL:https://www.immanuel.se/calendar/onsdagsmassan-22/
LOCATION:Kapellet
CATEGORIES:Andakter
END:VEVENT
BEGIN:VEVENT
DTSTART;TZID=Europe/Stockholm:20260225T190000
DTEND;TZID=Europe/Stockholm:20260225T210000
DTSTAMP:20260425T144347
CREATED:20251230T224543Z
LAST-MODIFIED:20260425T121631Z
UID:10006023-1772046000-1772053200@www.immanuel.se
SUMMARY:After Worship
DESCRIPTION:Existens
URL:https://www.immanuel.se/calendar/after-worship-12/
LOCATION:K3
CATEGORIES:Unga Vuxna
END:VEVENT
BEGIN:VEVENT
DTSTART;TZID=Europe/Stockholm:20260226T153000
DTEND;TZID=Europe/Stockholm:20260226T183000
DTSTAMP:20260425T144347
CREATED:20260105T131609Z
LAST-MODIFIED:20260425T121631Z
UID:10006087-1772119800-1772130600@www.immanuel.se
SUMMARY:HQ - 10-12 år
DESCRIPTION:Holy Quarters\nVälkommen till HQ – Holy Quarters\, vår öppna efter-skola-verksamhet på Källarplan 3 i Immanuelskyrkan.\nHär finns plats för lek\, skapande\, musik\, sport\, mellis\, läxhjälp och gemenskap – mitt i stan\, mitt i veckan.\nAllt är gratis och ingen anmälan krävs. Kom som du är! \nEn kreativ och aktiv plats efter skolan med sport\, skapande\, musikrum\, mellis och läxhjälp – för dig som vill hänga med kompisar och testa nya saker.
URL:https://www.immanuel.se/calendar/hq-10-12-ar-9/
LOCATION:K3
CATEGORIES:Barn & unga
END:VEVENT
BEGIN:VEVENT
DTSTART;TZID=Europe/Stockholm:20260228T120000
DTEND;TZID=Europe/Stockholm:20260228T140000
DTSTAMP:20260425T144347
CREATED:20260125T151605Z
LAST-MODIFIED:20260425T121631Z
UID:10006162-1772280000-1772287200@www.immanuel.se
SUMMARY:Lunch i Gemenskap
DESCRIPTION:
URL:https://www.immanuel.se/calendar/lunch-i-gemenskap-49/
LOCATION:Kyrkplan
CATEGORIES:Diakoni
END:VEVENT
BEGIN:VEVENT
DTSTART;TZID=Europe/Stockholm:20260301T093000
DTEND;TZID=Europe/Stockholm:20260301T103000
DTSTAMP:20260425T144347
CREATED:20260222T101604Z
LAST-MODIFIED:20260425T121631Z
UID:10006200-1772357400-1772361000@www.immanuel.se
SUMMARY:Frukost i Gemenskap
DESCRIPTION:
URL:https://www.immanuel.se/calendar/frukost-i-gemenskap-23/
CATEGORIES:Diakoni
END:VEVENT
BEGIN:VEVENT
DTSTART;TZID=Europe/Stockholm:20260301T101500
DTEND;TZID=Europe/Stockholm:20260301T105000
DTSTAMP:20260425T144347
CREATED:20260105T101609Z
LAST-MODIFIED:20260425T121631Z
UID:10006050-1772360100-1772362200@www.immanuel.se
SUMMARY:Kör-lek
DESCRIPTION:Välkommen att lära känna fler barnfamiljer i Immanuelskyrkan! Vi sjunger\, leker och har trevligt tillsammans. Kl. 10.50 bjuds på frukt\, och därefter finns möjlighet att gå vidare till någon av församlingens tre gudstjänster.
URL:https://www.immanuel.se/calendar/kor-lek-9/
LOCATION:Kapellet
CATEGORIES:Barn & unga
END:VEVENT
BEGIN:VEVENT
DTSTART;TZID=Europe/Stockholm:20260301T110000
DTEND;TZID=Europe/Stockholm:20260301T120000
DTSTAMP:20260425T144347
CREATED:20241112T150700Z
LAST-MODIFIED:20260114T100248Z
UID:10005155-1772362800-1772366400@www.immanuel.se
SUMMARY:Gudstjänst på Koreanska
DESCRIPTION:
URL:https://www.immanuel.se/calendar/gudstjanst-pa-koreanska-2/2026-03-01/
CATEGORIES:Svenska kl 11
END:VEVENT
BEGIN:VEVENT
DTSTART;TZID=Europe/Stockholm:20260301T110000
DTEND;TZID=Europe/Stockholm:20260301T120000
DTSTAMP:20260425T144347
CREATED:20251230T224543Z
LAST-MODIFIED:20260425T121631Z
UID:10006024-1772362800-1772366400@www.immanuel.se
SUMMARY:Gudstjänst på svenska
DESCRIPTION:Söndag 1 mars kl 11 Gudstjänst på svenska\nTema: Den kämpande tron\n2:a sön i fastan\nPredikan: Charlotte Höglund\nMusik: Martin Åsander Björn Gäfvert och Berit Ekespong\nBarnkyrkan är öppen\, Kyrkkaffe serveras
URL:https://www.immanuel.se/calendar/gudstjanst-pa-svenska-69/
LOCATION:Kyrksalen
CATEGORIES:Gudstjänst
END:VEVENT
BEGIN:VEVENT
DTSTART;TZID=Europe/Stockholm:20260301T110000
DTEND;TZID=Europe/Stockholm:20260301T123000
DTSTAMP:20260425T144347
CREATED:20260224T131735Z
LAST-MODIFIED:20260224T131835Z
UID:10006207-1772362800-1772368200@www.immanuel.se
SUMMARY:Gudstjänst på engelska
DESCRIPTION:Jesaja 35:1–10Johannes 6:1–15 \nPastor Hugh Doyle predikar
URL:https://www.immanuel.se/calendar/gudstjanst-pa-engelska-153/
END:VEVENT
END:VCALENDAR