BEGIN:VCALENDAR
VERSION:2.0
PRODID:-//Immanuelskyrkan - ECPv6.15.20//NONSGML v1.0//EN
CALSCALE:GREGORIAN
METHOD:PUBLISH
X-WR-CALNAME:Immanuelskyrkan
X-ORIGINAL-URL:https://www.immanuel.se
X-WR-CALDESC:Händelser för Immanuelskyrkan
REFRESH-INTERVAL;VALUE=DURATION:PT1H
X-Robots-Tag:noindex
X-PUBLISHED-TTL:PT1H
BEGIN:VTIMEZONE
TZID:Europe/Stockholm
BEGIN:DAYLIGHT
TZOFFSETFROM:+0100
TZOFFSETTO:+0200
TZNAME:CEST
DTSTART:20250330T010000
END:DAYLIGHT
BEGIN:STANDARD
TZOFFSETFROM:+0200
TZOFFSETTO:+0100
TZNAME:CET
DTSTART:20251026T010000
END:STANDARD
BEGIN:DAYLIGHT
TZOFFSETFROM:+0100
TZOFFSETTO:+0200
TZNAME:CEST
DTSTART:20260329T010000
END:DAYLIGHT
BEGIN:STANDARD
TZOFFSETFROM:+0200
TZOFFSETTO:+0100
TZNAME:CET
DTSTART:20261025T010000
END:STANDARD
BEGIN:DAYLIGHT
TZOFFSETFROM:+0100
TZOFFSETTO:+0200
TZNAME:CEST
DTSTART:20270328T010000
END:DAYLIGHT
BEGIN:STANDARD
TZOFFSETFROM:+0200
TZOFFSETTO:+0100
TZNAME:CET
DTSTART:20271031T010000
END:STANDARD
END:VTIMEZONE
BEGIN:VEVENT
DTSTART;TZID=Europe/Stockholm:20260216T120000
DTEND;TZID=Europe/Stockholm:20260216T130000
DTSTAMP:20260425T145805
CREATED:20260112T111608Z
LAST-MODIFIED:20260425T121630Z
UID:10006135-1771243200-1771246800@www.immanuel.se
SUMMARY:Lunchkonsert
DESCRIPTION:Richard Wagner – Gustaf Nordqvist\nMargareta Gäfvert\, sång\nBjörn Gäfvert\, piano
URL:https://www.immanuel.se/calendar/lunchkonsert-26/
LOCATION:Kyrksalen
CATEGORIES:Konsert
END:VEVENT
BEGIN:VEVENT
DTSTART;TZID=Europe/Stockholm:20260217T130000
DTEND;TZID=Europe/Stockholm:20260217T150000
DTSTAMP:20260425T145805
CREATED:20260115T152252Z
LAST-MODIFIED:20260115T152416Z
UID:10006147-1771333200-1771340400@www.immanuel.se
SUMMARY:Tisdagsträffen
DESCRIPTION:Är du dagledig och intresserad av kultur\, teologi\, kyrka och samhälle? Då erbjuder Immanuel Senior ett varierat program. Öppet för alla oavsett livsåskådning. Välkommen in i gemenskapen! \nSe vårens fulla program här
URL:https://www.immanuel.se/calendar/tisdagstraffen-53/2026-02-17/
LOCATION:Waldenströmssalen
CATEGORIES:Senior
END:VEVENT
BEGIN:VEVENT
DTSTART;TZID=Europe/Stockholm:20260217T153000
DTEND;TZID=Europe/Stockholm:20260217T183000
DTSTAMP:20260425T145805
CREATED:20260105T131608Z
LAST-MODIFIED:20260425T121630Z
UID:10006082-1771342200-1771353000@www.immanuel.se
SUMMARY:HQ - 0-9 år
DESCRIPTION:Holy Quarters\nVälkommen till HQ – Holy Quarters\, vår öppna efter-skola-verksamhet på Källarplan 3 i Immanuelskyrkan.\nHär finns plats för lek\, skapande\, musik\, sport\, mellis\, läxhjälp och gemenskap – mitt i stan\, mitt i veckan.\nAllt är gratis och ingen anmälan krävs. Kom som du är! \nEn trygg och lekfull eftermiddag med idrott\, pyssel\, musik\, mellis och mys. Perfekt för små upptäckare och deras föräldrar.
URL:https://www.immanuel.se/calendar/hq-0-9-ar-8/
LOCATION:K3
CATEGORIES:Barn & unga
END:VEVENT
BEGIN:VEVENT
DTSTART;TZID=Europe/Stockholm:20260217T190000
DTEND;TZID=Europe/Stockholm:20260217T210000
DTSTAMP:20260425T145805
CREATED:20251216T145057Z
LAST-MODIFIED:20251216T145524Z
UID:10005970-1771354800-1771362000@www.immanuel.se
SUMMARY:Bibelstudium för unga vuxna
DESCRIPTION:Du är varmt välkommen att gå med i Young Adults-gruppen.\nVi är en grupp studenter och unga yrkesverksamma från\nhela världen med tre önskningar: att lära känna Jesus bättre\,\natt bli passionerade efterföljare av Kristus i vardagen och\natt bygga en kristen gemenskap. En gång i veckan har vi samtal\noch diskussioner kring Bibeln. Denna grupp hålls på engelska. \nClick here to read more.
URL:https://www.immanuel.se/calendar/bibelstudium-for-unga-vuxna-3/2026-02-17/
END:VEVENT
BEGIN:VEVENT
DTSTART;TZID=Europe/Stockholm:20260218T153000
DTEND;TZID=Europe/Stockholm:20260218T183000
DTSTAMP:20260425T145805
CREATED:20260105T131608Z
LAST-MODIFIED:20260425T121630Z
UID:10006083-1771428600-1771439400@www.immanuel.se
SUMMARY:HQ - 13-18 år
DESCRIPTION:Holy Quarters\nVälkommen till HQ – Holy Quarters\, vår öppna efter-skola-verksamhet på Källarplan 3 i Immanuelskyrkan.\nHär finns plats för lek\, skapande\, musik\, sport\, mellis\, läxhjälp och gemenskap – mitt i stan\, mitt i veckan.\nAllt är gratis och ingen anmälan krävs. Kom som du är! \nEtt avslappnat häng med musik\, sport\, skapande\, mellis och pluggmöjligheter – där du får vara dig själv\, träffa nya vänner och hitta din plats.
URL:https://www.immanuel.se/calendar/hq-13-18-ar-8/
LOCATION:K3
CATEGORIES:Barn & unga
END:VEVENT
BEGIN:VEVENT
DTSTART;TZID=Europe/Stockholm:20260218T180000
DTEND;TZID=Europe/Stockholm:20260218T190000
DTSTAMP:20260425T145805
CREATED:20251230T224542Z
LAST-MODIFIED:20260425T121630Z
UID:10006018-1771437600-1771441200@www.immanuel.se
SUMMARY:Onsdagsmässan
DESCRIPTION:
URL:https://www.immanuel.se/calendar/onsdagsmassan-21/
LOCATION:Kapellet
CATEGORIES:Andakter
END:VEVENT
BEGIN:VEVENT
DTSTART;TZID=Europe/Stockholm:20260218T190000
DTEND;TZID=Europe/Stockholm:20260218T210000
DTSTAMP:20260425T145805
CREATED:20251230T224542Z
LAST-MODIFIED:20260425T121630Z
UID:10006019-1771441200-1771448400@www.immanuel.se
SUMMARY:After Worship
DESCRIPTION:Existens
URL:https://www.immanuel.se/calendar/after-worship-11/
LOCATION:K3
CATEGORIES:Unga Vuxna
END:VEVENT
BEGIN:VEVENT
DTSTART;TZID=Europe/Stockholm:20260219T094500
DTEND;TZID=Europe/Stockholm:20260219T114500
DTSTAMP:20260425T145805
CREATED:20241211T105757Z
LAST-MODIFIED:20241211T132929Z
UID:10005417-1771494300-1771501500@www.immanuel.se
SUMMARY:Kvinnors bibelstudiegrupp
DESCRIPTION:Torsdagsmorgnar • 09.45–11.45 • Ungdomsrummet\, nivå K1 \nAlla kvinnor som längtar efter gemenskap med andra kvinnor genom att studera Guds ord är välkomna.\nOm du har några frågor\, vänligen kontakta: Rosemary
URL:https://www.immanuel.se/calendar/kvinnors-bibelstudiegrupp/2026-02-19/
END:VEVENT
BEGIN:VEVENT
DTSTART;TZID=Europe/Stockholm:20260219T153000
DTEND;TZID=Europe/Stockholm:20260219T183000
DTSTAMP:20260425T145805
CREATED:20260105T131608Z
LAST-MODIFIED:20260425T121630Z
UID:10006084-1771515000-1771525800@www.immanuel.se
SUMMARY:HQ - 10-12 år
DESCRIPTION:Holy Quarters\nVälkommen till HQ – Holy Quarters\, vår öppna efter-skola-verksamhet på Källarplan 3 i Immanuelskyrkan.\nHär finns plats för lek\, skapande\, musik\, sport\, mellis\, läxhjälp och gemenskap – mitt i stan\, mitt i veckan.\nAllt är gratis och ingen anmälan krävs. Kom som du är! \nEn kreativ och aktiv plats efter skolan med sport\, skapande\, musikrum\, mellis och läxhjälp – för dig som vill hänga med kompisar och testa nya saker.
URL:https://www.immanuel.se/calendar/hq-10-12-ar-8/
LOCATION:K3
CATEGORIES:Barn & unga
END:VEVENT
BEGIN:VEVENT
DTSTART;TZID=Europe/Stockholm:20260219T183000
DTEND;TZID=Europe/Stockholm:20260219T210000
DTSTAMP:20260425T145805
CREATED:20241203T115912Z
LAST-MODIFIED:20241203T121032Z
UID:10005313-1771525800-1771534800@www.immanuel.se
SUMMARY:bibelstudie - på engelska
DESCRIPTION:Torsdagskvällens bibelstudium\nMötet börjar kl. 18.30 med en lätt måltid och fortsätter kl. 19.30 med själva studiet. \nKursen är främst utformad för nya och unga kristna\, men alla är välkomna! \nVänligen meddela Hugh om du planerar att komma\, både för att veta hur mycket mat som behövs och för att han ska kunna ge dig en dörrkod ifall huvudentrén är låst.
URL:https://www.immanuel.se/calendar/bibelstudie-pa-engelska/2026-02-19/
END:VEVENT
BEGIN:VEVENT
DTSTART;TZID=Europe/Stockholm:20260222T101500
DTEND;TZID=Europe/Stockholm:20260222T105000
DTSTAMP:20260425T145805
CREATED:20260105T101608Z
LAST-MODIFIED:20260425T121630Z
UID:10006049-1771755300-1771757400@www.immanuel.se
SUMMARY:Kör-lek
DESCRIPTION:Välkommen att lära känna fler barnfamiljer i Immanuelskyrkan! Vi sjunger\, leker och har trevligt tillsammans. Kl. 10.50 bjuds på frukt\, och därefter finns möjlighet att gå vidare till någon av församlingens tre gudstjänster.
URL:https://www.immanuel.se/calendar/kor-lek-8/
LOCATION:Kapellet
CATEGORIES:Barn & unga
END:VEVENT
BEGIN:VEVENT
DTSTART;TZID=Europe/Stockholm:20260222T110000
DTEND;TZID=Europe/Stockholm:20260222T120000
DTSTAMP:20260425T145805
CREATED:20241112T150700Z
LAST-MODIFIED:20260114T100248Z
UID:10005154-1771758000-1771761600@www.immanuel.se
SUMMARY:Gudstjänst på Koreanska
DESCRIPTION:
URL:https://www.immanuel.se/calendar/gudstjanst-pa-koreanska-2/2026-02-22/
CATEGORIES:Svenska kl 11
END:VEVENT
BEGIN:VEVENT
DTSTART;TZID=Europe/Stockholm:20260222T110000
DTEND;TZID=Europe/Stockholm:20260222T120000
DTSTAMP:20260425T145805
CREATED:20251230T224542Z
LAST-MODIFIED:20260425T121630Z
UID:10006020-1771758000-1771761600@www.immanuel.se
SUMMARY:Gudstjänst på svenska
DESCRIPTION:Söndag 22 februari kl 11 Gudstjänst på svenska\nTema: Prövningens stund\n1:a sön i fastan\nPredikan: Anna Berndes\nMusik: Vox Immanuel under ledning av Marie Söderberg\nBarnkyrkan är öppen\, Kyrkkaffe serveras
URL:https://www.immanuel.se/calendar/gudstjanst-pa-svenska-68/
LOCATION:Kyrksalen
CATEGORIES:Gudstjänst
END:VEVENT
BEGIN:VEVENT
DTSTART;TZID=Europe/Stockholm:20260222T110000
DTEND;TZID=Europe/Stockholm:20260222T123000
DTSTAMP:20260425T145805
CREATED:20251104T172554Z
LAST-MODIFIED:20260327T094818Z
UID:10005892-1771758000-1771763400@www.immanuel.se
SUMMARY:Gudstjänst på engelska
DESCRIPTION:
URL:https://www.immanuel.se/calendar/gudstjanst-pa-engelska-142/2026-02-22/
CATEGORIES:Gudstjänst
END:VEVENT
BEGIN:VEVENT
DTSTART;TZID=Europe/Stockholm:20260222T110000
DTEND;TZID=Europe/Stockholm:20260222T123000
DTSTAMP:20260425T145805
CREATED:20260210T164418Z
LAST-MODIFIED:20260217T163632Z
UID:10006193-1771758000-1771763400@www.immanuel.se
SUMMARY:Gudstjänst på engelska
DESCRIPTION:Den tvivlande Tomas4 Moseboken 11:10–30 & Johannes 20:10–29Predikan av Revd Dr Calum Samuelson
URL:https://www.immanuel.se/calendar/gudstjanst-pa-engelska-152/
END:VEVENT
BEGIN:VEVENT
DTSTART;TZID=Europe/Stockholm:20260222T120000
DTEND;TZID=Europe/Stockholm:20260222T133000
DTSTAMP:20260425T145805
CREATED:20251230T224543Z
LAST-MODIFIED:20260425T121630Z
UID:10006021-1771761600-1771767000@www.immanuel.se
SUMMARY:After Church: Lunch för unga vuxna
DESCRIPTION:Efter gudstjänsten så träffas alla unga vuxna för att äta lunch tillsammans!
URL:https://www.immanuel.se/calendar/after-church-lunch-for-unga-vuxna/
LOCATION:Kyrkplan
CATEGORIES:Unga Vuxna
END:VEVENT
END:VCALENDAR