BEGIN:VCALENDAR
VERSION:2.0
PRODID:-//Immanuelskyrkan - ECPv6.15.20//NONSGML v1.0//EN
CALSCALE:GREGORIAN
METHOD:PUBLISH
X-WR-CALNAME:Immanuelskyrkan
X-ORIGINAL-URL:https://www.immanuel.se
X-WR-CALDESC:Händelser för Immanuelskyrkan
REFRESH-INTERVAL;VALUE=DURATION:PT1H
X-Robots-Tag:noindex
X-PUBLISHED-TTL:PT1H
BEGIN:VTIMEZONE
TZID:Europe/Stockholm
BEGIN:DAYLIGHT
TZOFFSETFROM:+0100
TZOFFSETTO:+0200
TZNAME:CEST
DTSTART:20250330T010000
END:DAYLIGHT
BEGIN:STANDARD
TZOFFSETFROM:+0200
TZOFFSETTO:+0100
TZNAME:CET
DTSTART:20251026T010000
END:STANDARD
BEGIN:DAYLIGHT
TZOFFSETFROM:+0100
TZOFFSETTO:+0200
TZNAME:CEST
DTSTART:20260329T010000
END:DAYLIGHT
BEGIN:STANDARD
TZOFFSETFROM:+0200
TZOFFSETTO:+0100
TZNAME:CET
DTSTART:20261025T010000
END:STANDARD
BEGIN:DAYLIGHT
TZOFFSETFROM:+0100
TZOFFSETTO:+0200
TZNAME:CEST
DTSTART:20270328T010000
END:DAYLIGHT
BEGIN:STANDARD
TZOFFSETFROM:+0200
TZOFFSETTO:+0100
TZNAME:CET
DTSTART:20271031T010000
END:STANDARD
END:VTIMEZONE
BEGIN:VEVENT
DTSTART;TZID=Europe/Stockholm:20260127T130000
DTEND;TZID=Europe/Stockholm:20260127T150000
DTSTAMP:20260425T141351
CREATED:20260115T152252Z
LAST-MODIFIED:20260115T152416Z
UID:10006144-1769518800-1769526000@www.immanuel.se
SUMMARY:Tisdagsträffen
DESCRIPTION:Är du dagledig och intresserad av kultur\, teologi\, kyrka och samhälle? Då erbjuder Immanuel Senior ett varierat program. Öppet för alla oavsett livsåskådning. Välkommen in i gemenskapen! \nSe vårens fulla program här
URL:https://www.immanuel.se/calendar/tisdagstraffen-53/2026-01-27/
LOCATION:Waldenströmssalen
CATEGORIES:Senior
END:VEVENT
BEGIN:VEVENT
DTSTART;TZID=Europe/Stockholm:20260127T153000
DTEND;TZID=Europe/Stockholm:20260127T183000
DTSTAMP:20260425T141351
CREATED:20260105T131605Z
LAST-MODIFIED:20260425T111608Z
UID:10006073-1769527800-1769538600@www.immanuel.se
SUMMARY:HQ - 0-9 år
DESCRIPTION:Holy Quarters\nVälkommen till HQ – Holy Quarters\, vår öppna efter-skola-verksamhet på Källarplan 3 i Immanuelskyrkan.\nHär finns plats för lek\, skapande\, musik\, sport\, mellis\, läxhjälp och gemenskap – mitt i stan\, mitt i veckan.\nAllt är gratis och ingen anmälan krävs. Kom som du är! \nEn trygg och lekfull eftermiddag med idrott\, pyssel\, musik\, mellis och mys. Perfekt för små upptäckare och deras föräldrar.
URL:https://www.immanuel.se/calendar/hq-0-9-ar-5/
LOCATION:K3
CATEGORIES:Barn & unga
END:VEVENT
BEGIN:VEVENT
DTSTART;TZID=Europe/Stockholm:20260127T190000
DTEND;TZID=Europe/Stockholm:20260127T210000
DTSTAMP:20260425T141351
CREATED:20251218T162846Z
LAST-MODIFIED:20251218T162847Z
UID:10005992-1769540400-1769547600@www.immanuel.se
SUMMARY:Bibelstudium för unga vuxna på engelska
DESCRIPTION:Du är varmt välkommen att gå med i Young Adults-gruppen.\nVi är en grupp studenter och unga yrkesverksamma från\nhela världen med tre önskningar: att lära känna Jesus bättre\,\natt bli passionerade efterföljare av Kristus i vardagen och\natt bygga en kristen gemenskap. En gång i veckan har vi samtal\noch diskussioner kring Bibeln. \nDenna grupp hålls på engelska.
URL:https://www.immanuel.se/calendar/young-adults-gruppen-2/2026-01-27/
END:VEVENT
BEGIN:VEVENT
DTSTART;TZID=Europe/Stockholm:20260128T153000
DTEND;TZID=Europe/Stockholm:20260128T183000
DTSTAMP:20260425T141351
CREATED:20260105T131606Z
LAST-MODIFIED:20260425T111608Z
UID:10006074-1769614200-1769625000@www.immanuel.se
SUMMARY:HQ - 13-18 år
DESCRIPTION:Holy Quarters\nVälkommen till HQ – Holy Quarters\, vår öppna efter-skola-verksamhet på Källarplan 3 i Immanuelskyrkan.\nHär finns plats för lek\, skapande\, musik\, sport\, mellis\, läxhjälp och gemenskap – mitt i stan\, mitt i veckan.\nAllt är gratis och ingen anmälan krävs. Kom som du är! \nEtt avslappnat häng med musik\, sport\, skapande\, mellis och pluggmöjligheter – där du får vara dig själv\, träffa nya vänner och hitta din plats.
URL:https://www.immanuel.se/calendar/hq-13-18-ar-5/
LOCATION:K3
CATEGORIES:Barn & unga
END:VEVENT
BEGIN:VEVENT
DTSTART;TZID=Europe/Stockholm:20260128T180000
DTEND;TZID=Europe/Stockholm:20260128T190000
DTSTAMP:20260425T141351
CREATED:20251230T224540Z
LAST-MODIFIED:20260425T111608Z
UID:10006006-1769623200-1769626800@www.immanuel.se
SUMMARY:Onsdagsmässan
DESCRIPTION:
URL:https://www.immanuel.se/calendar/onsdagsmassan-18/
LOCATION:Kapellet
CATEGORIES:Andakter
END:VEVENT
BEGIN:VEVENT
DTSTART;TZID=Europe/Stockholm:20260129T094500
DTEND;TZID=Europe/Stockholm:20260129T114500
DTSTAMP:20260425T141351
CREATED:20241211T105757Z
LAST-MODIFIED:20241211T132929Z
UID:10005414-1769679900-1769687100@www.immanuel.se
SUMMARY:Kvinnors bibelstudiegrupp
DESCRIPTION:Torsdagsmorgnar • 09.45–11.45 • Ungdomsrummet\, nivå K1 \nAlla kvinnor som längtar efter gemenskap med andra kvinnor genom att studera Guds ord är välkomna.\nOm du har några frågor\, vänligen kontakta: Rosemary
URL:https://www.immanuel.se/calendar/kvinnors-bibelstudiegrupp/2026-01-29/
END:VEVENT
BEGIN:VEVENT
DTSTART;TZID=Europe/Stockholm:20260129T153000
DTEND;TZID=Europe/Stockholm:20260129T183000
DTSTAMP:20260425T141351
CREATED:20260105T131606Z
LAST-MODIFIED:20260425T111608Z
UID:10006075-1769700600-1769711400@www.immanuel.se
SUMMARY:HQ - 10-12 år
DESCRIPTION:Holy Quarters\nVälkommen till HQ – Holy Quarters\, vår öppna efter-skola-verksamhet på Källarplan 3 i Immanuelskyrkan.\nHär finns plats för lek\, skapande\, musik\, sport\, mellis\, läxhjälp och gemenskap – mitt i stan\, mitt i veckan.\nAllt är gratis och ingen anmälan krävs. Kom som du är! \nEn kreativ och aktiv plats efter skolan med sport\, skapande\, musikrum\, mellis och läxhjälp – för dig som vill hänga med kompisar och testa nya saker.
URL:https://www.immanuel.se/calendar/hq-10-12-ar-5/
LOCATION:K3
CATEGORIES:Barn & unga
END:VEVENT
BEGIN:VEVENT
DTSTART;TZID=Europe/Stockholm:20260129T183000
DTEND;TZID=Europe/Stockholm:20260129T210000
DTSTAMP:20260425T141351
CREATED:20241203T115912Z
LAST-MODIFIED:20241203T121032Z
UID:10005310-1769711400-1769720400@www.immanuel.se
SUMMARY:bibelstudie - på engelska
DESCRIPTION:Torsdagskvällens bibelstudium\nMötet börjar kl. 18.30 med en lätt måltid och fortsätter kl. 19.30 med själva studiet. \nKursen är främst utformad för nya och unga kristna\, men alla är välkomna! \nVänligen meddela Hugh om du planerar att komma\, både för att veta hur mycket mat som behövs och för att han ska kunna ge dig en dörrkod ifall huvudentrén är låst.
URL:https://www.immanuel.se/calendar/bibelstudie-pa-engelska/2026-01-29/
END:VEVENT
BEGIN:VEVENT
DTSTART;TZID=Europe/Stockholm:20260131T110000
DTEND;TZID=Europe/Stockholm:20260131T130000
DTSTAMP:20260425T141351
CREATED:20251230T224540Z
LAST-MODIFIED:20260425T111608Z
UID:10006007-1769857200-1769864400@www.immanuel.se
SUMMARY:Brunch för unga vuxna
DESCRIPTION:This program is held in Swedish.
URL:https://www.immanuel.se/calendar/brunch-for-unga-vuxna-9/
LOCATION:K3
CATEGORIES:Unga Vuxna
END:VEVENT
BEGIN:VEVENT
DTSTART;TZID=Europe/Stockholm:20260131T180000
DTEND;TZID=Europe/Stockholm:20260131T191500
DTSTAMP:20260425T141351
CREATED:20260108T071600Z
LAST-MODIFIED:20260425T111608Z
UID:10006133-1769882400-1769886900@www.immanuel.se
SUMMARY:Sjung Gospel - in Consert
DESCRIPTION:Varmt välkommen till Sjung Gospel – in concert \nKören står uppställda på scen för att bjuda er på sköna toner\, svängigt gung och ljus i en av årets mörkaste månader Immanuelskyrkan öppnas till en gospelgemenskap och vi vill ha med dig i publiken \nVi gästas av Patrice E. Turner (USA)\, Kiralina Salandy\, Lasse Axelsson\, Anki och Magnus Spångberg samt Mikaela Häger \nDessutom sjunger Sjung Gospel Mass Choir \nKöp dina biljetter nu. https://billetto.se/e/sjung-gospel-in-consert-biljetter-1776377
URL:https://www.immanuel.se/calendar/sjung-gospel-in-consert/
LOCATION:Kyrksalen
CATEGORIES:Musik & kultur
END:VEVENT
BEGIN:VEVENT
DTSTART;TZID=Europe/Stockholm:20260201T101500
DTEND;TZID=Europe/Stockholm:20260201T105000
DTSTAMP:20260425T141351
CREATED:20260105T101607Z
LAST-MODIFIED:20260425T111608Z
UID:10006046-1769940900-1769943000@www.immanuel.se
SUMMARY:Kör-lek
DESCRIPTION:Välkommen att lära känna fler barnfamiljer i Immanuelskyrkan! Vi sjunger\, leker och har trevligt tillsammans. Kl. 10.50 bjuds på frukt\, och därefter finns möjlighet att gå vidare till någon av församlingens tre gudstjänster.
URL:https://www.immanuel.se/calendar/kor-lek-5/
LOCATION:Kapellet
CATEGORIES:Barn & unga
END:VEVENT
BEGIN:VEVENT
DTSTART;TZID=Europe/Stockholm:20260201T110000
DTEND;TZID=Europe/Stockholm:20260201T120000
DTSTAMP:20260425T141351
CREATED:20241112T150700Z
LAST-MODIFIED:20260114T100248Z
UID:10005151-1769943600-1769947200@www.immanuel.se
SUMMARY:Gudstjänst på Koreanska
DESCRIPTION:
URL:https://www.immanuel.se/calendar/gudstjanst-pa-koreanska-2/2026-02-01/
CATEGORIES:Svenska kl 11
END:VEVENT
BEGIN:VEVENT
DTSTART;TZID=Europe/Stockholm:20260201T110000
DTEND;TZID=Europe/Stockholm:20260201T120000
DTSTAMP:20260425T141351
CREATED:20251230T224541Z
LAST-MODIFIED:20260425T111608Z
UID:10006008-1769943600-1769947200@www.immanuel.se
SUMMARY:Gudstjänst på svenska
DESCRIPTION:Söndag 1 februari kl 11 Gudstjänst på svenska\nTema: Nåd och tjänst\nSeptuagesima\nPredikan: Charlotte Höglund\nMusik: Björn Gäfvert\, Vox Immanuel\nBarnkyrkan är öppen\, Kyrkkaffe serveras\nFörsamlingsmöte kl 13.15
URL:https://www.immanuel.se/calendar/gudstjanst-pa-svenska-65/
LOCATION:Kyrksalen
CATEGORIES:Gudstjänst
END:VEVENT
BEGIN:VEVENT
DTSTART;TZID=Europe/Stockholm:20260201T110000
DTEND;TZID=Europe/Stockholm:20260201T123000
DTSTAMP:20260425T141351
CREATED:20260128T130204Z
LAST-MODIFIED:20260128T130237Z
UID:10006165-1769943600-1769949000@www.immanuel.se
SUMMARY:Gudstjänst på engelska
DESCRIPTION:Jesaja 25:1–8 & Johannes 2:1–11\nPastor Hugh Doyle predikar
URL:https://www.immanuel.se/calendar/gudstjanst-pa-engelska-149/
END:VEVENT
BEGIN:VEVENT
DTSTART;TZID=Europe/Stockholm:20260201T131500
DTEND;TZID=Europe/Stockholm:20260201T150000
DTSTAMP:20260425T141351
CREATED:20251230T224541Z
LAST-MODIFIED:20260425T111608Z
UID:10006009-1769951700-1769958000@www.immanuel.se
SUMMARY:Församlingsmöte
DESCRIPTION:
URL:https://www.immanuel.se/calendar/forsamlingsmote-22/
LOCATION:Congressen
CATEGORIES:Församlingen
END:VEVENT
END:VCALENDAR