BEGIN:VCALENDAR
VERSION:2.0
PRODID:-//Immanuelskyrkan - ECPv6.15.20//NONSGML v1.0//EN
CALSCALE:GREGORIAN
METHOD:PUBLISH
X-WR-CALNAME:Immanuelskyrkan
X-ORIGINAL-URL:https://www.immanuel.se
X-WR-CALDESC:Händelser för Immanuelskyrkan
REFRESH-INTERVAL;VALUE=DURATION:PT1H
X-Robots-Tag:noindex
X-PUBLISHED-TTL:PT1H
BEGIN:VTIMEZONE
TZID:Europe/Stockholm
BEGIN:DAYLIGHT
TZOFFSETFROM:+0100
TZOFFSETTO:+0200
TZNAME:CEST
DTSTART:20250330T010000
END:DAYLIGHT
BEGIN:STANDARD
TZOFFSETFROM:+0200
TZOFFSETTO:+0100
TZNAME:CET
DTSTART:20251026T010000
END:STANDARD
BEGIN:DAYLIGHT
TZOFFSETFROM:+0100
TZOFFSETTO:+0200
TZNAME:CEST
DTSTART:20260329T010000
END:DAYLIGHT
BEGIN:STANDARD
TZOFFSETFROM:+0200
TZOFFSETTO:+0100
TZNAME:CET
DTSTART:20261025T010000
END:STANDARD
BEGIN:DAYLIGHT
TZOFFSETFROM:+0100
TZOFFSETTO:+0200
TZNAME:CEST
DTSTART:20270328T010000
END:DAYLIGHT
BEGIN:STANDARD
TZOFFSETFROM:+0200
TZOFFSETTO:+0100
TZNAME:CET
DTSTART:20271031T010000
END:STANDARD
END:VTIMEZONE
BEGIN:VEVENT
DTSTART;TZID=Europe/Stockholm:20260602T153000
DTEND;TZID=Europe/Stockholm:20260602T183000
DTSTAMP:20260425T135806
CREATED:20260105T131617Z
LAST-MODIFIED:20260425T111619Z
UID:10006127-1780414200-1780425000@www.immanuel.se
SUMMARY:HQ - 0-9 år
DESCRIPTION:Holy Quarters\nVälkommen till HQ – Holy Quarters\, vår öppna efter-skola-verksamhet på Källarplan 3 i Immanuelskyrkan.\nHär finns plats för lek\, skapande\, musik\, sport\, mellis\, läxhjälp och gemenskap – mitt i stan\, mitt i veckan.\nAllt är gratis och ingen anmälan krävs. Kom som du är! \nEn trygg och lekfull eftermiddag med idrott\, pyssel\, musik\, mellis och mys. Perfekt för små upptäckare och deras föräldrar.
URL:https://www.immanuel.se/calendar/hq-0-9-ar-23/
LOCATION:K3
CATEGORIES:Barn & unga
END:VEVENT
BEGIN:VEVENT
DTSTART;TZID=Europe/Stockholm:20260602T190000
DTEND;TZID=Europe/Stockholm:20260602T210000
DTSTAMP:20260425T135806
CREATED:20251216T145057Z
LAST-MODIFIED:20251216T145524Z
UID:10005985-1780426800-1780434000@www.immanuel.se
SUMMARY:Bibelstudium för unga vuxna
DESCRIPTION:Du är varmt välkommen att gå med i Young Adults-gruppen.\nVi är en grupp studenter och unga yrkesverksamma från\nhela världen med tre önskningar: att lära känna Jesus bättre\,\natt bli passionerade efterföljare av Kristus i vardagen och\natt bygga en kristen gemenskap. En gång i veckan har vi samtal\noch diskussioner kring Bibeln. Denna grupp hålls på engelska. \nClick here to read more.
URL:https://www.immanuel.se/calendar/bibelstudium-for-unga-vuxna-3/2026-06-02/
END:VEVENT
BEGIN:VEVENT
DTSTART;TZID=Europe/Stockholm:20260603T153000
DTEND;TZID=Europe/Stockholm:20260603T183000
DTSTAMP:20260425T135806
CREATED:20260105T131617Z
LAST-MODIFIED:20260425T111619Z
UID:10006128-1780500600-1780511400@www.immanuel.se
SUMMARY:HQ - 13-18 år
DESCRIPTION:Holy Quarters\nVälkommen till HQ – Holy Quarters\, vår öppna efter-skola-verksamhet på Källarplan 3 i Immanuelskyrkan.\nHär finns plats för lek\, skapande\, musik\, sport\, mellis\, läxhjälp och gemenskap – mitt i stan\, mitt i veckan.\nAllt är gratis och ingen anmälan krävs. Kom som du är! \nEtt avslappnat häng med musik\, sport\, skapande\, mellis och pluggmöjligheter – där du får vara dig själv\, träffa nya vänner och hitta din plats.
URL:https://www.immanuel.se/calendar/hq-13-18-ar-23/
LOCATION:K3
CATEGORIES:Barn & unga
END:VEVENT
BEGIN:VEVENT
DTSTART;TZID=Europe/Stockholm:20260603T180000
DTEND;TZID=Europe/Stockholm:20260603T190000
DTSTAMP:20260425T135806
CREATED:20260424T084125Z
LAST-MODIFIED:20260425T111619Z
UID:10006305-1780509600-1780513200@www.immanuel.se
SUMMARY:Musikskolans gemensamma konsert
DESCRIPTION:Musikskolans gemensamma konsert
URL:https://www.immanuel.se/calendar/musikskolans-gemensamma-konsert/
LOCATION:Waldenströmssalen
CATEGORIES:Konsert
END:VEVENT
BEGIN:VEVENT
DTSTART;TZID=Europe/Stockholm:20260604T094500
DTEND;TZID=Europe/Stockholm:20260604T114500
DTSTAMP:20260425T135806
CREATED:20241211T105757Z
LAST-MODIFIED:20241211T132929Z
UID:10005431-1780566300-1780573500@www.immanuel.se
SUMMARY:Kvinnors bibelstudiegrupp
DESCRIPTION:Torsdagsmorgnar • 09.45–11.45 • Ungdomsrummet\, nivå K1 \nAlla kvinnor som längtar efter gemenskap med andra kvinnor genom att studera Guds ord är välkomna.\nOm du har några frågor\, vänligen kontakta: Rosemary
URL:https://www.immanuel.se/calendar/kvinnors-bibelstudiegrupp/2026-06-04/
END:VEVENT
BEGIN:VEVENT
DTSTART;TZID=Europe/Stockholm:20260604T153000
DTEND;TZID=Europe/Stockholm:20260604T183000
DTSTAMP:20260425T135806
CREATED:20260105T131617Z
LAST-MODIFIED:20260425T111619Z
UID:10006129-1780587000-1780597800@www.immanuel.se
SUMMARY:HQ - 10-12 år
DESCRIPTION:Holy Quarters\nVälkommen till HQ – Holy Quarters\, vår öppna efter-skola-verksamhet på Källarplan 3 i Immanuelskyrkan.\nHär finns plats för lek\, skapande\, musik\, sport\, mellis\, läxhjälp och gemenskap – mitt i stan\, mitt i veckan.\nAllt är gratis och ingen anmälan krävs. Kom som du är! \nEn kreativ och aktiv plats efter skolan med sport\, skapande\, musikrum\, mellis och läxhjälp – för dig som vill hänga med kompisar och testa nya saker.
URL:https://www.immanuel.se/calendar/hq-10-12-ar-23/
LOCATION:K3
CATEGORIES:Barn & unga
END:VEVENT
BEGIN:VEVENT
DTSTART;TZID=Europe/Stockholm:20260604T183000
DTEND;TZID=Europe/Stockholm:20260604T210000
DTSTAMP:20260425T135806
CREATED:20241203T115912Z
LAST-MODIFIED:20241203T121032Z
UID:10005324-1780597800-1780606800@www.immanuel.se
SUMMARY:bibelstudie - på engelska
DESCRIPTION:Torsdagskvällens bibelstudium\nMötet börjar kl. 18.30 med en lätt måltid och fortsätter kl. 19.30 med själva studiet. \nKursen är främst utformad för nya och unga kristna\, men alla är välkomna! \nVänligen meddela Hugh om du planerar att komma\, både för att veta hur mycket mat som behövs och för att han ska kunna ge dig en dörrkod ifall huvudentrén är låst.
URL:https://www.immanuel.se/calendar/bibelstudie-pa-engelska/2026-06-04/
END:VEVENT
BEGIN:VEVENT
DTSTART;TZID=Europe/Stockholm:20260606T120000
DTEND;TZID=Europe/Stockholm:20260606T140000
DTSTAMP:20260425T135806
CREATED:20260222T131607Z
LAST-MODIFIED:20260425T111619Z
UID:10006203-1780747200-1780754400@www.immanuel.se
SUMMARY:Lunch i Gemenskap
DESCRIPTION:
URL:https://www.immanuel.se/calendar/lunch-i-gemenskap-51/
LOCATION:Kyrkplan
CATEGORIES:Diakoni
END:VEVENT
BEGIN:VEVENT
DTSTART;TZID=Europe/Stockholm:20260606T150000
DTEND;TZID=Europe/Stockholm:20260606T161500
DTSTAMP:20260425T135806
CREATED:20260203T141630Z
LAST-MODIFIED:20260425T111619Z
UID:10006166-1780758000-1780762500@www.immanuel.se
SUMMARY:Nationaldagskonsert
DESCRIPTION:Välkommen att fira Nationaldagen i Immanuelskyrkan! \nMedverkande:\nImmanuel Nova och Ungdomskören\nRebecka Gustafsson och Therése Börjesson
URL:https://www.immanuel.se/calendar/nationaldagskonsert-5/
CATEGORIES:Konsert
END:VEVENT
BEGIN:VEVENT
DTSTART;TZID=Europe/Stockholm:20260607T093000
DTEND;TZID=Europe/Stockholm:20260607T103000
DTSTAMP:20260425T135806
CREATED:20260222T131607Z
LAST-MODIFIED:20260425T111619Z
UID:10006204-1780824600-1780828200@www.immanuel.se
SUMMARY:Frukost i Gemenskap
DESCRIPTION:
URL:https://www.immanuel.se/calendar/frukost-i-gemenskap-24/
LOCATION:Kyrkplan
CATEGORIES:Diakoni
END:VEVENT
BEGIN:VEVENT
DTSTART;TZID=Europe/Stockholm:20260607T101500
DTEND;TZID=Europe/Stockholm:20260607T105000
DTSTAMP:20260425T135806
CREATED:20260105T101612Z
LAST-MODIFIED:20260425T111619Z
UID:10006064-1780827300-1780829400@www.immanuel.se
SUMMARY:Kör-lek
DESCRIPTION:Välkommen att lära känna fler barnfamiljer i Immanuelskyrkan! Vi sjunger\, leker och har trevligt tillsammans. Kl. 10.50 bjuds på frukt\, och därefter finns möjlighet att gå vidare till någon av församlingens tre gudstjänster.
URL:https://www.immanuel.se/calendar/kor-lek-23/
LOCATION:Kapellet
CATEGORIES:Barn & unga
END:VEVENT
BEGIN:VEVENT
DTSTART;TZID=Europe/Stockholm:20260607T110000
DTEND;TZID=Europe/Stockholm:20260607T120000
DTSTAMP:20260425T135806
CREATED:20241112T150700Z
LAST-MODIFIED:20260114T100248Z
UID:10005169-1780830000-1780833600@www.immanuel.se
SUMMARY:Gudstjänst på Koreanska
DESCRIPTION:
URL:https://www.immanuel.se/calendar/gudstjanst-pa-koreanska-2/2026-06-07/
CATEGORIES:Svenska kl 11
END:VEVENT
BEGIN:VEVENT
DTSTART;TZID=Europe/Stockholm:20260607T110000
DTEND;TZID=Europe/Stockholm:20260607T120000
DTSTAMP:20260425T135806
CREATED:20251230T224546Z
LAST-MODIFIED:20260425T111619Z
UID:10006040-1780830000-1780833600@www.immanuel.se
SUMMARY:Gudstjänst på svenska
DESCRIPTION:
URL:https://www.immanuel.se/calendar/gudstjanst-pa-svenska-83/
LOCATION:Kyrksalen
CATEGORIES:Gudstjänst
END:VEVENT
BEGIN:VEVENT
DTSTART;TZID=Europe/Stockholm:20260607T110000
DTEND;TZID=Europe/Stockholm:20260607T120000
DTSTAMP:20260425T135806
CREATED:20260327T110401Z
LAST-MODIFIED:20260327T113240Z
UID:10006253-1780830000-1780833600@www.immanuel.se
SUMMARY:Gudstjänst på koreanska
DESCRIPTION:
URL:https://www.immanuel.se/calendar/gudstjanst-pa-koreanska-4/2026-06-07/
CATEGORIES:Koreanska
END:VEVENT
BEGIN:VEVENT
DTSTART;TZID=Europe/Stockholm:20260607T110000
DTEND;TZID=Europe/Stockholm:20260607T123000
DTSTAMP:20260425T135806
CREATED:20251104T172554Z
LAST-MODIFIED:20260327T094818Z
UID:10005901-1780830000-1780835400@www.immanuel.se
SUMMARY:Gudstjänst på engelska
DESCRIPTION:
URL:https://www.immanuel.se/calendar/gudstjanst-pa-engelska-142/2026-06-07/
CATEGORIES:Gudstjänst
END:VEVENT
BEGIN:VEVENT
DTSTART;TZID=Europe/Stockholm:20260609T153000
DTEND;TZID=Europe/Stockholm:20260609T183000
DTSTAMP:20260425T135806
CREATED:20260105T131617Z
LAST-MODIFIED:20260425T111620Z
UID:10006130-1781019000-1781029800@www.immanuel.se
SUMMARY:HQ - 0-9 år
DESCRIPTION:Holy Quarters\nVälkommen till HQ – Holy Quarters\, vår öppna efter-skola-verksamhet på Källarplan 3 i Immanuelskyrkan.\nHär finns plats för lek\, skapande\, musik\, sport\, mellis\, läxhjälp och gemenskap – mitt i stan\, mitt i veckan.\nAllt är gratis och ingen anmälan krävs. Kom som du är! \nEn trygg och lekfull eftermiddag med idrott\, pyssel\, musik\, mellis och mys. Perfekt för små upptäckare och deras föräldrar.
URL:https://www.immanuel.se/calendar/hq-0-9-ar-24/
LOCATION:K3
CATEGORIES:Barn & unga
END:VEVENT
BEGIN:VEVENT
DTSTART;TZID=Europe/Stockholm:20260609T190000
DTEND;TZID=Europe/Stockholm:20260609T210000
DTSTAMP:20260425T135806
CREATED:20251216T145057Z
LAST-MODIFIED:20251216T145524Z
UID:10005986-1781031600-1781038800@www.immanuel.se
SUMMARY:Bibelstudium för unga vuxna
DESCRIPTION:Du är varmt välkommen att gå med i Young Adults-gruppen.\nVi är en grupp studenter och unga yrkesverksamma från\nhela världen med tre önskningar: att lära känna Jesus bättre\,\natt bli passionerade efterföljare av Kristus i vardagen och\natt bygga en kristen gemenskap. En gång i veckan har vi samtal\noch diskussioner kring Bibeln. Denna grupp hålls på engelska. \nClick here to read more.
URL:https://www.immanuel.se/calendar/bibelstudium-for-unga-vuxna-3/2026-06-09/
END:VEVENT
BEGIN:VEVENT
DTSTART;TZID=Europe/Stockholm:20260610T153000
DTEND;TZID=Europe/Stockholm:20260610T183000
DTSTAMP:20260425T135806
CREATED:20260105T131618Z
LAST-MODIFIED:20260425T111620Z
UID:10006131-1781105400-1781116200@www.immanuel.se
SUMMARY:HQ - 13-18 år
DESCRIPTION:Holy Quarters\nVälkommen till HQ – Holy Quarters\, vår öppna efter-skola-verksamhet på Källarplan 3 i Immanuelskyrkan.\nHär finns plats för lek\, skapande\, musik\, sport\, mellis\, läxhjälp och gemenskap – mitt i stan\, mitt i veckan.\nAllt är gratis och ingen anmälan krävs. Kom som du är! \nEtt avslappnat häng med musik\, sport\, skapande\, mellis och pluggmöjligheter – där du får vara dig själv\, träffa nya vänner och hitta din plats.
URL:https://www.immanuel.se/calendar/hq-13-18-ar-24/
LOCATION:K3
CATEGORIES:Barn & unga
END:VEVENT
BEGIN:VEVENT
DTSTART;TZID=Europe/Stockholm:20260611T094500
DTEND;TZID=Europe/Stockholm:20260611T114500
DTSTAMP:20260425T135806
CREATED:20241211T105757Z
LAST-MODIFIED:20241211T132929Z
UID:10005432-1781171100-1781178300@www.immanuel.se
SUMMARY:Kvinnors bibelstudiegrupp
DESCRIPTION:Torsdagsmorgnar • 09.45–11.45 • Ungdomsrummet\, nivå K1 \nAlla kvinnor som längtar efter gemenskap med andra kvinnor genom att studera Guds ord är välkomna.\nOm du har några frågor\, vänligen kontakta: Rosemary
URL:https://www.immanuel.se/calendar/kvinnors-bibelstudiegrupp/2026-06-11/
END:VEVENT
BEGIN:VEVENT
DTSTART;TZID=Europe/Stockholm:20260611T153000
DTEND;TZID=Europe/Stockholm:20260611T183000
DTSTAMP:20260425T135806
CREATED:20260105T131618Z
LAST-MODIFIED:20260425T111620Z
UID:10006132-1781191800-1781202600@www.immanuel.se
SUMMARY:HQ - 10-12 år
DESCRIPTION:Holy Quarters\nVälkommen till HQ – Holy Quarters\, vår öppna efter-skola-verksamhet på Källarplan 3 i Immanuelskyrkan.\nHär finns plats för lek\, skapande\, musik\, sport\, mellis\, läxhjälp och gemenskap – mitt i stan\, mitt i veckan.\nAllt är gratis och ingen anmälan krävs. Kom som du är! \nEn kreativ och aktiv plats efter skolan med sport\, skapande\, musikrum\, mellis och läxhjälp – för dig som vill hänga med kompisar och testa nya saker.
URL:https://www.immanuel.se/calendar/hq-10-12-ar-24/
LOCATION:K3
CATEGORIES:Barn & unga
END:VEVENT
BEGIN:VEVENT
DTSTART;TZID=Europe/Stockholm:20260611T183000
DTEND;TZID=Europe/Stockholm:20260611T210000
DTSTAMP:20260425T135806
CREATED:20241203T115912Z
LAST-MODIFIED:20241203T121032Z
UID:10005325-1781202600-1781211600@www.immanuel.se
SUMMARY:bibelstudie - på engelska
DESCRIPTION:Torsdagskvällens bibelstudium\nMötet börjar kl. 18.30 med en lätt måltid och fortsätter kl. 19.30 med själva studiet. \nKursen är främst utformad för nya och unga kristna\, men alla är välkomna! \nVänligen meddela Hugh om du planerar att komma\, både för att veta hur mycket mat som behövs och för att han ska kunna ge dig en dörrkod ifall huvudentrén är låst.
URL:https://www.immanuel.se/calendar/bibelstudie-pa-engelska/2026-06-11/
END:VEVENT
BEGIN:VEVENT
DTSTART;TZID=Europe/Stockholm:20260614T101500
DTEND;TZID=Europe/Stockholm:20260614T105000
DTSTAMP:20260425T135806
CREATED:20260105T101613Z
LAST-MODIFIED:20260425T111620Z
UID:10006065-1781432100-1781434200@www.immanuel.se
SUMMARY:Kör-lek
DESCRIPTION:Välkommen att lära känna fler barnfamiljer i Immanuelskyrkan! Vi sjunger\, leker och har trevligt tillsammans. Kl. 10.50 bjuds på frukt\, och därefter finns möjlighet att gå vidare till någon av församlingens tre gudstjänster.
URL:https://www.immanuel.se/calendar/kor-lek-24/
LOCATION:Kapellet
CATEGORIES:Barn & unga
END:VEVENT
BEGIN:VEVENT
DTSTART;TZID=Europe/Stockholm:20260614T110000
DTEND;TZID=Europe/Stockholm:20260614T120000
DTSTAMP:20260425T135806
CREATED:20241112T150700Z
LAST-MODIFIED:20260114T100248Z
UID:10005170-1781434800-1781438400@www.immanuel.se
SUMMARY:Gudstjänst på Koreanska
DESCRIPTION:
URL:https://www.immanuel.se/calendar/gudstjanst-pa-koreanska-2/2026-06-14/
CATEGORIES:Svenska kl 11
END:VEVENT
BEGIN:VEVENT
DTSTART;TZID=Europe/Stockholm:20260614T110000
DTEND;TZID=Europe/Stockholm:20260614T120000
DTSTAMP:20260425T135806
CREATED:20251230T224546Z
LAST-MODIFIED:20260425T111620Z
UID:10006041-1781434800-1781438400@www.immanuel.se
SUMMARY:Gudstjänst på svenska
DESCRIPTION:
URL:https://www.immanuel.se/calendar/gudstjanst-pa-svenska-84/
LOCATION:Kyrksalen
CATEGORIES:Gudstjänst
END:VEVENT
BEGIN:VEVENT
DTSTART;TZID=Europe/Stockholm:20260614T110000
DTEND;TZID=Europe/Stockholm:20260614T120000
DTSTAMP:20260425T135806
CREATED:20260327T110401Z
LAST-MODIFIED:20260327T113240Z
UID:10006254-1781434800-1781438400@www.immanuel.se
SUMMARY:Gudstjänst på koreanska
DESCRIPTION:
URL:https://www.immanuel.se/calendar/gudstjanst-pa-koreanska-4/2026-06-14/
CATEGORIES:Koreanska
END:VEVENT
BEGIN:VEVENT
DTSTART;TZID=Europe/Stockholm:20260614T110000
DTEND;TZID=Europe/Stockholm:20260614T123000
DTSTAMP:20260425T135806
CREATED:20251104T172554Z
LAST-MODIFIED:20260327T094818Z
UID:10005902-1781434800-1781440200@www.immanuel.se
SUMMARY:Gudstjänst på engelska
DESCRIPTION:
URL:https://www.immanuel.se/calendar/gudstjanst-pa-engelska-142/2026-06-14/
CATEGORIES:Gudstjänst
END:VEVENT
BEGIN:VEVENT
DTSTART;TZID=Europe/Stockholm:20260614T131500
DTEND;TZID=Europe/Stockholm:20260614T150000
DTSTAMP:20260425T135806
CREATED:20260325T101640Z
LAST-MODIFIED:20260425T111620Z
UID:10006231-1781442900-1781449200@www.immanuel.se
SUMMARY:Församlingsmöte
DESCRIPTION:
URL:https://www.immanuel.se/calendar/forsamlingsmote-21/
LOCATION:Congressen
CATEGORIES:Församlingen
END:VEVENT
BEGIN:VEVENT
DTSTART;TZID=Europe/Stockholm:20260616T190000
DTEND;TZID=Europe/Stockholm:20260616T210000
DTSTAMP:20260425T135806
CREATED:20251216T145057Z
LAST-MODIFIED:20251216T145524Z
UID:10005987-1781636400-1781643600@www.immanuel.se
SUMMARY:Bibelstudium för unga vuxna
DESCRIPTION:Du är varmt välkommen att gå med i Young Adults-gruppen.\nVi är en grupp studenter och unga yrkesverksamma från\nhela världen med tre önskningar: att lära känna Jesus bättre\,\natt bli passionerade efterföljare av Kristus i vardagen och\natt bygga en kristen gemenskap. En gång i veckan har vi samtal\noch diskussioner kring Bibeln. Denna grupp hålls på engelska. \nClick here to read more.
URL:https://www.immanuel.se/calendar/bibelstudium-for-unga-vuxna-3/2026-06-16/
END:VEVENT
BEGIN:VEVENT
DTSTART;TZID=Europe/Stockholm:20260618T094500
DTEND;TZID=Europe/Stockholm:20260618T114500
DTSTAMP:20260425T135806
CREATED:20241211T105757Z
LAST-MODIFIED:20241211T132929Z
UID:10005433-1781775900-1781783100@www.immanuel.se
SUMMARY:Kvinnors bibelstudiegrupp
DESCRIPTION:Torsdagsmorgnar • 09.45–11.45 • Ungdomsrummet\, nivå K1 \nAlla kvinnor som längtar efter gemenskap med andra kvinnor genom att studera Guds ord är välkomna.\nOm du har några frågor\, vänligen kontakta: Rosemary
URL:https://www.immanuel.se/calendar/kvinnors-bibelstudiegrupp/2026-06-18/
END:VEVENT
BEGIN:VEVENT
DTSTART;TZID=Europe/Stockholm:20260618T183000
DTEND;TZID=Europe/Stockholm:20260618T210000
DTSTAMP:20260425T135806
CREATED:20241203T115912Z
LAST-MODIFIED:20241203T121032Z
UID:10005326-1781807400-1781816400@www.immanuel.se
SUMMARY:bibelstudie - på engelska
DESCRIPTION:Torsdagskvällens bibelstudium\nMötet börjar kl. 18.30 med en lätt måltid och fortsätter kl. 19.30 med själva studiet. \nKursen är främst utformad för nya och unga kristna\, men alla är välkomna! \nVänligen meddela Hugh om du planerar att komma\, både för att veta hur mycket mat som behövs och för att han ska kunna ge dig en dörrkod ifall huvudentrén är låst.
URL:https://www.immanuel.se/calendar/bibelstudie-pa-engelska/2026-06-18/
END:VEVENT
END:VCALENDAR