BEGIN:VCALENDAR
VERSION:2.0
PRODID:-//Immanuelskyrkan - ECPv6.15.20//NONSGML v1.0//EN
CALSCALE:GREGORIAN
METHOD:PUBLISH
X-ORIGINAL-URL:https://www.immanuel.se
X-WR-CALDESC:Händelser för Immanuelskyrkan
REFRESH-INTERVAL;VALUE=DURATION:PT1H
X-Robots-Tag:noindex
X-PUBLISHED-TTL:PT1H
BEGIN:VTIMEZONE
TZID:Europe/Stockholm
BEGIN:DAYLIGHT
TZOFFSETFROM:+0100
TZOFFSETTO:+0200
TZNAME:CEST
DTSTART:20250330T010000
END:DAYLIGHT
BEGIN:STANDARD
TZOFFSETFROM:+0200
TZOFFSETTO:+0100
TZNAME:CET
DTSTART:20251026T010000
END:STANDARD
BEGIN:DAYLIGHT
TZOFFSETFROM:+0100
TZOFFSETTO:+0200
TZNAME:CEST
DTSTART:20260329T010000
END:DAYLIGHT
BEGIN:STANDARD
TZOFFSETFROM:+0200
TZOFFSETTO:+0100
TZNAME:CET
DTSTART:20261025T010000
END:STANDARD
BEGIN:DAYLIGHT
TZOFFSETFROM:+0100
TZOFFSETTO:+0200
TZNAME:CEST
DTSTART:20270328T010000
END:DAYLIGHT
BEGIN:STANDARD
TZOFFSETFROM:+0200
TZOFFSETTO:+0100
TZNAME:CET
DTSTART:20271031T010000
END:STANDARD
END:VTIMEZONE
BEGIN:VEVENT
DTSTART;TZID=Europe/Stockholm:20260104T110000
DTEND;TZID=Europe/Stockholm:20260104T120000
DTSTAMP:20260425T153254
CREATED:20241112T150700Z
LAST-MODIFIED:20260114T100248Z
UID:10005147-1767524400-1767528000@www.immanuel.se
SUMMARY:Gudstjänst på Koreanska
DESCRIPTION:
URL:https://www.immanuel.se/calendar/gudstjanst-pa-koreanska-2/2026-01-04/
CATEGORIES:Svenska kl 11
END:VEVENT
BEGIN:VEVENT
DTSTART;TZID=Europe/Stockholm:20260104T110000
DTEND;TZID=Europe/Stockholm:20260104T120000
DTSTAMP:20260425T153254
CREATED:20251121T101530Z
LAST-MODIFIED:20260425T131524Z
UID:10005955-1767524400-1767528000@www.immanuel.se
SUMMARY:Gudstjänst på svenska
DESCRIPTION:Söndag 4 januari kl 11 Gudstjänst på svenska\nTema: Guds hus\nSöndagen efter nyår\nPredikan: Charlotte Höglund\nMusik: Martin Åsander\nBarnkyrkan är öppen\, Kyrkkaffe serveras
URL:https://www.immanuel.se/calendar/gudstjanst-pa-svenska-59/
END:VEVENT
BEGIN:VEVENT
DTSTART;TZID=Europe/Stockholm:20260104T110000
DTEND;TZID=Europe/Stockholm:20260104T120000
DTSTAMP:20260425T153254
CREATED:20251230T224539Z
LAST-MODIFIED:20260425T131602Z
UID:10005999-1767524400-1767528000@www.immanuel.se
SUMMARY:Gudstjänst på svenska
DESCRIPTION:Söndag 4 januari kl 11 Gudstjänst på svenska\nTema: Guds hus\nSöndagen efter nyår\nPredikan: Charlotte Höglund\nMusik: Martin Åsander\nBarnkyrkan är öppen\, Kyrkkaffe serveras
URL:https://www.immanuel.se/calendar/gudstjanst-pa-svenska-62/
LOCATION:Kyrksalen
CATEGORIES:Gudstjänst
END:VEVENT
BEGIN:VEVENT
DTSTART;TZID=Europe/Stockholm:20260104T110000
DTEND;TZID=Europe/Stockholm:20260104T123000
DTSTAMP:20260425T153254
CREATED:20251104T172554Z
LAST-MODIFIED:20260327T094818Z
UID:10005889-1767524400-1767529800@www.immanuel.se
SUMMARY:Gudstjänst på engelska
DESCRIPTION:
URL:https://www.immanuel.se/calendar/gudstjanst-pa-engelska-142/2026-01-04/
CATEGORIES:Gudstjänst
END:VEVENT
BEGIN:VEVENT
DTSTART;TZID=Europe/Stockholm:20260106T190000
DTEND;TZID=Europe/Stockholm:20260106T210000
DTSTAMP:20260425T153254
CREATED:20251218T131741Z
LAST-MODIFIED:20260106T083207Z
UID:10005988-1767726000-1767733200@www.immanuel.se
SUMMARY:Bibelstudium för unga vuxna
DESCRIPTION:Bibelstudiet är inställt för idag. \nDu är varmt välkommen att gå med i Young Adults-gruppen.\nVi är en grupp studenter och unga yrkesverksamma från\nhela världen med tre önskningar: att lära känna Jesus bättre\,\natt bli passionerade efterföljare av Kristus i vardagen och\natt bygga en kristen gemenskap. En gång i veckan har vi samtal\noch diskussioner kring Bibeln. \nDenna grupp hålls på engelska.
URL:https://www.immanuel.se/calendar/young-adults-gruppen/
END:VEVENT
BEGIN:VEVENT
DTSTART;TZID=Europe/Stockholm:20260111T101500
DTEND;TZID=Europe/Stockholm:20260111T105000
DTSTAMP:20260425T153254
CREATED:20260105T101606Z
LAST-MODIFIED:20260425T131602Z
UID:10006043-1768126500-1768128600@www.immanuel.se
SUMMARY:Kör-lek
DESCRIPTION:Välkommen att lära känna fler barnfamiljer i Immanuelskyrkan! Vi sjunger\, leker och har trevligt tillsammans. Kl. 10.50 bjuds på frukt\, och därefter finns möjlighet att gå vidare till någon av församlingens tre gudstjänster.
URL:https://www.immanuel.se/calendar/kor-lek-2/
LOCATION:Kapellet
CATEGORIES:Barn & unga
END:VEVENT
BEGIN:VEVENT
DTSTART;TZID=Europe/Stockholm:20260111T110000
DTEND;TZID=Europe/Stockholm:20260111T120000
DTSTAMP:20260425T153254
CREATED:20241112T150700Z
LAST-MODIFIED:20260114T100248Z
UID:10005148-1768129200-1768132800@www.immanuel.se
SUMMARY:Gudstjänst på Koreanska
DESCRIPTION:
URL:https://www.immanuel.se/calendar/gudstjanst-pa-koreanska-2/2026-01-11/
CATEGORIES:Svenska kl 11
END:VEVENT
BEGIN:VEVENT
DTSTART;TZID=Europe/Stockholm:20260111T110000
DTEND;TZID=Europe/Stockholm:20260111T120000
DTSTAMP:20260425T153254
CREATED:20251230T224539Z
LAST-MODIFIED:20260425T131602Z
UID:10006001-1768129200-1768132800@www.immanuel.se
SUMMARY:Gudstjänst på svenska
DESCRIPTION:Söndag 11 januari kl 11 Gudstjänst på svenska\nTema: Jesu dop\n1:a sön e trettondedagen\nPredikan: Esther Kazen\nMusik: Björn Gäfvert\nBarnkyrkan är öppen\, Kyrkkaffe serveras
URL:https://www.immanuel.se/calendar/gudstjanst-pa-svenska-63/
LOCATION:Kyrksalen
CATEGORIES:Gudstjänst
END:VEVENT
BEGIN:VEVENT
DTSTART;TZID=Europe/Stockholm:20260111T110000
DTEND;TZID=Europe/Stockholm:20260111T123000
DTSTAMP:20260425T153254
CREATED:20251104T172554Z
LAST-MODIFIED:20260327T094818Z
UID:10005890-1768129200-1768134600@www.immanuel.se
SUMMARY:Gudstjänst på engelska
DESCRIPTION:
URL:https://www.immanuel.se/calendar/gudstjanst-pa-engelska-142/2026-01-11/
CATEGORIES:Gudstjänst
END:VEVENT
BEGIN:VEVENT
DTSTART;TZID=Europe/Stockholm:20260111T123000
DTEND;TZID=Europe/Stockholm:20260111T140000
DTSTAMP:20260425T153254
CREATED:20251230T224539Z
LAST-MODIFIED:20260425T131602Z
UID:10006000-1768134600-1768140000@www.immanuel.se
SUMMARY:Invigningsfest av K3
DESCRIPTION:Trodde ni att visningen i november var allt\, då trodde ni fel. Vi bjuder härmed in till invigningsfest den 11 januari efter gudstjänsten för att kicka igång verksamheterna på bästa sätt.\nAlla rum kommer att vara fyllda med aktiviteter med allt från att vara kreativ inom musik och skapande till liveband och sport. På plats kommer det att finnas enklare lunch att köpa och såklart fika! \nVi är så taggade på den här festen och vi vill att alla ska vara där! Håll utkik på våra sociala medier för mer information!
URL:https://www.immanuel.se/calendar/invigningsfest-av-k3-2/
LOCATION:K3
CATEGORIES:Församlingen
END:VEVENT
BEGIN:VEVENT
DTSTART;TZID=Europe/Stockholm:20260113T153000
DTEND;TZID=Europe/Stockholm:20260113T183000
DTSTAMP:20260425T153254
CREATED:20260105T131604Z
LAST-MODIFIED:20260425T131602Z
UID:10006067-1768318200-1768329000@www.immanuel.se
SUMMARY:HQ - 0-9 år
DESCRIPTION:Holy Quarters\nVälkommen till HQ – Holy Quarters\, vår öppna efter-skola-verksamhet på Källarplan 3 i Immanuelskyrkan.\nHär finns plats för lek\, skapande\, musik\, sport\, mellis\, läxhjälp och gemenskap – mitt i stan\, mitt i veckan.\nAllt är gratis och ingen anmälan krävs. Kom som du är! \nEn trygg och lekfull eftermiddag med idrott\, pyssel\, musik\, mellis och mys. Perfekt för små upptäckare och deras föräldrar.
URL:https://www.immanuel.se/calendar/hq-0-9-ar-3/
LOCATION:K3
CATEGORIES:Barn & unga
END:VEVENT
BEGIN:VEVENT
DTSTART;TZID=Europe/Stockholm:20260113T180000
DTEND;TZID=Europe/Stockholm:20260113T200000
DTSTAMP:20260425T153254
CREATED:20260112T121606Z
LAST-MODIFIED:20260425T131602Z
UID:10006142-1768327200-1768334400@www.immanuel.se
SUMMARY:Ett enenrgisystem att lita på - Temakväll om framtidens energisystem
DESCRIPTION:Hur kan Sverige bygga ett pålitligt\, klimatsäkert och hållbart energisystem för framtiden? Välkommen till ett seminarium om framtidens energi!\nProgrammet kan också följas online. Länk läggs ut före seminariet på Klimatriksdagens hemsida. https://klimatriksdagen.se/…/ett-energisystem-att-lita-pa/
URL:https://www.immanuel.se/calendar/ett-enenrgisystem-att-lita-pa-temakvall-om-framtidens-energisystem/
END:VEVENT
BEGIN:VEVENT
DTSTART;TZID=Europe/Stockholm:20260113T190000
DTEND;TZID=Europe/Stockholm:20260113T210000
DTSTAMP:20260425T153254
CREATED:20251218T162846Z
LAST-MODIFIED:20251218T162847Z
UID:10005990-1768330800-1768338000@www.immanuel.se
SUMMARY:Bibelstudium för unga vuxna på engelska
DESCRIPTION:Du är varmt välkommen att gå med i Young Adults-gruppen.\nVi är en grupp studenter och unga yrkesverksamma från\nhela världen med tre önskningar: att lära känna Jesus bättre\,\natt bli passionerade efterföljare av Kristus i vardagen och\natt bygga en kristen gemenskap. En gång i veckan har vi samtal\noch diskussioner kring Bibeln. \nDenna grupp hålls på engelska.
URL:https://www.immanuel.se/calendar/young-adults-gruppen-2/2026-01-13/
END:VEVENT
BEGIN:VEVENT
DTSTART;TZID=Europe/Stockholm:20260114T153000
DTEND;TZID=Europe/Stockholm:20260114T183000
DTSTAMP:20260425T153254
CREATED:20260105T131604Z
LAST-MODIFIED:20260425T131602Z
UID:10006068-1768404600-1768415400@www.immanuel.se
SUMMARY:HQ - 13-18 år
DESCRIPTION:Holy Quarters\nVälkommen till HQ – Holy Quarters\, vår öppna efter-skola-verksamhet på Källarplan 3 i Immanuelskyrkan.\nHär finns plats för lek\, skapande\, musik\, sport\, mellis\, läxhjälp och gemenskap – mitt i stan\, mitt i veckan.\nAllt är gratis och ingen anmälan krävs. Kom som du är! \nEtt avslappnat häng med musik\, sport\, skapande\, mellis och pluggmöjligheter – där du får vara dig själv\, träffa nya vänner och hitta din plats.
URL:https://www.immanuel.se/calendar/hq-13-18-ar-3/
LOCATION:K3
CATEGORIES:Barn & unga
END:VEVENT
BEGIN:VEVENT
DTSTART;TZID=Europe/Stockholm:20260115T094500
DTEND;TZID=Europe/Stockholm:20260115T120000
DTSTAMP:20260425T153254
CREATED:20251218T161057Z
LAST-MODIFIED:20251218T161057Z
UID:10005989-1768470300-1768478400@www.immanuel.se
SUMMARY:Kvinnors bibelstudiegrupp
DESCRIPTION:Torsdagsmorgnar • 09.45–11.45 • Ungdomsrummet\, nivå K1 \nAlla kvinnor som längtar efter gemenskap med andra kvinnor genom att studera Guds ord är välkomna.\nOm du har några frågor\, vänligen kontakta: Rosemary
URL:https://www.immanuel.se/calendar/kvinnors-bibelstudiegrupp-3/
END:VEVENT
BEGIN:VEVENT
DTSTART;TZID=Europe/Stockholm:20260115T153000
DTEND;TZID=Europe/Stockholm:20260115T183000
DTSTAMP:20260425T153254
CREATED:20260105T131604Z
LAST-MODIFIED:20260425T131602Z
UID:10006069-1768491000-1768501800@www.immanuel.se
SUMMARY:HQ - 10-12 år
DESCRIPTION:Holy Quarters\nVälkommen till HQ – Holy Quarters\, vår öppna efter-skola-verksamhet på Källarplan 3 i Immanuelskyrkan.\nHär finns plats för lek\, skapande\, musik\, sport\, mellis\, läxhjälp och gemenskap – mitt i stan\, mitt i veckan.\nAllt är gratis och ingen anmälan krävs. Kom som du är! \nEn kreativ och aktiv plats efter skolan med sport\, skapande\, musikrum\, mellis och läxhjälp – för dig som vill hänga med kompisar och testa nya saker.
URL:https://www.immanuel.se/calendar/hq-10-12-ar-3/
LOCATION:K3
CATEGORIES:Barn & unga
END:VEVENT
BEGIN:VEVENT
DTSTART;TZID=Europe/Stockholm:20260117T120000
DTEND;TZID=Europe/Stockholm:20260117T140000
DTSTAMP:20260425T153254
CREATED:20251230T224540Z
LAST-MODIFIED:20260425T131602Z
UID:10006002-1768651200-1768658400@www.immanuel.se
SUMMARY:Lunch i Gemenskap
DESCRIPTION:
URL:https://www.immanuel.se/calendar/lunch-i-gemenskap-47/
LOCATION:Kyrkplan
CATEGORIES:Diakoni
END:VEVENT
BEGIN:VEVENT
DTSTART;TZID=Europe/Stockholm:20260118T093000
DTEND;TZID=Europe/Stockholm:20260118T103000
DTSTAMP:20260425T153254
CREATED:20251230T224540Z
LAST-MODIFIED:20260425T131602Z
UID:10006003-1768728600-1768732200@www.immanuel.se
SUMMARY:Frukost i Gemenskap
DESCRIPTION:
URL:https://www.immanuel.se/calendar/frukost-i-gemenskap-21/
LOCATION:Kyrkplan
CATEGORIES:Diakoni
END:VEVENT
BEGIN:VEVENT
DTSTART;TZID=Europe/Stockholm:20260118T101500
DTEND;TZID=Europe/Stockholm:20260118T105000
DTSTAMP:20260425T153254
CREATED:20260105T101606Z
LAST-MODIFIED:20260425T131602Z
UID:10006044-1768731300-1768733400@www.immanuel.se
SUMMARY:Kör-lek
DESCRIPTION:Välkommen att lära känna fler barnfamiljer i Immanuelskyrkan! Vi sjunger\, leker och har trevligt tillsammans. Kl. 10.50 bjuds på frukt\, och därefter finns möjlighet att gå vidare till någon av församlingens tre gudstjänster.
URL:https://www.immanuel.se/calendar/kor-lek-3/
LOCATION:Kapellet
CATEGORIES:Barn & unga
END:VEVENT
BEGIN:VEVENT
DTSTART;TZID=Europe/Stockholm:20260118T110000
DTEND;TZID=Europe/Stockholm:20260118T120000
DTSTAMP:20260425T153254
CREATED:20241112T150700Z
LAST-MODIFIED:20260114T100248Z
UID:10005149-1768734000-1768737600@www.immanuel.se
SUMMARY:Gudstjänst på Koreanska
DESCRIPTION:
URL:https://www.immanuel.se/calendar/gudstjanst-pa-koreanska-2/2026-01-18/
CATEGORIES:Svenska kl 11
END:VEVENT
BEGIN:VEVENT
DTSTART;TZID=Europe/Stockholm:20260118T110000
DTEND;TZID=Europe/Stockholm:20260118T120000
DTSTAMP:20260425T153254
CREATED:20251230T224540Z
LAST-MODIFIED:20260425T131602Z
UID:10006004-1768734000-1768737600@www.immanuel.se
SUMMARY:Gudstjänst på svenska
DESCRIPTION:Söndag 18 januari kl 11 Gudstjänst på svenska med nattvard\nTema: Livets källa\n2:sön e trettondedagen\nPredikan: Anna Berndes\nMusik: Rebecka Gustafsson\nBarnkyrkan är öppen\, Kyrkkaffe serveras
URL:https://www.immanuel.se/calendar/gudstjanst-pa-svenska-64/
LOCATION:Kyrksalen
CATEGORIES:Gudstjänst
END:VEVENT
BEGIN:VEVENT
DTSTART;TZID=Europe/Stockholm:20260118T110000
DTEND;TZID=Europe/Stockholm:20260118T123000
DTSTAMP:20260425T153254
CREATED:20251104T172554Z
LAST-MODIFIED:20260327T094818Z
UID:10005891-1768734000-1768739400@www.immanuel.se
SUMMARY:Gudstjänst på engelska
DESCRIPTION:
URL:https://www.immanuel.se/calendar/gudstjanst-pa-engelska-142/2026-01-18/
CATEGORIES:Gudstjänst
END:VEVENT
BEGIN:VEVENT
DTSTART;TZID=Europe/Stockholm:20260120T130000
DTEND;TZID=Europe/Stockholm:20260120T150000
DTSTAMP:20260425T153254
CREATED:20260115T152252Z
LAST-MODIFIED:20260115T152416Z
UID:10006143-1768914000-1768921200@www.immanuel.se
SUMMARY:Tisdagsträffen
DESCRIPTION:Är du dagledig och intresserad av kultur\, teologi\, kyrka och samhälle? Då erbjuder Immanuel Senior ett varierat program. Öppet för alla oavsett livsåskådning. Välkommen in i gemenskapen! \nSe vårens fulla program här
URL:https://www.immanuel.se/calendar/tisdagstraffen-53/2026-01-20/
LOCATION:Waldenströmssalen
CATEGORIES:Senior
END:VEVENT
BEGIN:VEVENT
DTSTART;TZID=Europe/Stockholm:20260120T153000
DTEND;TZID=Europe/Stockholm:20260120T183000
DTSTAMP:20260425T153254
CREATED:20260105T131605Z
LAST-MODIFIED:20260425T131602Z
UID:10006070-1768923000-1768933800@www.immanuel.se
SUMMARY:HQ - 0-9 år
DESCRIPTION:Holy Quarters\nVälkommen till HQ – Holy Quarters\, vår öppna efter-skola-verksamhet på Källarplan 3 i Immanuelskyrkan.\nHär finns plats för lek\, skapande\, musik\, sport\, mellis\, läxhjälp och gemenskap – mitt i stan\, mitt i veckan.\nAllt är gratis och ingen anmälan krävs. Kom som du är! \nEn trygg och lekfull eftermiddag med idrott\, pyssel\, musik\, mellis och mys. Perfekt för små upptäckare och deras föräldrar.
URL:https://www.immanuel.se/calendar/hq-0-9-ar-4/
LOCATION:K3
CATEGORIES:Barn & unga
END:VEVENT
BEGIN:VEVENT
DTSTART;TZID=Europe/Stockholm:20260120T190000
DTEND;TZID=Europe/Stockholm:20260120T210000
DTSTAMP:20260425T153254
CREATED:20251218T162846Z
LAST-MODIFIED:20251218T162847Z
UID:10005991-1768935600-1768942800@www.immanuel.se
SUMMARY:Bibelstudium för unga vuxna på engelska
DESCRIPTION:Du är varmt välkommen att gå med i Young Adults-gruppen.\nVi är en grupp studenter och unga yrkesverksamma från\nhela världen med tre önskningar: att lära känna Jesus bättre\,\natt bli passionerade efterföljare av Kristus i vardagen och\natt bygga en kristen gemenskap. En gång i veckan har vi samtal\noch diskussioner kring Bibeln. \nDenna grupp hålls på engelska.
URL:https://www.immanuel.se/calendar/young-adults-gruppen-2/2026-01-20/
END:VEVENT
BEGIN:VEVENT
DTSTART;TZID=Europe/Stockholm:20260121T153000
DTEND;TZID=Europe/Stockholm:20260121T183000
DTSTAMP:20260425T153254
CREATED:20260105T131605Z
LAST-MODIFIED:20260425T131602Z
UID:10006071-1769009400-1769020200@www.immanuel.se
SUMMARY:HQ - 13-18 år
DESCRIPTION:Holy Quarters\nVälkommen till HQ – Holy Quarters\, vår öppna efter-skola-verksamhet på Källarplan 3 i Immanuelskyrkan.\nHär finns plats för lek\, skapande\, musik\, sport\, mellis\, läxhjälp och gemenskap – mitt i stan\, mitt i veckan.\nAllt är gratis och ingen anmälan krävs. Kom som du är! \nEtt avslappnat häng med musik\, sport\, skapande\, mellis och pluggmöjligheter – där du får vara dig själv\, träffa nya vänner och hitta din plats.
URL:https://www.immanuel.se/calendar/hq-13-18-ar-4/
LOCATION:K3
CATEGORIES:Barn & unga
END:VEVENT
BEGIN:VEVENT
DTSTART;TZID=Europe/Stockholm:20260122T094500
DTEND;TZID=Europe/Stockholm:20260122T114500
DTSTAMP:20260425T153254
CREATED:20241211T105757Z
LAST-MODIFIED:20241211T132929Z
UID:10005413-1769075100-1769082300@www.immanuel.se
SUMMARY:Kvinnors bibelstudiegrupp
DESCRIPTION:Torsdagsmorgnar • 09.45–11.45 • Ungdomsrummet\, nivå K1 \nAlla kvinnor som längtar efter gemenskap med andra kvinnor genom att studera Guds ord är välkomna.\nOm du har några frågor\, vänligen kontakta: Rosemary
URL:https://www.immanuel.se/calendar/kvinnors-bibelstudiegrupp/2026-01-22/
END:VEVENT
BEGIN:VEVENT
DTSTART;TZID=Europe/Stockholm:20260122T153000
DTEND;TZID=Europe/Stockholm:20260122T183000
DTSTAMP:20260425T153254
CREATED:20260105T131605Z
LAST-MODIFIED:20260425T131603Z
UID:10006072-1769095800-1769106600@www.immanuel.se
SUMMARY:HQ - 10-12 år
DESCRIPTION:Holy Quarters\nVälkommen till HQ – Holy Quarters\, vår öppna efter-skola-verksamhet på Källarplan 3 i Immanuelskyrkan.\nHär finns plats för lek\, skapande\, musik\, sport\, mellis\, läxhjälp och gemenskap – mitt i stan\, mitt i veckan.\nAllt är gratis och ingen anmälan krävs. Kom som du är! \nEn kreativ och aktiv plats efter skolan med sport\, skapande\, musikrum\, mellis och läxhjälp – för dig som vill hänga med kompisar och testa nya saker.
URL:https://www.immanuel.se/calendar/hq-10-12-ar-4/
LOCATION:K3
CATEGORIES:Barn & unga
END:VEVENT
BEGIN:VEVENT
DTSTART;TZID=Europe/Stockholm:20260122T183000
DTEND;TZID=Europe/Stockholm:20260122T210000
DTSTAMP:20260425T153254
CREATED:20241203T115912Z
LAST-MODIFIED:20241203T121032Z
UID:10005309-1769106600-1769115600@www.immanuel.se
SUMMARY:bibelstudie - på engelska
DESCRIPTION:Torsdagskvällens bibelstudium\nMötet börjar kl. 18.30 med en lätt måltid och fortsätter kl. 19.30 med själva studiet. \nKursen är främst utformad för nya och unga kristna\, men alla är välkomna! \nVänligen meddela Hugh om du planerar att komma\, både för att veta hur mycket mat som behövs och för att han ska kunna ge dig en dörrkod ifall huvudentrén är låst.
URL:https://www.immanuel.se/calendar/bibelstudie-pa-engelska/2026-01-22/
END:VEVENT
BEGIN:VEVENT
DTSTART;TZID=Europe/Stockholm:20260125T101500
DTEND;TZID=Europe/Stockholm:20260125T105000
DTSTAMP:20260425T153254
CREATED:20260105T101607Z
LAST-MODIFIED:20260425T131603Z
UID:10006045-1769336100-1769338200@www.immanuel.se
SUMMARY:Kör-lek
DESCRIPTION:Välkommen att lära känna fler barnfamiljer i Immanuelskyrkan! Vi sjunger\, leker och har trevligt tillsammans. Kl. 10.50 bjuds på frukt\, och därefter finns möjlighet att gå vidare till någon av församlingens tre gudstjänster.
URL:https://www.immanuel.se/calendar/kor-lek-4/
LOCATION:Kapellet
CATEGORIES:Barn & unga
END:VEVENT
END:VCALENDAR