BEGIN:VCALENDAR
VERSION:2.0
PRODID:-//Immanuelskyrkan - ECPv6.15.20//NONSGML v1.0//EN
CALSCALE:GREGORIAN
METHOD:PUBLISH
X-ORIGINAL-URL:https://www.immanuel.se
X-WR-CALDESC:Händelser för Immanuelskyrkan
REFRESH-INTERVAL;VALUE=DURATION:PT1H
X-Robots-Tag:noindex
X-PUBLISHED-TTL:PT1H
BEGIN:VTIMEZONE
TZID:Europe/Stockholm
BEGIN:DAYLIGHT
TZOFFSETFROM:+0100
TZOFFSETTO:+0200
TZNAME:CEST
DTSTART:20250330T010000
END:DAYLIGHT
BEGIN:STANDARD
TZOFFSETFROM:+0200
TZOFFSETTO:+0100
TZNAME:CET
DTSTART:20251026T010000
END:STANDARD
BEGIN:DAYLIGHT
TZOFFSETFROM:+0100
TZOFFSETTO:+0200
TZNAME:CEST
DTSTART:20260329T010000
END:DAYLIGHT
BEGIN:STANDARD
TZOFFSETFROM:+0200
TZOFFSETTO:+0100
TZNAME:CET
DTSTART:20261025T010000
END:STANDARD
BEGIN:DAYLIGHT
TZOFFSETFROM:+0100
TZOFFSETTO:+0200
TZNAME:CEST
DTSTART:20270328T010000
END:DAYLIGHT
BEGIN:STANDARD
TZOFFSETFROM:+0200
TZOFFSETTO:+0100
TZNAME:CET
DTSTART:20271031T010000
END:STANDARD
END:VTIMEZONE
BEGIN:VEVENT
DTSTART;TZID=Europe/Stockholm:20260305T094500
DTEND;TZID=Europe/Stockholm:20260305T114500
DTSTAMP:20260425T144254
CREATED:20241211T105757Z
LAST-MODIFIED:20241211T132929Z
UID:10005418-1772703900-1772711100@www.immanuel.se
SUMMARY:Kvinnors bibelstudiegrupp
DESCRIPTION:Torsdagsmorgnar • 09.45–11.45 • Ungdomsrummet\, nivå K1 \nAlla kvinnor som längtar efter gemenskap med andra kvinnor genom att studera Guds ord är välkomna.\nOm du har några frågor\, vänligen kontakta: Rosemary
URL:https://www.immanuel.se/calendar/kvinnors-bibelstudiegrupp/2026-03-05/
END:VEVENT
BEGIN:VEVENT
DTSTART;TZID=Europe/Stockholm:20260305T153000
DTEND;TZID=Europe/Stockholm:20260305T183000
DTSTAMP:20260425T144254
CREATED:20260105T131609Z
LAST-MODIFIED:20260425T121632Z
UID:10006090-1772724600-1772735400@www.immanuel.se
SUMMARY:HQ - 10-12 år
DESCRIPTION:Holy Quarters\nVälkommen till HQ – Holy Quarters\, vår öppna efter-skola-verksamhet på Källarplan 3 i Immanuelskyrkan.\nHär finns plats för lek\, skapande\, musik\, sport\, mellis\, läxhjälp och gemenskap – mitt i stan\, mitt i veckan.\nAllt är gratis och ingen anmälan krävs. Kom som du är! \nEn kreativ och aktiv plats efter skolan med sport\, skapande\, musikrum\, mellis och läxhjälp – för dig som vill hänga med kompisar och testa nya saker.
URL:https://www.immanuel.se/calendar/hq-10-12-ar-10/
LOCATION:K3
CATEGORIES:Barn & unga
END:VEVENT
BEGIN:VEVENT
DTSTART;TZID=Europe/Stockholm:20260305T183000
DTEND;TZID=Europe/Stockholm:20260305T210000
DTSTAMP:20260425T144254
CREATED:20241203T115912Z
LAST-MODIFIED:20241203T121032Z
UID:10005314-1772735400-1772744400@www.immanuel.se
SUMMARY:bibelstudie - på engelska
DESCRIPTION:Torsdagskvällens bibelstudium\nMötet börjar kl. 18.30 med en lätt måltid och fortsätter kl. 19.30 med själva studiet. \nKursen är främst utformad för nya och unga kristna\, men alla är välkomna! \nVänligen meddela Hugh om du planerar att komma\, både för att veta hur mycket mat som behövs och för att han ska kunna ge dig en dörrkod ifall huvudentrén är låst.
URL:https://www.immanuel.se/calendar/bibelstudie-pa-engelska/2026-03-05/
END:VEVENT
BEGIN:VEVENT
DTSTART;TZID=Europe/Stockholm:20260306T183000
DTEND;TZID=Europe/Stockholm:20260306T220000
DTSTAMP:20260425T144254
CREATED:20260309T131615Z
LAST-MODIFIED:20260425T121632Z
UID:10006213-1772821800-1772834400@www.immanuel.se
SUMMARY:FREDA
DESCRIPTION:FREDA är en tonårskväll för dig som är 13 år och uppåt. Vi träffas varje fredag kl 18.30–22.00. Vi börjar kvällen med fika som följs av aktiviteter och andakt. Se schemat här: https://www.immanuel.se/freda/
URL:https://www.immanuel.se/calendar/freda-23/
CATEGORIES:Barn & unga
END:VEVENT
BEGIN:VEVENT
DTSTART;TZID=Europe/Stockholm:20260308T101500
DTEND;TZID=Europe/Stockholm:20260308T105000
DTSTAMP:20260425T144254
CREATED:20260105T101609Z
LAST-MODIFIED:20260425T121632Z
UID:10006051-1772964900-1772967000@www.immanuel.se
SUMMARY:Kör-lek
DESCRIPTION:Välkommen att lära känna fler barnfamiljer i Immanuelskyrkan! Vi sjunger\, leker och har trevligt tillsammans. Kl. 10.50 bjuds på frukt\, och därefter finns möjlighet att gå vidare till någon av församlingens tre gudstjänster.
URL:https://www.immanuel.se/calendar/kor-lek-10/
LOCATION:Kapellet
CATEGORIES:Barn & unga
END:VEVENT
BEGIN:VEVENT
DTSTART;TZID=Europe/Stockholm:20260308T110000
DTEND;TZID=Europe/Stockholm:20260308T120000
DTSTAMP:20260425T144254
CREATED:20241112T150700Z
LAST-MODIFIED:20260114T100248Z
UID:10005156-1772967600-1772971200@www.immanuel.se
SUMMARY:Gudstjänst på Koreanska
DESCRIPTION:
URL:https://www.immanuel.se/calendar/gudstjanst-pa-koreanska-2/2026-03-08/
CATEGORIES:Svenska kl 11
END:VEVENT
BEGIN:VEVENT
DTSTART;TZID=Europe/Stockholm:20260308T110000
DTEND;TZID=Europe/Stockholm:20260308T120000
DTSTAMP:20260425T144254
CREATED:20251230T224543Z
LAST-MODIFIED:20260425T121632Z
UID:10006025-1772967600-1772971200@www.immanuel.se
SUMMARY:Gudstjänst på svenska
DESCRIPTION:Söndag 8 mars kl 11 Gudstjänst på svenska\nTema: Kampen mot ondskan\n3:e sön i fastan\nPredikan: Esther Kazen\nMusik: Immanuel Nova under ledning av Rebecka Gustafsson\nBarnkyrkan är öppen\, Kyrkkaffe serveras
URL:https://www.immanuel.se/calendar/gudstjanst-pa-svenska-70/
LOCATION:Kyrksalen
CATEGORIES:Gudstjänst
END:VEVENT
BEGIN:VEVENT
DTSTART;TZID=Europe/Stockholm:20260308T110000
DTEND;TZID=Europe/Stockholm:20260308T123000
DTSTAMP:20260425T144254
CREATED:20260304T115310Z
LAST-MODIFIED:20260304T115334Z
UID:10006211-1772967600-1772973000@www.immanuel.se
SUMMARY:Gudstjänst på engelska
DESCRIPTION:Johannes 11Pastor Hugh predikar
URL:https://www.immanuel.se/calendar/gudstjanst-pa-engelska-155/
END:VEVENT
BEGIN:VEVENT
DTSTART;TZID=Europe/Stockholm:20260309T120000
DTEND;TZID=Europe/Stockholm:20260309T130000
DTSTAMP:20260425T144254
CREATED:20260112T111610Z
LAST-MODIFIED:20260425T121632Z
UID:10006138-1773057600-1773061200@www.immanuel.se
SUMMARY:Lunchkonsert
DESCRIPTION:“En intim konsert med stort utspel!”\nMusik av bl a Schubert och Britten.\nMartin Åsander\, tenor\nAnders Emtell\, gitarr.
URL:https://www.immanuel.se/calendar/lunchkonsert-29/
LOCATION:Kyrksalen
CATEGORIES:Konsert
END:VEVENT
BEGIN:VEVENT
DTSTART;TZID=Europe/Stockholm:20260309T130000
DTEND;TZID=Europe/Stockholm:20260309T153000
DTSTAMP:20260425T144254
CREATED:20260205T131611Z
LAST-MODIFIED:20260425T121632Z
UID:10006188-1773061200-1773070200@www.immanuel.se
SUMMARY:Stickcafé
DESCRIPTION:
URL:https://www.immanuel.se/calendar/stickcafe-20/
LOCATION:Kyrkplan
CATEGORIES:Hantverk
END:VEVENT
BEGIN:VEVENT
DTSTART;TZID=Europe/Stockholm:20260310T130000
DTEND;TZID=Europe/Stockholm:20260310T150000
DTSTAMP:20260425T144254
CREATED:20260115T152252Z
LAST-MODIFIED:20260115T152416Z
UID:10006150-1773147600-1773154800@www.immanuel.se
SUMMARY:Tisdagsträffen
DESCRIPTION:Är du dagledig och intresserad av kultur\, teologi\, kyrka och samhälle? Då erbjuder Immanuel Senior ett varierat program. Öppet för alla oavsett livsåskådning. Välkommen in i gemenskapen! \nSe vårens fulla program här
URL:https://www.immanuel.se/calendar/tisdagstraffen-53/2026-03-10/
LOCATION:Waldenströmssalen
CATEGORIES:Senior
END:VEVENT
BEGIN:VEVENT
DTSTART;TZID=Europe/Stockholm:20260310T153000
DTEND;TZID=Europe/Stockholm:20260310T183000
DTSTAMP:20260425T144254
CREATED:20260105T131610Z
LAST-MODIFIED:20260425T121632Z
UID:10006091-1773156600-1773167400@www.immanuel.se
SUMMARY:HQ - 0-9 år
DESCRIPTION:Holy Quarters\nVälkommen till HQ – Holy Quarters\, vår öppna efter-skola-verksamhet på Källarplan 3 i Immanuelskyrkan.\nHär finns plats för lek\, skapande\, musik\, sport\, mellis\, läxhjälp och gemenskap – mitt i stan\, mitt i veckan.\nAllt är gratis och ingen anmälan krävs. Kom som du är! \nEn trygg och lekfull eftermiddag med idrott\, pyssel\, musik\, mellis och mys. Perfekt för små upptäckare och deras föräldrar.
URL:https://www.immanuel.se/calendar/hq-0-9-ar-11/
LOCATION:K3
CATEGORIES:Barn & unga
END:VEVENT
BEGIN:VEVENT
DTSTART;TZID=Europe/Stockholm:20260310T163000
DTEND;TZID=Europe/Stockholm:20260310T180000
DTSTAMP:20260425T144254
CREATED:20260306T141615Z
LAST-MODIFIED:20260425T121632Z
UID:10006212-1773160200-1773165600@www.immanuel.se
SUMMARY:Från biltrafik till tillgänglighet
DESCRIPTION:Waldenströmssalen 10 mars kl 16:30: Seminarium om mobilitet och tillgänglighet\, med Klimatriksdagen och KlimatSverige
URL:https://www.immanuel.se/calendar/fran-biltrafik-till-tillganglighet/
LOCATION:Waldenströmssalen
END:VEVENT
BEGIN:VEVENT
DTSTART;TZID=Europe/Stockholm:20260310T190000
DTEND;TZID=Europe/Stockholm:20260310T210000
DTSTAMP:20260425T144254
CREATED:20251216T145057Z
LAST-MODIFIED:20251216T145524Z
UID:10005973-1773169200-1773176400@www.immanuel.se
SUMMARY:Bibelstudium för unga vuxna
DESCRIPTION:Du är varmt välkommen att gå med i Young Adults-gruppen.\nVi är en grupp studenter och unga yrkesverksamma från\nhela världen med tre önskningar: att lära känna Jesus bättre\,\natt bli passionerade efterföljare av Kristus i vardagen och\natt bygga en kristen gemenskap. En gång i veckan har vi samtal\noch diskussioner kring Bibeln. Denna grupp hålls på engelska. \nClick here to read more.
URL:https://www.immanuel.se/calendar/bibelstudium-for-unga-vuxna-3/2026-03-10/
END:VEVENT
BEGIN:VEVENT
DTSTART;TZID=Europe/Stockholm:20260311T120000
DTEND;TZID=Europe/Stockholm:20260311T130000
DTSTAMP:20260425T144254
CREATED:20260218T121609Z
LAST-MODIFIED:20260425T121632Z
UID:10006197-1773230400-1773234000@www.immanuel.se
SUMMARY:Lunchkonsert
DESCRIPTION:Orgelkonsert med Mina Choi
URL:https://www.immanuel.se/calendar/lunchkonsert-33/
LOCATION:Kyrksalen
CATEGORIES:Konsert
END:VEVENT
BEGIN:VEVENT
DTSTART;TZID=Europe/Stockholm:20260311T133000
DTEND;TZID=Europe/Stockholm:20260311T150000
DTSTAMP:20260425T144254
CREATED:20260218T131612Z
LAST-MODIFIED:20260425T121632Z
UID:10006198-1773235800-1773241200@www.immanuel.se
SUMMARY:Workshop med Mina Choi
DESCRIPTION:”Vad händer om prästen vill ha psalmer\, församlingen vill ha Hillsong och körledaren vill ha Bach-kantater?”
URL:https://www.immanuel.se/calendar/workshop-med-mina-choi/
LOCATION:Kyrksalen
CATEGORIES:Musik & kultur
END:VEVENT
BEGIN:VEVENT
DTSTART;TZID=Europe/Stockholm:20260311T153000
DTEND;TZID=Europe/Stockholm:20260311T170000
DTSTAMP:20260425T144254
CREATED:20260218T131612Z
LAST-MODIFIED:20260425T121632Z
UID:10006199-1773243000-1773248400@www.immanuel.se
SUMMARY:Workshop med Mina Choi
DESCRIPTION:”Att tänka om kring kyrkokören”
URL:https://www.immanuel.se/calendar/workshop-med-mina-choi-2/
LOCATION:Kyrksalen
CATEGORIES:Musik & kultur
END:VEVENT
BEGIN:VEVENT
DTSTART;TZID=Europe/Stockholm:20260311T153000
DTEND;TZID=Europe/Stockholm:20260311T183000
DTSTAMP:20260425T144254
CREATED:20260105T131610Z
LAST-MODIFIED:20260425T121632Z
UID:10006092-1773243000-1773253800@www.immanuel.se
SUMMARY:HQ - 13-18 år
DESCRIPTION:Holy Quarters\nVälkommen till HQ – Holy Quarters\, vår öppna efter-skola-verksamhet på Källarplan 3 i Immanuelskyrkan.\nHär finns plats för lek\, skapande\, musik\, sport\, mellis\, läxhjälp och gemenskap – mitt i stan\, mitt i veckan.\nAllt är gratis och ingen anmälan krävs. Kom som du är! \nEtt avslappnat häng med musik\, sport\, skapande\, mellis och pluggmöjligheter – där du får vara dig själv\, träffa nya vänner och hitta din plats.
URL:https://www.immanuel.se/calendar/hq-13-18-ar-11/
LOCATION:K3
CATEGORIES:Barn & unga
END:VEVENT
BEGIN:VEVENT
DTSTART;TZID=Europe/Stockholm:20260311T180000
DTEND;TZID=Europe/Stockholm:20260311T190000
DTSTAMP:20260425T144254
CREATED:20260205T091609Z
LAST-MODIFIED:20260425T121632Z
UID:10006170-1773252000-1773255600@www.immanuel.se
SUMMARY:Onsdagsmässan
DESCRIPTION:
URL:https://www.immanuel.se/calendar/onsdagsmassan-24/
LOCATION:Kapellet
CATEGORIES:Andakter
END:VEVENT
BEGIN:VEVENT
DTSTART;TZID=Europe/Stockholm:20260311T190000
DTEND;TZID=Europe/Stockholm:20260311T210000
DTSTAMP:20260425T144254
CREATED:20260205T111610Z
LAST-MODIFIED:20260425T121632Z
UID:10006183-1773255600-1773262800@www.immanuel.se
SUMMARY:After Worship
DESCRIPTION:Existens
URL:https://www.immanuel.se/calendar/after-worship-14/
LOCATION:K3
CATEGORIES:Unga Vuxna
END:VEVENT
BEGIN:VEVENT
DTSTART;TZID=Europe/Stockholm:20260312T094500
DTEND;TZID=Europe/Stockholm:20260312T114500
DTSTAMP:20260425T144254
CREATED:20241211T105757Z
LAST-MODIFIED:20241211T132929Z
UID:10005419-1773308700-1773315900@www.immanuel.se
SUMMARY:Kvinnors bibelstudiegrupp
DESCRIPTION:Torsdagsmorgnar • 09.45–11.45 • Ungdomsrummet\, nivå K1 \nAlla kvinnor som längtar efter gemenskap med andra kvinnor genom att studera Guds ord är välkomna.\nOm du har några frågor\, vänligen kontakta: Rosemary
URL:https://www.immanuel.se/calendar/kvinnors-bibelstudiegrupp/2026-03-12/
END:VEVENT
BEGIN:VEVENT
DTSTART;TZID=Europe/Stockholm:20260312T153000
DTEND;TZID=Europe/Stockholm:20260312T183000
DTSTAMP:20260425T144254
CREATED:20260105T131610Z
LAST-MODIFIED:20260425T121632Z
UID:10006093-1773329400-1773340200@www.immanuel.se
SUMMARY:HQ - 10-12 år
DESCRIPTION:Holy Quarters\nVälkommen till HQ – Holy Quarters\, vår öppna efter-skola-verksamhet på Källarplan 3 i Immanuelskyrkan.\nHär finns plats för lek\, skapande\, musik\, sport\, mellis\, läxhjälp och gemenskap – mitt i stan\, mitt i veckan.\nAllt är gratis och ingen anmälan krävs. Kom som du är! \nEn kreativ och aktiv plats efter skolan med sport\, skapande\, musikrum\, mellis och läxhjälp – för dig som vill hänga med kompisar och testa nya saker.
URL:https://www.immanuel.se/calendar/hq-10-12-ar-11/
LOCATION:K3
CATEGORIES:Barn & unga
END:VEVENT
BEGIN:VEVENT
DTSTART;TZID=Europe/Stockholm:20260312T183000
DTEND;TZID=Europe/Stockholm:20260312T210000
DTSTAMP:20260425T144254
CREATED:20241203T115912Z
LAST-MODIFIED:20241203T121032Z
UID:10005315-1773340200-1773349200@www.immanuel.se
SUMMARY:bibelstudie - på engelska
DESCRIPTION:Torsdagskvällens bibelstudium\nMötet börjar kl. 18.30 med en lätt måltid och fortsätter kl. 19.30 med själva studiet. \nKursen är främst utformad för nya och unga kristna\, men alla är välkomna! \nVänligen meddela Hugh om du planerar att komma\, både för att veta hur mycket mat som behövs och för att han ska kunna ge dig en dörrkod ifall huvudentrén är låst.
URL:https://www.immanuel.se/calendar/bibelstudie-pa-engelska/2026-03-12/
END:VEVENT
BEGIN:VEVENT
DTSTART;TZID=Europe/Stockholm:20260313T183000
DTEND;TZID=Europe/Stockholm:20260313T220000
DTSTAMP:20260425T144254
CREATED:20260309T131616Z
LAST-MODIFIED:20260425T121632Z
UID:10006214-1773426600-1773439200@www.immanuel.se
SUMMARY:FREDA
DESCRIPTION:FREDA är en tonårskväll för dig som är 13 år och uppåt. Vi träffas varje fredag kl 18.30–22.00. Vi börjar kvällen med fika som följs av aktiviteter och andakt. Se schemat här: https://www.immanuel.se/freda/
URL:https://www.immanuel.se/calendar/freda-24/
CATEGORIES:Barn & unga
END:VEVENT
BEGIN:VEVENT
DTSTART;TZID=Europe/Stockholm:20260315T101500
DTEND;TZID=Europe/Stockholm:20260315T105000
DTSTAMP:20260425T144254
CREATED:20260105T101609Z
LAST-MODIFIED:20260425T121633Z
UID:10006052-1773569700-1773571800@www.immanuel.se
SUMMARY:Kör-lek
DESCRIPTION:Välkommen att lära känna fler barnfamiljer i Immanuelskyrkan! Vi sjunger\, leker och har trevligt tillsammans. Kl. 10.50 bjuds på frukt\, och därefter finns möjlighet att gå vidare till någon av församlingens tre gudstjänster.
URL:https://www.immanuel.se/calendar/kor-lek-11/
LOCATION:Kapellet
CATEGORIES:Barn & unga
END:VEVENT
BEGIN:VEVENT
DTSTART;TZID=Europe/Stockholm:20260315T110000
DTEND;TZID=Europe/Stockholm:20260315T120000
DTSTAMP:20260425T144254
CREATED:20241112T150700Z
LAST-MODIFIED:20260114T100248Z
UID:10005157-1773572400-1773576000@www.immanuel.se
SUMMARY:Gudstjänst på Koreanska
DESCRIPTION:
URL:https://www.immanuel.se/calendar/gudstjanst-pa-koreanska-2/2026-03-15/
CATEGORIES:Svenska kl 11
END:VEVENT
BEGIN:VEVENT
DTSTART;TZID=Europe/Stockholm:20260315T110000
DTEND;TZID=Europe/Stockholm:20260315T120000
DTSTAMP:20260425T144254
CREATED:20251230T224543Z
LAST-MODIFIED:20260425T121632Z
UID:10006026-1773572400-1773576000@www.immanuel.se
SUMMARY:Gudstjänst på svenska
DESCRIPTION:Söndag 15 mars kl 11 Gudstjänst på svenska med nattvard\nTema: Livets bröd\nMidfastosöndagen\nPredikan: Robert Eriksson\nMusik: Immanuel Gospel under ledning av Nina Tellander\nBarnkyrkan är öppen\, Kyrkkaffe serveras
URL:https://www.immanuel.se/calendar/gudstjanst-pa-svenska-71/
LOCATION:Kyrksalen
CATEGORIES:Gudstjänst
END:VEVENT
BEGIN:VEVENT
DTSTART;TZID=Europe/Stockholm:20260315T110000
DTEND;TZID=Europe/Stockholm:20260315T123000
DTSTAMP:20260425T144254
CREATED:20260310T121511Z
LAST-MODIFIED:20260310T123800Z
UID:10006226-1773572400-1773577800@www.immanuel.se
SUMMARY:Gudstjänst på engelska
DESCRIPTION:Psaltaren 104\nKolosserbrevet 1:15–20\nPastor Hugh Doyle predikar
URL:https://www.immanuel.se/calendar/gudstjanst-pa-engelska-156/
END:VEVENT
BEGIN:VEVENT
DTSTART;TZID=Europe/Stockholm:20260316T120000
DTEND;TZID=Europe/Stockholm:20260316T130000
DTSTAMP:20260425T144254
CREATED:20260112T111610Z
LAST-MODIFIED:20260425T121633Z
UID:10006139-1773662400-1773666000@www.immanuel.se
SUMMARY:Lunchkonsert
DESCRIPTION:Pergolesi: Stabat Mater\nLaura Orostica\, sopran\nElin Mossberg\, alt\nBjörn Gäfvert\, orgel
URL:https://www.immanuel.se/calendar/lunchkonsert-30/
LOCATION:Kyrksalen
CATEGORIES:Konsert
END:VEVENT
BEGIN:VEVENT
DTSTART;TZID=Europe/Stockholm:20260317T130000
DTEND;TZID=Europe/Stockholm:20260317T150000
DTSTAMP:20260425T144254
CREATED:20260115T152252Z
LAST-MODIFIED:20260115T152416Z
UID:10006151-1773752400-1773759600@www.immanuel.se
SUMMARY:Tisdagsträffen
DESCRIPTION:Är du dagledig och intresserad av kultur\, teologi\, kyrka och samhälle? Då erbjuder Immanuel Senior ett varierat program. Öppet för alla oavsett livsåskådning. Välkommen in i gemenskapen! \nSe vårens fulla program här
URL:https://www.immanuel.se/calendar/tisdagstraffen-53/2026-03-17/
LOCATION:Waldenströmssalen
CATEGORIES:Senior
END:VEVENT
END:VCALENDAR