BEGIN:VCALENDAR
VERSION:2.0
PRODID:-//Immanuelskyrkan - ECPv6.15.20//NONSGML v1.0//EN
CALSCALE:GREGORIAN
METHOD:PUBLISH
X-WR-CALNAME:Immanuelskyrkan
X-ORIGINAL-URL:https://www.immanuel.se
X-WR-CALDESC:Händelser för Immanuelskyrkan
REFRESH-INTERVAL;VALUE=DURATION:PT1H
X-Robots-Tag:noindex
X-PUBLISHED-TTL:PT1H
BEGIN:VTIMEZONE
TZID:Europe/Stockholm
BEGIN:DAYLIGHT
TZOFFSETFROM:+0100
TZOFFSETTO:+0200
TZNAME:CEST
DTSTART:20250330T010000
END:DAYLIGHT
BEGIN:STANDARD
TZOFFSETFROM:+0200
TZOFFSETTO:+0100
TZNAME:CET
DTSTART:20251026T010000
END:STANDARD
BEGIN:DAYLIGHT
TZOFFSETFROM:+0100
TZOFFSETTO:+0200
TZNAME:CEST
DTSTART:20260329T010000
END:DAYLIGHT
BEGIN:STANDARD
TZOFFSETFROM:+0200
TZOFFSETTO:+0100
TZNAME:CET
DTSTART:20261025T010000
END:STANDARD
BEGIN:DAYLIGHT
TZOFFSETFROM:+0100
TZOFFSETTO:+0200
TZNAME:CEST
DTSTART:20270328T010000
END:DAYLIGHT
BEGIN:STANDARD
TZOFFSETFROM:+0200
TZOFFSETTO:+0100
TZNAME:CET
DTSTART:20271031T010000
END:STANDARD
END:VTIMEZONE
BEGIN:VEVENT
DTSTART;TZID=Europe/Stockholm:20260501T183000
DTEND;TZID=Europe/Stockholm:20260501T220000
DTSTAMP:20260424T003238
CREATED:20260309T131621Z
LAST-MODIFIED:20260331T081429Z
UID:32335-1777660200-1777672800@www.immanuel.se
SUMMARY:FREDA
DESCRIPTION:FREDA är en tonårskväll för dig som är 13 år och uppåt. Vi träffas varje fredag kl 18.30–22.00. Vi börjar kvällen med fika som följs av aktiviteter och andakt. Se schemat här: https://www.immanuel.se/freda/
URL:https://www.immanuel.se/calendar/freda-30/
CATEGORIES:Barn & unga
END:VEVENT
BEGIN:VEVENT
DTSTART;TZID=Europe/Stockholm:20260502T100000
DTEND;TZID=Europe/Stockholm:20260502T190000
DTSTAMP:20260424T003238
CREATED:20260325T101636Z
LAST-MODIFIED:20260331T081429Z
UID:32885-1777716000-1777748400@www.immanuel.se
SUMMARY:Församlingsdag på Kärsögården!
DESCRIPTION:Läs mer och anmäl dig här: https://www.immanuel.se/2026/valkommen-till-forsamlingsdag-med-immanuelskyrkan/
URL:https://www.immanuel.se/calendar/forsamlingsdag-pa-karsogarden/
LOCATION:Läger
CATEGORIES:Församlingen
END:VEVENT
BEGIN:VEVENT
DTSTART;TZID=Europe/Stockholm:20260503T101500
DTEND;TZID=Europe/Stockholm:20260503T105000
DTSTAMP:20260424T003238
CREATED:20260105T101611Z
LAST-MODIFIED:20260331T081429Z
UID:30114-1777803300-1777805400@www.immanuel.se
SUMMARY:Kör-lek
DESCRIPTION:Välkommen att lära känna fler barnfamiljer i Immanuelskyrkan! Vi sjunger\, leker och har trevligt tillsammans. Kl. 10.50 bjuds på frukt\, och därefter finns möjlighet att gå vidare till någon av församlingens tre gudstjänster.
URL:https://www.immanuel.se/calendar/kor-lek-18/
LOCATION:Kapellet
CATEGORIES:Barn & unga
END:VEVENT
BEGIN:VEVENT
DTSTART;TZID=Europe/Stockholm:20260503T110000
DTEND;TZID=Europe/Stockholm:20260503T120000
DTSTAMP:20260424T003238
CREATED:20251230T224545Z
LAST-MODIFIED:20260331T081429Z
UID:29982-1777806000-1777809600@www.immanuel.se
SUMMARY:Gudstjänst på svenska
DESCRIPTION:Söndag 3 maj kl 11 Gudstjänst på svenska\nTema: Att växa i tro\n5:e söndagen i påsktiden\nPredikan: Peter Halldorf\nMusik: Immanuel Brass\, Björn Gäfvert\nBarnkyrkan är öppen\, Kyrkkaffe serveras
URL:https://www.immanuel.se/calendar/gudstjanst-pa-svenska-78/
LOCATION:Kyrksalen
CATEGORIES:Gudstjänst
END:VEVENT
BEGIN:VEVENT
DTSTART;TZID=Europe/Stockholm:20260504T130000
DTEND;TZID=Europe/Stockholm:20260504T153000
DTSTAMP:20260424T003238
CREATED:20260205T131615Z
LAST-MODIFIED:20260331T081429Z
UID:31076-1777899600-1777908600@www.immanuel.se
SUMMARY:Stickcafé
DESCRIPTION:
URL:https://www.immanuel.se/calendar/stickcafe-23/
LOCATION:Kyrkplan
CATEGORIES:Hantverk
END:VEVENT
BEGIN:VEVENT
DTSTART;TZID=Europe/Stockholm:20260505T153000
DTEND;TZID=Europe/Stockholm:20260505T183000
DTSTAMP:20260424T003238
CREATED:20260105T131615Z
LAST-MODIFIED:20260331T081429Z
UID:30226-1777995000-1778005800@www.immanuel.se
SUMMARY:HQ - 0-9 år
DESCRIPTION:Holy Quarters\nVälkommen till HQ – Holy Quarters\, vår öppna efter-skola-verksamhet på Källarplan 3 i Immanuelskyrkan.\nHär finns plats för lek\, skapande\, musik\, sport\, mellis\, läxhjälp och gemenskap – mitt i stan\, mitt i veckan.\nAllt är gratis och ingen anmälan krävs. Kom som du är! \nEn trygg och lekfull eftermiddag med idrott\, pyssel\, musik\, mellis och mys. Perfekt för små upptäckare och deras föräldrar.
URL:https://www.immanuel.se/calendar/hq-0-9-ar-19/
LOCATION:K3
CATEGORIES:Barn & unga
END:VEVENT
BEGIN:VEVENT
DTSTART;TZID=Europe/Stockholm:20260506T153000
DTEND;TZID=Europe/Stockholm:20260506T183000
DTSTAMP:20260424T003238
CREATED:20260105T131615Z
LAST-MODIFIED:20260331T081429Z
UID:30228-1778081400-1778092200@www.immanuel.se
SUMMARY:HQ - 13-18 år
DESCRIPTION:Holy Quarters\nVälkommen till HQ – Holy Quarters\, vår öppna efter-skola-verksamhet på Källarplan 3 i Immanuelskyrkan.\nHär finns plats för lek\, skapande\, musik\, sport\, mellis\, läxhjälp och gemenskap – mitt i stan\, mitt i veckan.\nAllt är gratis och ingen anmälan krävs. Kom som du är! \nEtt avslappnat häng med musik\, sport\, skapande\, mellis och pluggmöjligheter – där du får vara dig själv\, träffa nya vänner och hitta din plats.
URL:https://www.immanuel.se/calendar/hq-13-18-ar-19/
LOCATION:K3
CATEGORIES:Barn & unga
END:VEVENT
BEGIN:VEVENT
DTSTART;TZID=Europe/Stockholm:20260506T180000
DTEND;TZID=Europe/Stockholm:20260506T190000
DTSTAMP:20260424T003238
CREATED:20260205T091613Z
LAST-MODIFIED:20260331T081429Z
UID:31045-1778090400-1778094000@www.immanuel.se
SUMMARY:Onsdagsmässan
DESCRIPTION:
URL:https://www.immanuel.se/calendar/onsdagsmassan-31/
LOCATION:Kapellet
CATEGORIES:Andakter
END:VEVENT
BEGIN:VEVENT
DTSTART;TZID=Europe/Stockholm:20260506T183000
DTEND;TZID=Europe/Stockholm:20260506T210000
DTSTAMP:20260424T003238
CREATED:20260325T141627Z
LAST-MODIFIED:20260331T081429Z
UID:32901-1778092200-1778101200@www.immanuel.se
SUMMARY:3 x Demokrati
DESCRIPTION:Mer information kommer…
URL:https://www.immanuel.se/calendar/3-x-demokrati-3/
LOCATION:Kyrksalen
CATEGORIES:Föredrag & Föreläsningskvällar
END:VEVENT
BEGIN:VEVENT
DTSTART;TZID=Europe/Stockholm:20260507T153000
DTEND;TZID=Europe/Stockholm:20260507T183000
DTSTAMP:20260424T003238
CREATED:20260105T131615Z
LAST-MODIFIED:20260331T081429Z
UID:30230-1778167800-1778178600@www.immanuel.se
SUMMARY:HQ - 10-12 år
DESCRIPTION:Holy Quarters\nVälkommen till HQ – Holy Quarters\, vår öppna efter-skola-verksamhet på Källarplan 3 i Immanuelskyrkan.\nHär finns plats för lek\, skapande\, musik\, sport\, mellis\, läxhjälp och gemenskap – mitt i stan\, mitt i veckan.\nAllt är gratis och ingen anmälan krävs. Kom som du är! \nEn kreativ och aktiv plats efter skolan med sport\, skapande\, musikrum\, mellis och läxhjälp – för dig som vill hänga med kompisar och testa nya saker.
URL:https://www.immanuel.se/calendar/hq-10-12-ar-19/
LOCATION:K3
CATEGORIES:Barn & unga
END:VEVENT
BEGIN:VEVENT
DTSTART;TZID=Europe/Stockholm:20260507T183000
DTEND;TZID=Europe/Stockholm:20260507T210000
DTSTAMP:20260424T003238
CREATED:20260423T140109Z
LAST-MODIFIED:20260423T140142Z
UID:33994-1778178600-1778187600@www.immanuel.se
SUMMARY:bibelstudie – på engelska
DESCRIPTION:Torsdagskvällens bibelstudiumär på engelska och hålls i ungdomsrummet på K1-våningen. \nSamlingen börjar kl. 18.30 med en lätt måltid och kl. 19.30 börjar studiet. \nStudiet handlar om Bergspredikan.Alla är välkomna! \nVänligen meddela Hugh om du planerar att komma\, dels för att veta hur mycket mat som behövs och dels så att han kan ge dig en dörrkod att använda om huvuddörren är låst.
URL:https://www.immanuel.se/calendar/bibelstudie-pa-engelska-5/
END:VEVENT
BEGIN:VEVENT
DTSTART;TZID=Europe/Stockholm:20260508T183000
DTEND;TZID=Europe/Stockholm:20260508T220000
DTSTAMP:20260424T003238
CREATED:20260309T131622Z
LAST-MODIFIED:20260331T081429Z
UID:32337-1778265000-1778277600@www.immanuel.se
SUMMARY:FREDA
DESCRIPTION:FREDA är en tonårskväll för dig som är 13 år och uppåt. Vi träffas varje fredag kl 18.30–22.00. Vi börjar kvällen med fika som följs av aktiviteter och andakt. Se schemat här: https://www.immanuel.se/freda/
URL:https://www.immanuel.se/calendar/freda-31/
CATEGORIES:Barn & unga
END:VEVENT
BEGIN:VEVENT
DTSTART;TZID=Europe/Stockholm:20260509T120000
DTEND;TZID=Europe/Stockholm:20260509T140000
DTSTAMP:20260424T003238
CREATED:20260222T131606Z
LAST-MODIFIED:20260331T081429Z
UID:31806-1778328000-1778335200@www.immanuel.se
SUMMARY:Lunch i Gemenskap
DESCRIPTION:
URL:https://www.immanuel.se/calendar/lunch-i-gemenskap-50/
LOCATION:Kyrkplan
CATEGORIES:Diakoni
END:VEVENT
BEGIN:VEVENT
DTSTART;TZID=Europe/Stockholm:20260510T093000
DTEND;TZID=Europe/Stockholm:20260510T103000
DTSTAMP:20260424T003238
CREATED:20260225T181609Z
LAST-MODIFIED:20260331T081430Z
UID:31932-1778405400-1778409000@www.immanuel.se
SUMMARY:Frukost i Gemenskap
DESCRIPTION:
URL:https://www.immanuel.se/calendar/frukost-i-gemenskap-26/
LOCATION:Kyrkplan
CATEGORIES:Diakoni
END:VEVENT
BEGIN:VEVENT
DTSTART;TZID=Europe/Stockholm:20260510T101500
DTEND;TZID=Europe/Stockholm:20260510T105000
DTSTAMP:20260424T003238
CREATED:20260105T101611Z
LAST-MODIFIED:20260331T081430Z
UID:30116-1778408100-1778410200@www.immanuel.se
SUMMARY:Kör-lek
DESCRIPTION:Välkommen att lära känna fler barnfamiljer i Immanuelskyrkan! Vi sjunger\, leker och har trevligt tillsammans. Kl. 10.50 bjuds på frukt\, och därefter finns möjlighet att gå vidare till någon av församlingens tre gudstjänster.
URL:https://www.immanuel.se/calendar/kor-lek-19/
LOCATION:Kapellet
CATEGORIES:Barn & unga
END:VEVENT
BEGIN:VEVENT
DTSTART;TZID=Europe/Stockholm:20260510T110000
DTEND;TZID=Europe/Stockholm:20260510T120000
DTSTAMP:20260424T003238
CREATED:20251230T224545Z
LAST-MODIFIED:20260331T081430Z
UID:29984-1778410800-1778414400@www.immanuel.se
SUMMARY:Gudstjänst på svenska
DESCRIPTION:Söndag 10 maj kl 11 Gudstjänst på svenska med nattvard\nTema: Bönen\nBönsöndagen\nPredikan: Esther Kazen\nMusik: Projektkör\, Åsa Bosdotter\nBarnkyrkan är öppen\, Kyrkkaffe serveras
URL:https://www.immanuel.se/calendar/gudstjanst-pa-svenska-79/
LOCATION:Kyrksalen
CATEGORIES:Gudstjänst
END:VEVENT
BEGIN:VEVENT
DTSTART;TZID=Europe/Stockholm:20260512T153000
DTEND;TZID=Europe/Stockholm:20260512T183000
DTSTAMP:20260424T003238
CREATED:20260105T131615Z
LAST-MODIFIED:20260331T081430Z
UID:30232-1778599800-1778610600@www.immanuel.se
SUMMARY:HQ - 0-9 år
DESCRIPTION:Holy Quarters\nVälkommen till HQ – Holy Quarters\, vår öppna efter-skola-verksamhet på Källarplan 3 i Immanuelskyrkan.\nHär finns plats för lek\, skapande\, musik\, sport\, mellis\, läxhjälp och gemenskap – mitt i stan\, mitt i veckan.\nAllt är gratis och ingen anmälan krävs. Kom som du är! \nEn trygg och lekfull eftermiddag med idrott\, pyssel\, musik\, mellis och mys. Perfekt för små upptäckare och deras föräldrar.
URL:https://www.immanuel.se/calendar/hq-0-9-ar-20/
LOCATION:K3
CATEGORIES:Barn & unga
END:VEVENT
BEGIN:VEVENT
DTSTART;TZID=Europe/Stockholm:20260512T180000
DTEND;TZID=Europe/Stockholm:20260512T190000
DTSTAMP:20260424T003238
CREATED:20260327T101644Z
LAST-MODIFIED:20260331T081430Z
UID:33031-1778608800-1778612400@www.immanuel.se
SUMMARY:Konsert med Klavérinstitutet
DESCRIPTION:Pianoelever från musikskolan bjuder på en blandad repertoar
URL:https://www.immanuel.se/calendar/konsert-med-klaverinstitutet-2/
LOCATION:Kyrksalen
CATEGORIES:Konsert
END:VEVENT
BEGIN:VEVENT
DTSTART;TZID=Europe/Stockholm:20260513T153000
DTEND;TZID=Europe/Stockholm:20260513T183000
DTSTAMP:20260424T003238
CREATED:20260105T131615Z
LAST-MODIFIED:20260331T081430Z
UID:30234-1778686200-1778697000@www.immanuel.se
SUMMARY:HQ - 13-18 år
DESCRIPTION:Holy Quarters\nVälkommen till HQ – Holy Quarters\, vår öppna efter-skola-verksamhet på Källarplan 3 i Immanuelskyrkan.\nHär finns plats för lek\, skapande\, musik\, sport\, mellis\, läxhjälp och gemenskap – mitt i stan\, mitt i veckan.\nAllt är gratis och ingen anmälan krävs. Kom som du är! \nEtt avslappnat häng med musik\, sport\, skapande\, mellis och pluggmöjligheter – där du får vara dig själv\, träffa nya vänner och hitta din plats.
URL:https://www.immanuel.se/calendar/hq-13-18-ar-20/
LOCATION:K3
CATEGORIES:Barn & unga
END:VEVENT
BEGIN:VEVENT
DTSTART;TZID=Europe/Stockholm:20260513T180000
DTEND;TZID=Europe/Stockholm:20260513T190000
DTSTAMP:20260424T003238
CREATED:20260205T091614Z
LAST-MODIFIED:20260331T081430Z
UID:31048-1778695200-1778698800@www.immanuel.se
SUMMARY:Onsdagsmässan
DESCRIPTION:
URL:https://www.immanuel.se/calendar/onsdagsmassan-32/
LOCATION:Kapellet
CATEGORIES:Andakter
END:VEVENT
BEGIN:VEVENT
DTSTART;TZID=Europe/Stockholm:20260514T153000
DTEND;TZID=Europe/Stockholm:20260514T183000
DTSTAMP:20260424T003238
CREATED:20260105T131615Z
LAST-MODIFIED:20260331T081430Z
UID:30236-1778772600-1778783400@www.immanuel.se
SUMMARY:HQ - 10-12 år
DESCRIPTION:Holy Quarters\nVälkommen till HQ – Holy Quarters\, vår öppna efter-skola-verksamhet på Källarplan 3 i Immanuelskyrkan.\nHär finns plats för lek\, skapande\, musik\, sport\, mellis\, läxhjälp och gemenskap – mitt i stan\, mitt i veckan.\nAllt är gratis och ingen anmälan krävs. Kom som du är! \nEn kreativ och aktiv plats efter skolan med sport\, skapande\, musikrum\, mellis och läxhjälp – för dig som vill hänga med kompisar och testa nya saker.
URL:https://www.immanuel.se/calendar/hq-10-12-ar-20/
LOCATION:K3
CATEGORIES:Barn & unga
END:VEVENT
BEGIN:VEVENT
DTSTART;TZID=Europe/Stockholm:20260515T183000
DTEND;TZID=Europe/Stockholm:20260515T220000
DTSTAMP:20260424T003238
CREATED:20260309T131623Z
LAST-MODIFIED:20260331T081430Z
UID:32339-1778869800-1778882400@www.immanuel.se
SUMMARY:FREDA
DESCRIPTION:FREDA är en tonårskväll för dig som är 13 år och uppåt. Vi träffas varje fredag kl 18.30–22.00. Vi börjar kvällen med fika som följs av aktiviteter och andakt. Se schemat här: https://www.immanuel.se/freda/
URL:https://www.immanuel.se/calendar/freda-32/
CATEGORIES:Barn & unga
END:VEVENT
BEGIN:VEVENT
DTSTART;TZID=Europe/Stockholm:20260517T101500
DTEND;TZID=Europe/Stockholm:20260517T105000
DTSTAMP:20260424T003238
CREATED:20260105T101611Z
LAST-MODIFIED:20260331T081430Z
UID:30118-1779012900-1779015000@www.immanuel.se
SUMMARY:Kör-lek
DESCRIPTION:Välkommen att lära känna fler barnfamiljer i Immanuelskyrkan! Vi sjunger\, leker och har trevligt tillsammans. Kl. 10.50 bjuds på frukt\, och därefter finns möjlighet att gå vidare till någon av församlingens tre gudstjänster.
URL:https://www.immanuel.se/calendar/kor-lek-20/
LOCATION:Kapellet
CATEGORIES:Barn & unga
END:VEVENT
BEGIN:VEVENT
DTSTART;TZID=Europe/Stockholm:20260517T110000
DTEND;TZID=Europe/Stockholm:20260517T120000
DTSTAMP:20260424T003238
CREATED:20251230T224545Z
LAST-MODIFIED:20260331T081430Z
UID:29986-1779015600-1779019200@www.immanuel.se
SUMMARY:Gudstjänst på svenska
DESCRIPTION:Söndag 17 maj kl 11 Gudstjänst på svenska\nTema: Hjälparen kommer\nSön före pingst\nPredikan: Carin Dernulf\nMusik: Immanuel Nova under ledning av Rebecka Gustafsson\nBarnkyrkan är öppen\, Kyrkkaffe serveras
URL:https://www.immanuel.se/calendar/gudstjanst-pa-svenska-80/
LOCATION:Kyrksalen
CATEGORIES:Gudstjänst
END:VEVENT
BEGIN:VEVENT
DTSTART;TZID=Europe/Stockholm:20260518T130000
DTEND;TZID=Europe/Stockholm:20260518T153000
DTSTAMP:20260424T003238
CREATED:20260205T131616Z
LAST-MODIFIED:20260331T081430Z
UID:31078-1779109200-1779118200@www.immanuel.se
SUMMARY:Stickcafé
DESCRIPTION:
URL:https://www.immanuel.se/calendar/stickcafe-24/
LOCATION:Kyrkplan
CATEGORIES:Hantverk
END:VEVENT
BEGIN:VEVENT
DTSTART;TZID=Europe/Stockholm:20260519T153000
DTEND;TZID=Europe/Stockholm:20260519T183000
DTSTAMP:20260424T003238
CREATED:20260105T131616Z
LAST-MODIFIED:20260331T081430Z
UID:30238-1779204600-1779215400@www.immanuel.se
SUMMARY:HQ - 0-9 år
DESCRIPTION:Holy Quarters\nVälkommen till HQ – Holy Quarters\, vår öppna efter-skola-verksamhet på Källarplan 3 i Immanuelskyrkan.\nHär finns plats för lek\, skapande\, musik\, sport\, mellis\, läxhjälp och gemenskap – mitt i stan\, mitt i veckan.\nAllt är gratis och ingen anmälan krävs. Kom som du är! \nEn trygg och lekfull eftermiddag med idrott\, pyssel\, musik\, mellis och mys. Perfekt för små upptäckare och deras föräldrar.
URL:https://www.immanuel.se/calendar/hq-0-9-ar-21/
LOCATION:K3
CATEGORIES:Barn & unga
END:VEVENT
BEGIN:VEVENT
DTSTART;TZID=Europe/Stockholm:20260520T153000
DTEND;TZID=Europe/Stockholm:20260520T183000
DTSTAMP:20260424T003238
CREATED:20260105T131616Z
LAST-MODIFIED:20260331T081431Z
UID:30240-1779291000-1779301800@www.immanuel.se
SUMMARY:HQ - 13-18 år
DESCRIPTION:Holy Quarters\nVälkommen till HQ – Holy Quarters\, vår öppna efter-skola-verksamhet på Källarplan 3 i Immanuelskyrkan.\nHär finns plats för lek\, skapande\, musik\, sport\, mellis\, läxhjälp och gemenskap – mitt i stan\, mitt i veckan.\nAllt är gratis och ingen anmälan krävs. Kom som du är! \nEtt avslappnat häng med musik\, sport\, skapande\, mellis och pluggmöjligheter – där du får vara dig själv\, träffa nya vänner och hitta din plats.
URL:https://www.immanuel.se/calendar/hq-13-18-ar-21/
LOCATION:K3
CATEGORIES:Barn & unga
END:VEVENT
BEGIN:VEVENT
DTSTART;TZID=Europe/Stockholm:20260520T180000
DTEND;TZID=Europe/Stockholm:20260520T190000
DTSTAMP:20260424T003238
CREATED:20260205T091614Z
LAST-MODIFIED:20260331T081431Z
UID:31051-1779300000-1779303600@www.immanuel.se
SUMMARY:Onsdagsmässan
DESCRIPTION:
URL:https://www.immanuel.se/calendar/onsdagsmassan-33/
LOCATION:Kapellet
CATEGORIES:Andakter
END:VEVENT
BEGIN:VEVENT
DTSTART;TZID=Europe/Stockholm:20260520T180000
DTEND;TZID=Europe/Stockholm:20260520T190000
DTSTAMP:20260424T003238
CREATED:20260327T101645Z
LAST-MODIFIED:20260331T081431Z
UID:33033-1779300000-1779303600@www.immanuel.se
SUMMARY:Musikskolans sång\, piano och flöjt
DESCRIPTION:Musikskolans sång\, piano och flöjtelever
URL:https://www.immanuel.se/calendar/musikskolans-sang-piano-och-flojt/
LOCATION:Waldenströmssalen
CATEGORIES:Konsert
END:VEVENT
BEGIN:VEVENT
DTSTART;TZID=Europe/Stockholm:20260521T153000
DTEND;TZID=Europe/Stockholm:20260521T183000
DTSTAMP:20260424T003238
CREATED:20260105T131616Z
LAST-MODIFIED:20260331T081431Z
UID:30242-1779377400-1779388200@www.immanuel.se
SUMMARY:HQ - 10-12 år
DESCRIPTION:Holy Quarters\nVälkommen till HQ – Holy Quarters\, vår öppna efter-skola-verksamhet på Källarplan 3 i Immanuelskyrkan.\nHär finns plats för lek\, skapande\, musik\, sport\, mellis\, läxhjälp och gemenskap – mitt i stan\, mitt i veckan.\nAllt är gratis och ingen anmälan krävs. Kom som du är! \nEn kreativ och aktiv plats efter skolan med sport\, skapande\, musikrum\, mellis och läxhjälp – för dig som vill hänga med kompisar och testa nya saker.
URL:https://www.immanuel.se/calendar/hq-10-12-ar-21/
LOCATION:K3
CATEGORIES:Barn & unga
END:VEVENT
END:VCALENDAR