BEGIN:VCALENDAR
VERSION:2.0
PRODID:-//Immanuelskyrkan - ECPv6.15.20//NONSGML v1.0//EN
CALSCALE:GREGORIAN
METHOD:PUBLISH
X-WR-CALNAME:Immanuelskyrkan
X-ORIGINAL-URL:https://www.immanuel.se
X-WR-CALDESC:Händelser för Immanuelskyrkan
REFRESH-INTERVAL;VALUE=DURATION:PT1H
X-Robots-Tag:noindex
X-PUBLISHED-TTL:PT1H
BEGIN:VTIMEZONE
TZID:Europe/Stockholm
BEGIN:DAYLIGHT
TZOFFSETFROM:+0100
TZOFFSETTO:+0200
TZNAME:CEST
DTSTART:20250330T010000
END:DAYLIGHT
BEGIN:STANDARD
TZOFFSETFROM:+0200
TZOFFSETTO:+0100
TZNAME:CET
DTSTART:20251026T010000
END:STANDARD
BEGIN:DAYLIGHT
TZOFFSETFROM:+0100
TZOFFSETTO:+0200
TZNAME:CEST
DTSTART:20260329T010000
END:DAYLIGHT
BEGIN:STANDARD
TZOFFSETFROM:+0200
TZOFFSETTO:+0100
TZNAME:CET
DTSTART:20261025T010000
END:STANDARD
BEGIN:DAYLIGHT
TZOFFSETFROM:+0100
TZOFFSETTO:+0200
TZNAME:CEST
DTSTART:20270328T010000
END:DAYLIGHT
BEGIN:STANDARD
TZOFFSETFROM:+0200
TZOFFSETTO:+0100
TZNAME:CET
DTSTART:20271031T010000
END:STANDARD
END:VTIMEZONE
BEGIN:VEVENT
DTSTART;TZID=Europe/Stockholm:20260402T094500
DTEND;TZID=Europe/Stockholm:20260402T114500
DTSTAMP:20260425T122952
CREATED:20241211T105757Z
LAST-MODIFIED:20241211T132929Z
UID:10005422-1775123100-1775130300@www.immanuel.se
SUMMARY:Kvinnors bibelstudiegrupp
DESCRIPTION:Torsdagsmorgnar • 09.45–11.45 • Ungdomsrummet\, nivå K1 \nAlla kvinnor som längtar efter gemenskap med andra kvinnor genom att studera Guds ord är välkomna.\nOm du har några frågor\, vänligen kontakta: Rosemary
URL:https://www.immanuel.se/calendar/kvinnors-bibelstudiegrupp/2026-04-02/
END:VEVENT
BEGIN:VEVENT
DTSTART;TZID=Europe/Stockholm:20260402T153000
DTEND;TZID=Europe/Stockholm:20260402T183000
DTSTAMP:20260425T122952
CREATED:20260105T131612Z
LAST-MODIFIED:20260425T101618Z
UID:10006102-1775143800-1775154600@www.immanuel.se
SUMMARY:HQ - 10-12 år
DESCRIPTION:Holy Quarters\nVälkommen till HQ – Holy Quarters\, vår öppna efter-skola-verksamhet på Källarplan 3 i Immanuelskyrkan.\nHär finns plats för lek\, skapande\, musik\, sport\, mellis\, läxhjälp och gemenskap – mitt i stan\, mitt i veckan.\nAllt är gratis och ingen anmälan krävs. Kom som du är! \nEn kreativ och aktiv plats efter skolan med sport\, skapande\, musikrum\, mellis och läxhjälp – för dig som vill hänga med kompisar och testa nya saker.
URL:https://www.immanuel.se/calendar/hq-10-12-ar-14/
LOCATION:K3
END:VEVENT
BEGIN:VEVENT
DTSTART;TZID=Europe/Stockholm:20260402T180000
DTEND;TZID=Europe/Stockholm:20260402T190000
DTSTAMP:20260425T122952
CREATED:20260205T091610Z
LAST-MODIFIED:20260425T101618Z
UID:10006173-1775152800-1775156400@www.immanuel.se
SUMMARY:Nattvardsandakt
DESCRIPTION:Skärtorsdag\nNattvardsandakt i kapellet\nMedverkande: Charlotte Höglund\, Frida Fritzon\, Yoonsuk Choe\nIngen servering
URL:https://www.immanuel.se/calendar/nattvardsandakt-5/
LOCATION:Kapellet
CATEGORIES:Andakter
END:VEVENT
BEGIN:VEVENT
DTSTART;TZID=Europe/Stockholm:20260402T190000
DTEND;TZID=Europe/Stockholm:20260402T200000
DTSTAMP:20260425T122952
CREATED:20260327T111633Z
LAST-MODIFIED:20260425T101618Z
UID:10006285-1775156400-1775160000@www.immanuel.se
SUMMARY:고난주간 기도회
DESCRIPTION:고난주간 기도회 둘째날에 여러분을 초대합니다.\n저녁 7시\, Walden
URL:https://www.immanuel.se/calendar/%ea%b3%a0%eb%82%9c%ec%a3%bc%ea%b0%84-%ea%b8%b0%eb%8f%84%ed%9a%8c-2/
LOCATION:Waldenströmssalen
CATEGORIES:Gudstjänst
END:VEVENT
BEGIN:VEVENT
DTSTART;TZID=Europe/Stockholm:20260403T110000
DTEND;TZID=Europe/Stockholm:20260403T120000
DTSTAMP:20260425T122952
CREATED:20260205T091611Z
LAST-MODIFIED:20260425T101618Z
UID:10006174-1775214000-1775217600@www.immanuel.se
SUMMARY:Långfredagsgudstjänst
DESCRIPTION:Långfredagsgudstjänst\nTema: Korset\nMedverkande: Esther Kazen\, Charlotte Höglund\, Frida Fritzon\nMusik: Martin Åsander & Rebecka Gustafsson med sångare\nIngen servering efter gudstjänsten
URL:https://www.immanuel.se/calendar/langfredagsgudstjanst-3/
CATEGORIES:Gudstjänst
END:VEVENT
BEGIN:VEVENT
DTSTART;TZID=Europe/Stockholm:20260403T150000
DTEND;TZID=Europe/Stockholm:20260403T160000
DTSTAMP:20260425T122952
CREATED:20260303T111342Z
LAST-MODIFIED:20260303T112720Z
UID:10006209-1775228400-1775232000@www.immanuel.se
SUMMARY:Långfredagsgudstjänst på engelska
DESCRIPTION:Långfredag \nInternational Fellowship håller en gudstjänst med läsningar\noch sånger för att uppmärksamma långfredagen.\nGudstjänsten börjar kl. 15.00 i Congressen.\nGudstjänsten hålls på engelska och leds av pastor Hugh Doyle.\nVänligen observera att det inte kommer att vara någon barnverksamhet under gudstjänsten.
URL:https://www.immanuel.se/calendar/langfredagsgudstjanst-pa-engelska/
END:VEVENT
BEGIN:VEVENT
DTSTART;TZID=Europe/Stockholm:20260403T183000
DTEND;TZID=Europe/Stockholm:20260403T220000
DTSTAMP:20260425T122952
CREATED:20260310T071615Z
LAST-MODIFIED:20260425T101618Z
UID:10006225-1775241000-1775253600@www.immanuel.se
SUMMARY:FREDA
DESCRIPTION:FREDA är en tonårskväll för dig som är 13 år och uppåt. Vi träffas varje fredag kl 18.30–22.00. Vi börjar kvällen med fika som följs av aktiviteter och andakt. Se schemat här: https://www.immanuel.se/freda/
URL:https://www.immanuel.se/calendar/freda-35/
CATEGORIES:Barn & unga
END:VEVENT
BEGIN:VEVENT
DTSTART;TZID=Europe/Stockholm:20260404T120000
DTEND;TZID=Europe/Stockholm:20260404T140000
DTSTAMP:20260425T122952
CREATED:20260222T101607Z
LAST-MODIFIED:20260425T101618Z
UID:10006201-1775304000-1775311200@www.immanuel.se
SUMMARY:Påsk i Gemenskap
DESCRIPTION:
URL:https://www.immanuel.se/calendar/pask-i-gemenskap/
LOCATION:Kyrkplan
CATEGORIES:Diakoni
END:VEVENT
BEGIN:VEVENT
DTSTART;TZID=Europe/Stockholm:20260405T101500
DTEND;TZID=Europe/Stockholm:20260405T105000
DTSTAMP:20260425T122952
CREATED:20260105T101610Z
LAST-MODIFIED:20260425T101618Z
UID:10006055-1775384100-1775386200@www.immanuel.se
SUMMARY:Kör-lek
DESCRIPTION:Välkommen att lära känna fler barnfamiljer i Immanuelskyrkan! Vi sjunger\, leker och har trevligt tillsammans. Kl. 10.50 bjuds på frukt\, och därefter finns möjlighet att gå vidare till någon av församlingens tre gudstjänster.
URL:https://www.immanuel.se/calendar/kor-lek-14/
LOCATION:Kapellet
CATEGORIES:Barn & unga
END:VEVENT
BEGIN:VEVENT
DTSTART;TZID=Europe/Stockholm:20260405T110000
DTEND;TZID=Europe/Stockholm:20260405T120000
DTSTAMP:20260425T122952
CREATED:20241112T150700Z
LAST-MODIFIED:20260114T100248Z
UID:10005160-1775386800-1775390400@www.immanuel.se
SUMMARY:Gudstjänst på Koreanska
DESCRIPTION:
URL:https://www.immanuel.se/calendar/gudstjanst-pa-koreanska-2/2026-04-05/
CATEGORIES:Svenska kl 11
END:VEVENT
BEGIN:VEVENT
DTSTART;TZID=Europe/Stockholm:20260405T110000
DTEND;TZID=Europe/Stockholm:20260405T120000
DTSTAMP:20260425T122952
CREATED:20251230T224544Z
LAST-MODIFIED:20260425T101618Z
UID:10006030-1775386800-1775390400@www.immanuel.se
SUMMARY:Gudstjänst på svenska
DESCRIPTION:Söndag 5 april kl 11 Gudstjänst på svenska\nTema: Kristus är uppstånden\nPåskdagen\nPredikan: Esther Kazen\nMusik: Björn Gäfvert\, Margareta Gäfvert\, Bernt Lysell och Lena Thyregård\nBarnkyrkan är öppen\, Kyrkkaffe serveras
URL:https://www.immanuel.se/calendar/gudstjanst-pa-svenska-74/
LOCATION:Kyrksalen
CATEGORIES:Gudstjänst
END:VEVENT
BEGIN:VEVENT
DTSTART;TZID=Europe/Stockholm:20260405T110000
DTEND;TZID=Europe/Stockholm:20260405T120000
DTSTAMP:20260425T122952
CREATED:20260327T110401Z
LAST-MODIFIED:20260327T113240Z
UID:10006244-1775386800-1775390400@www.immanuel.se
SUMMARY:Gudstjänst på koreanska
DESCRIPTION:
URL:https://www.immanuel.se/calendar/gudstjanst-pa-koreanska-4/2026-04-05/
CATEGORIES:Koreanska
END:VEVENT
BEGIN:VEVENT
DTSTART;TZID=Europe/Stockholm:20260405T110000
DTEND;TZID=Europe/Stockholm:20260405T121500
DTSTAMP:20260425T122952
CREATED:20260327T111636Z
LAST-MODIFIED:20260425T101618Z
UID:10006287-1775386800-1775391300@www.immanuel.se
SUMMARY:부활절 온 세대 연합 예배
DESCRIPTION:온 세대가 함께 모여 예배하며 부활의 기쁨을 나눕니다.\n오전 11시\, Walden
URL:https://www.immanuel.se/calendar/%eb%b6%80%ed%99%9c%ec%a0%88-%ec%98%a8-%ec%84%b8%eb%8c%80-%ec%97%b0%ed%95%a9-%ec%98%88%eb%b0%b0/
LOCATION:Waldenströmssalen
END:VEVENT
BEGIN:VEVENT
DTSTART;TZID=Europe/Stockholm:20260405T110000
DTEND;TZID=Europe/Stockholm:20260405T123000
DTSTAMP:20260425T122952
CREATED:20260401T095338Z
LAST-MODIFIED:20260401T095419Z
UID:10006291-1775386800-1775392200@www.immanuel.se
SUMMARY:Gudstjänst på engelska
DESCRIPTION:Påskdagen \nJohannes 20:1–18Pastor Hugh Doyle predikar
URL:https://www.immanuel.se/calendar/gudstjanst-pa-engelska-159/
END:VEVENT
BEGIN:VEVENT
DTSTART;TZID=Europe/Stockholm:20260407T130000
DTEND;TZID=Europe/Stockholm:20260407T150000
DTSTAMP:20260425T122952
CREATED:20260115T152252Z
LAST-MODIFIED:20260115T152416Z
UID:10006154-1775566800-1775574000@www.immanuel.se
SUMMARY:Tisdagsträffen
DESCRIPTION:Är du dagledig och intresserad av kultur\, teologi\, kyrka och samhälle? Då erbjuder Immanuel Senior ett varierat program. Öppet för alla oavsett livsåskådning. Välkommen in i gemenskapen! \nSe vårens fulla program här
URL:https://www.immanuel.se/calendar/tisdagstraffen-53/2026-04-07/
LOCATION:Waldenströmssalen
CATEGORIES:Senior
END:VEVENT
BEGIN:VEVENT
DTSTART;TZID=Europe/Stockholm:20260407T153000
DTEND;TZID=Europe/Stockholm:20260407T183000
DTSTAMP:20260425T122952
CREATED:20260105T131612Z
LAST-MODIFIED:20260425T101619Z
UID:10006103-1775575800-1775586600@www.immanuel.se
SUMMARY:HQ - 0-9 år
DESCRIPTION:Holy Quarters\nVälkommen till HQ – Holy Quarters\, vår öppna efter-skola-verksamhet på Källarplan 3 i Immanuelskyrkan.\nHär finns plats för lek\, skapande\, musik\, sport\, mellis\, läxhjälp och gemenskap – mitt i stan\, mitt i veckan.\nAllt är gratis och ingen anmälan krävs. Kom som du är! \nEn trygg och lekfull eftermiddag med idrott\, pyssel\, musik\, mellis och mys. Perfekt för små upptäckare och deras föräldrar.
URL:https://www.immanuel.se/calendar/hq-0-9-ar-15/
LOCATION:K3
CATEGORIES:Barn & unga
END:VEVENT
BEGIN:VEVENT
DTSTART;TZID=Europe/Stockholm:20260407T190000
DTEND;TZID=Europe/Stockholm:20260407T210000
DTSTAMP:20260425T122952
CREATED:20251216T145057Z
LAST-MODIFIED:20251216T145524Z
UID:10005977-1775588400-1775595600@www.immanuel.se
SUMMARY:Bibelstudium för unga vuxna
DESCRIPTION:Du är varmt välkommen att gå med i Young Adults-gruppen.\nVi är en grupp studenter och unga yrkesverksamma från\nhela världen med tre önskningar: att lära känna Jesus bättre\,\natt bli passionerade efterföljare av Kristus i vardagen och\natt bygga en kristen gemenskap. En gång i veckan har vi samtal\noch diskussioner kring Bibeln. Denna grupp hålls på engelska. \nClick here to read more.
URL:https://www.immanuel.se/calendar/bibelstudium-for-unga-vuxna-3/2026-04-07/
END:VEVENT
BEGIN:VEVENT
DTSTART;TZID=Europe/Stockholm:20260408T153000
DTEND;TZID=Europe/Stockholm:20260408T183000
DTSTAMP:20260425T122952
CREATED:20260105T131612Z
LAST-MODIFIED:20260425T101619Z
UID:10006104-1775662200-1775673000@www.immanuel.se
SUMMARY:HQ - 13-18 år
DESCRIPTION:Holy Quarters\nVälkommen till HQ – Holy Quarters\, vår öppna efter-skola-verksamhet på Källarplan 3 i Immanuelskyrkan.\nHär finns plats för lek\, skapande\, musik\, sport\, mellis\, läxhjälp och gemenskap – mitt i stan\, mitt i veckan.\nAllt är gratis och ingen anmälan krävs. Kom som du är! \nEtt avslappnat häng med musik\, sport\, skapande\, mellis och pluggmöjligheter – där du får vara dig själv\, träffa nya vänner och hitta din plats.
URL:https://www.immanuel.se/calendar/hq-13-18-ar-15/
LOCATION:K3
CATEGORIES:Barn & unga
END:VEVENT
BEGIN:VEVENT
DTSTART;TZID=Europe/Stockholm:20260408T180000
DTEND;TZID=Europe/Stockholm:20260408T190000
DTSTAMP:20260425T122952
CREATED:20260205T091611Z
LAST-MODIFIED:20260425T101619Z
UID:10006175-1775671200-1775674800@www.immanuel.se
SUMMARY:Onsdagsmässan
DESCRIPTION:
URL:https://www.immanuel.se/calendar/onsdagsmassan-27/
LOCATION:Kapellet
CATEGORIES:Andakter
END:VEVENT
BEGIN:VEVENT
DTSTART;TZID=Europe/Stockholm:20260409T094500
DTEND;TZID=Europe/Stockholm:20260409T114500
DTSTAMP:20260425T122952
CREATED:20241211T105757Z
LAST-MODIFIED:20241211T132929Z
UID:10005423-1775727900-1775735100@www.immanuel.se
SUMMARY:Kvinnors bibelstudiegrupp
DESCRIPTION:Torsdagsmorgnar • 09.45–11.45 • Ungdomsrummet\, nivå K1 \nAlla kvinnor som längtar efter gemenskap med andra kvinnor genom att studera Guds ord är välkomna.\nOm du har några frågor\, vänligen kontakta: Rosemary
URL:https://www.immanuel.se/calendar/kvinnors-bibelstudiegrupp/2026-04-09/
END:VEVENT
BEGIN:VEVENT
DTSTART;TZID=Europe/Stockholm:20260409T153000
DTEND;TZID=Europe/Stockholm:20260409T183000
DTSTAMP:20260425T122952
CREATED:20260105T131612Z
LAST-MODIFIED:20260425T101619Z
UID:10006105-1775748600-1775759400@www.immanuel.se
SUMMARY:HQ - 10-12 år
DESCRIPTION:Holy Quarters\nVälkommen till HQ – Holy Quarters\, vår öppna efter-skola-verksamhet på Källarplan 3 i Immanuelskyrkan.\nHär finns plats för lek\, skapande\, musik\, sport\, mellis\, läxhjälp och gemenskap – mitt i stan\, mitt i veckan.\nAllt är gratis och ingen anmälan krävs. Kom som du är! \nEn kreativ och aktiv plats efter skolan med sport\, skapande\, musikrum\, mellis och läxhjälp – för dig som vill hänga med kompisar och testa nya saker.
URL:https://www.immanuel.se/calendar/hq-10-12-ar-15/
LOCATION:K3
CATEGORIES:Barn & unga
END:VEVENT
BEGIN:VEVENT
DTSTART;TZID=Europe/Stockholm:20260409T183000
DTEND;TZID=Europe/Stockholm:20260409T210000
DTSTAMP:20260425T122952
CREATED:20241203T115912Z
LAST-MODIFIED:20241203T121032Z
UID:10005317-1775759400-1775768400@www.immanuel.se
SUMMARY:bibelstudie - på engelska
DESCRIPTION:Torsdagskvällens bibelstudium\nMötet börjar kl. 18.30 med en lätt måltid och fortsätter kl. 19.30 med själva studiet. \nKursen är främst utformad för nya och unga kristna\, men alla är välkomna! \nVänligen meddela Hugh om du planerar att komma\, både för att veta hur mycket mat som behövs och för att han ska kunna ge dig en dörrkod ifall huvudentrén är låst.
URL:https://www.immanuel.se/calendar/bibelstudie-pa-engelska/2026-04-09/
END:VEVENT
BEGIN:VEVENT
DTSTART;TZID=Europe/Stockholm:20260410T183000
DTEND;TZID=Europe/Stockholm:20260410T220000
DTSTAMP:20260425T122952
CREATED:20260309T131619Z
LAST-MODIFIED:20260425T101619Z
UID:10006217-1775845800-1775858400@www.immanuel.se
SUMMARY:FREDA
DESCRIPTION:FREDA är en tonårskväll för dig som är 13 år och uppåt. Vi träffas varje fredag kl 18.30–22.00. Vi börjar kvällen med fika som följs av aktiviteter och andakt. Se schemat här: https://www.immanuel.se/freda/
URL:https://www.immanuel.se/calendar/freda-27/
CATEGORIES:Barn & unga
END:VEVENT
BEGIN:VEVENT
DTSTART;TZID=Europe/Stockholm:20260412T101500
DTEND;TZID=Europe/Stockholm:20260412T105000
DTSTAMP:20260425T122952
CREATED:20260105T101610Z
LAST-MODIFIED:20260425T101619Z
UID:10006056-1775988900-1775991000@www.immanuel.se
SUMMARY:Kör-lek
DESCRIPTION:Välkommen att lära känna fler barnfamiljer i Immanuelskyrkan! Vi sjunger\, leker och har trevligt tillsammans. Kl. 10.50 bjuds på frukt\, och därefter finns möjlighet att gå vidare till någon av församlingens tre gudstjänster.
URL:https://www.immanuel.se/calendar/kor-lek-15/
LOCATION:Kapellet
CATEGORIES:Barn & unga
END:VEVENT
BEGIN:VEVENT
DTSTART;TZID=Europe/Stockholm:20260412T110000
DTEND;TZID=Europe/Stockholm:20260412T120000
DTSTAMP:20260425T122952
CREATED:20241112T150700Z
LAST-MODIFIED:20260114T100248Z
UID:10005161-1775991600-1775995200@www.immanuel.se
SUMMARY:Gudstjänst på Koreanska
DESCRIPTION:
URL:https://www.immanuel.se/calendar/gudstjanst-pa-koreanska-2/2026-04-12/
CATEGORIES:Svenska kl 11
END:VEVENT
BEGIN:VEVENT
DTSTART;TZID=Europe/Stockholm:20260412T110000
DTEND;TZID=Europe/Stockholm:20260412T120000
DTSTAMP:20260425T122952
CREATED:20251230T224544Z
LAST-MODIFIED:20260425T101619Z
UID:10006031-1775991600-1775995200@www.immanuel.se
SUMMARY:Gudstjänst på svenska
DESCRIPTION:Söndag 12 april kl 11 Gudstjänst på svenska\nTema: Påskens vittnen\n2:a sön i påsktiden\nPredikan: Esther Kazen\nMusik: Martin Åsander\, Victor Bodell\, Erik Fröling m fl\nBarnkyrkan är öppen\, Kyrkkaffe serveras
URL:https://www.immanuel.se/calendar/gudstjanst-pa-svenska-75/
LOCATION:Kyrksalen
CATEGORIES:Gudstjänst
END:VEVENT
BEGIN:VEVENT
DTSTART;TZID=Europe/Stockholm:20260412T110000
DTEND;TZID=Europe/Stockholm:20260412T120000
DTSTAMP:20260425T122952
CREATED:20260327T110401Z
LAST-MODIFIED:20260327T113240Z
UID:10006245-1775991600-1775995200@www.immanuel.se
SUMMARY:Gudstjänst på koreanska
DESCRIPTION:
URL:https://www.immanuel.se/calendar/gudstjanst-pa-koreanska-4/2026-04-12/
CATEGORIES:Koreanska
END:VEVENT
BEGIN:VEVENT
DTSTART;TZID=Europe/Stockholm:20260412T110000
DTEND;TZID=Europe/Stockholm:20260412T123000
DTSTAMP:20260425T122952
CREATED:20260409T083027Z
LAST-MODIFIED:20260409T083139Z
UID:10006293-1775991600-1775997000@www.immanuel.se
SUMMARY:Gudstjänst på engelska
DESCRIPTION:Johannes 21:1–19Pastor Hugh Doyle predikar
URL:https://www.immanuel.se/calendar/gudstjanst-pa-engelska-160/
END:VEVENT
BEGIN:VEVENT
DTSTART;TZID=Europe/Stockholm:20260412T121500
DTEND;TZID=Europe/Stockholm:20260412T130000
DTSTAMP:20260425T122952
CREATED:20260327T111637Z
LAST-MODIFIED:20260425T101619Z
UID:10006288-1775996100-1775998800@www.immanuel.se
SUMMARY:연령별 소그룹 모임
DESCRIPTION:3040\, 5060\, 70\, 8090 그룹이 연령별로 모여 신앙의 깊은 고민과 비전을 나눕니다.
URL:https://www.immanuel.se/calendar/%ec%97%b0%eb%a0%b9%eb%b3%84-%ec%86%8c%ea%b7%b8%eb%a3%b9-%eb%aa%a8%ec%9e%84/
LOCATION:Waldenströmssalen
END:VEVENT
BEGIN:VEVENT
DTSTART;TZID=Europe/Stockholm:20260414T103000
DTEND;TZID=Europe/Stockholm:20260414T123000
DTSTAMP:20260425T122952
CREATED:20260327T111638Z
LAST-MODIFIED:20260425T101619Z
UID:10006289-1776162600-1776169800@www.immanuel.se
SUMMARY:양육프로그램 "풍성한 삶의 첫걸음" (화요반)
DESCRIPTION:
URL:https://www.immanuel.se/calendar/%ec%96%91%ec%9c%a1%ed%94%84%eb%a1%9c%ea%b7%b8%eb%9e%a8-%ed%92%8d%ec%84%b1%ed%95%9c-%ec%82%b6%ec%9d%98-%ec%b2%ab%ea%b1%b8%ec%9d%8c-%ed%99%94%ec%9a%94%eb%b0%98/
LOCATION:K3
END:VEVENT
END:VCALENDAR