BEGIN:VCALENDAR
VERSION:2.0
PRODID:-//Immanuelskyrkan - ECPv6.15.20//NONSGML v1.0//EN
CALSCALE:GREGORIAN
METHOD:PUBLISH
X-WR-CALNAME:Immanuelskyrkan
X-ORIGINAL-URL:https://www.immanuel.se
X-WR-CALDESC:Händelser för Immanuelskyrkan
REFRESH-INTERVAL;VALUE=DURATION:PT1H
X-Robots-Tag:noindex
X-PUBLISHED-TTL:PT1H
BEGIN:VTIMEZONE
TZID:Europe/Stockholm
BEGIN:DAYLIGHT
TZOFFSETFROM:+0100
TZOFFSETTO:+0200
TZNAME:CEST
DTSTART:20240331T010000
END:DAYLIGHT
BEGIN:STANDARD
TZOFFSETFROM:+0200
TZOFFSETTO:+0100
TZNAME:CET
DTSTART:20241027T010000
END:STANDARD
BEGIN:DAYLIGHT
TZOFFSETFROM:+0100
TZOFFSETTO:+0200
TZNAME:CEST
DTSTART:20250330T010000
END:DAYLIGHT
BEGIN:STANDARD
TZOFFSETFROM:+0200
TZOFFSETTO:+0100
TZNAME:CET
DTSTART:20251026T010000
END:STANDARD
BEGIN:DAYLIGHT
TZOFFSETFROM:+0100
TZOFFSETTO:+0200
TZNAME:CEST
DTSTART:20260329T010000
END:DAYLIGHT
BEGIN:STANDARD
TZOFFSETFROM:+0200
TZOFFSETTO:+0100
TZNAME:CET
DTSTART:20261025T010000
END:STANDARD
END:VTIMEZONE
BEGIN:VEVENT
DTSTART;TZID=Europe/Stockholm:20251208T193000
DTEND;TZID=Europe/Stockholm:20251208T213000
DTSTAMP:20260425T181638
CREATED:20250829T151519Z
LAST-MODIFIED:20260425T161529Z
UID:10005808-1765222200-1765229400@www.immanuel.se
SUMMARY:Hotel Birger Jarls Julkonsert
DESCRIPTION:
URL:https://www.immanuel.se/calendar/tisdagstraffen-51/
LOCATION:Kyrksalen
CATEGORIES:Konsert
END:VEVENT
BEGIN:VEVENT
DTSTART;TZID=Europe/Stockholm:20251209T130000
DTEND;TZID=Europe/Stockholm:20251209T150000
DTSTAMP:20260425T181638
CREATED:20251002T151520Z
LAST-MODIFIED:20260425T161529Z
UID:10005850-1765285200-1765292400@www.immanuel.se
SUMMARY:Immanuel Senior
DESCRIPTION:Att tågluffa som pensionär\nMimmie Skarrie Elmquist och Jakob Skarrie är två pensionerade lärare från Alingsås\, som nu ägnar en månad på våren och en månad på hösten till att tågluffa i Europa.\nDe har samlat på sig en hel del erfarenhet som de gärna delar med sig av. De vill inspirera andra genom sina berättelser och bilder\, samt ge mod till att våga ge sig iväg på en egen spännande resa med tåg.\nDet blir många tips och idéer och även tillfälle att ställa frågor.
URL:https://www.immanuel.se/calendar/hotel-birger-jarls-julkonsert-2/
LOCATION:Kyrkplan
END:VEVENT
BEGIN:VEVENT
DTSTART;TZID=Europe/Stockholm:20251209T153000
DTEND;TZID=Europe/Stockholm:20251209T183000
DTSTAMP:20260425T181638
CREATED:20251124T161523Z
LAST-MODIFIED:20260425T161529Z
UID:10005960-1765294200-1765305000@www.immanuel.se
SUMMARY:HQ - 0-9 år
DESCRIPTION:Holy Quarters\nVälkommen till HQ – Holy Quarters\, vår öppna efter-skola-verksamhet på Källarplan 3 i Immanuelskyrkan.\nHär finns plats för lek\, skapande\, musik\, sport\, mellis\, läxhjälp och gemenskap – mitt i stan\, mitt i veckan.\nAllt är gratis och ingen anmälan krävs. Kom som du är! \nEn trygg och lekfull eftermiddag med idrott\, pyssel\, musik\, mellis och mys. Perfekt för små upptäckare och deras föräldrar.
URL:https://www.immanuel.se/calendar/hq-0-9-ar-2/
LOCATION:K3
CATEGORIES:Barn och Familj
END:VEVENT
BEGIN:VEVENT
DTSTART;TZID=Europe/Stockholm:20251209T190000
DTEND;TZID=Europe/Stockholm:20251209T210000
DTSTAMP:20260425T181638
CREATED:20250814T090021Z
LAST-MODIFIED:20250814T090407Z
UID:10005767-1765306800-1765314000@www.immanuel.se
SUMMARY:Bibelstudium för unga vuxna
DESCRIPTION:Du är välkommen att gå med i gruppen för unga vuxna.Denna grupp leds på engelska. Vi är en grupp studenter och unga yrkesverksamma från hela världen med tre gemensamma önskningar:att lära känna Jesus bättre\, bli passionerade efterföljare av Kristus i vardagen och bygga en kristen gemenskap.En gång i veckan har vi diskussioner kring Bibeln\, och andra gemenskapsbyggande aktiviteter anordnas då och då.Klicka här för att läsa mer.
URL:https://www.immanuel.se/calendar/bibelstudium-for-unga-vuxna-2/2025-12-09/
END:VEVENT
BEGIN:VEVENT
DTSTART;TZID=Europe/Stockholm:20251209T193000
DTEND;TZID=Europe/Stockholm:20251209T213000
DTSTAMP:20260425T181638
CREATED:20250910T101521Z
LAST-MODIFIED:20260425T161529Z
UID:10005834-1765308600-1765315800@www.immanuel.se
SUMMARY:Hotel Birger Jarls Julkonsert
DESCRIPTION:
URL:https://www.immanuel.se/calendar/onsdagsmassan-16/
LOCATION:Kyrksalen
CATEGORIES:Konsert
END:VEVENT
BEGIN:VEVENT
DTSTART;TZID=Europe/Stockholm:20251210T153000
DTEND;TZID=Europe/Stockholm:20251210T183000
DTSTAMP:20260425T181638
CREATED:20251124T161524Z
LAST-MODIFIED:20260425T161529Z
UID:10005961-1765380600-1765391400@www.immanuel.se
SUMMARY:HQ - 13-18 år
DESCRIPTION:Holy Quarters\nVälkommen till HQ – Holy Quarters\, vår öppna efter-skola-verksamhet på Källarplan 3 i Immanuelskyrkan.\nHär finns plats för lek\, skapande\, musik\, sport\, mellis\, läxhjälp och gemenskap – mitt i stan\, mitt i veckan.\nAllt är gratis och ingen anmälan krävs. Kom som du är! \nEtt avslappnat häng med musik\, sport\, skapande\, mellis och pluggmöjligheter – där du får vara dig själv\, träffa nya vänner och hitta din plats.
URL:https://www.immanuel.se/calendar/hq-13-18-ar-2/
LOCATION:K3
CATEGORIES:Unga
END:VEVENT
BEGIN:VEVENT
DTSTART;TZID=Europe/Stockholm:20251211T094500
DTEND;TZID=Europe/Stockholm:20251211T114500
DTSTAMP:20260425T181638
CREATED:20241211T105757Z
LAST-MODIFIED:20241211T132929Z
UID:10005411-1765446300-1765453500@www.immanuel.se
SUMMARY:Kvinnors bibelstudiegrupp
DESCRIPTION:Torsdagsmorgnar • 09.45–11.45 • Ungdomsrummet\, nivå K1 \nAlla kvinnor som längtar efter gemenskap med andra kvinnor genom att studera Guds ord är välkomna.\nOm du har några frågor\, vänligen kontakta: Rosemary
URL:https://www.immanuel.se/calendar/kvinnors-bibelstudiegrupp/2025-12-11/
END:VEVENT
BEGIN:VEVENT
DTSTART;TZID=Europe/Stockholm:20251211T180000
DTEND;TZID=Europe/Stockholm:20251211T190000
DTSTAMP:20260425T181638
CREATED:20251121T101527Z
LAST-MODIFIED:20260425T161530Z
UID:10005949-1765476000-1765479600@www.immanuel.se
SUMMARY:Konsert med pianoelever
DESCRIPTION:Konsert med klavérinstitutet
URL:https://www.immanuel.se/calendar/konsert-med-pianoelever-2/
LOCATION:Waldenströmssalen
CATEGORIES:Konsert
END:VEVENT
BEGIN:VEVENT
DTSTART;TZID=Europe/Stockholm:20251211T183000
DTEND;TZID=Europe/Stockholm:20251211T210000
DTSTAMP:20260425T181638
CREATED:20241203T115912Z
LAST-MODIFIED:20241203T121032Z
UID:10005308-1765477800-1765486800@www.immanuel.se
SUMMARY:bibelstudie - på engelska
DESCRIPTION:Torsdagskvällens bibelstudium\nMötet börjar kl. 18.30 med en lätt måltid och fortsätter kl. 19.30 med själva studiet. \nKursen är främst utformad för nya och unga kristna\, men alla är välkomna! \nVänligen meddela Hugh om du planerar att komma\, både för att veta hur mycket mat som behövs och för att han ska kunna ge dig en dörrkod ifall huvudentrén är låst.
URL:https://www.immanuel.se/calendar/bibelstudie-pa-engelska/2025-12-11/
END:VEVENT
BEGIN:VEVENT
DTSTART;TZID=Europe/Stockholm:20251213T100000
DTEND;TZID=Europe/Stockholm:20251213T130000
DTSTAMP:20260425T181638
CREATED:20251106T111523Z
LAST-MODIFIED:20260425T161530Z
UID:10005937-1765620000-1765630800@www.immanuel.se
SUMMARY:Brunch för unga vuxna
DESCRIPTION:Vår sista unga vuxna brunch för terminen och vad passar då bättre än en julbrunch?! Perfekt tillfälle för dig som är ny i stan att lära känna fler människor. Brunchen startar 11:00 men om du vill vara med och hjälpa till är du välkommen redan kl 10! Vi ses där!
URL:https://www.immanuel.se/calendar/konsert-ubuntu-choir/
LOCATION:Kaffestugan
CATEGORIES:Svenska Gemenskapen,Unga Vuxna
END:VEVENT
BEGIN:VEVENT
DTSTART;TZID=Europe/Stockholm:20251213T170000
DTEND;TZID=Europe/Stockholm:20251213T183000
DTSTAMP:20260425T181638
CREATED:20250813T141517Z
LAST-MODIFIED:20260425T161530Z
UID:10005749-1765645200-1765650600@www.immanuel.se
SUMMARY:Konsert Ubuntu Choir
DESCRIPTION:Gratis inträde. Välkommen!
URL:https://www.immanuel.se/calendar/brunch-for-unga-vuxna-8/
LOCATION:Kyrksalen
CATEGORIES:Konsert
END:VEVENT
BEGIN:VEVENT
DTSTART;TZID=Europe/Stockholm:20251214T110000
DTEND;TZID=Europe/Stockholm:20251214T120000
DTSTAMP:20260425T181638
CREATED:20241112T150700Z
LAST-MODIFIED:20260114T100248Z
UID:10005144-1765710000-1765713600@www.immanuel.se
SUMMARY:Gudstjänst på Koreanska
DESCRIPTION:
URL:https://www.immanuel.se/calendar/gudstjanst-pa-koreanska-2/2025-12-14/
CATEGORIES:Svenska kl 11
END:VEVENT
BEGIN:VEVENT
DTSTART;TZID=Europe/Stockholm:20251214T110000
DTEND;TZID=Europe/Stockholm:20251214T120000
DTSTAMP:20260425T181638
CREATED:20250527T121512Z
LAST-MODIFIED:20260425T161530Z
UID:10005696-1765710000-1765713600@www.immanuel.se
SUMMARY:Gudstjänst på svenska - 3 advent
DESCRIPTION:Söndag 14 december\, 3 advent\, 11.00 Gudstjänst på svenska\nTema: Ljuset i mörkret\nPredikan: Esther Kazen\nMusik: Luciastund med Kör-lek\, Martin Åsander\nBarnkyrkan är öppen\, kyrkkaffe serveras
URL:https://www.immanuel.se/calendar/julkonsert-forsamlingens-korer-och-orkestrar/
LOCATION:Kyrksalen
CATEGORIES:Gudstjänster,Svenska Gemenskapen,Svenska kl 11
END:VEVENT
BEGIN:VEVENT
DTSTART;TZID=Europe/Stockholm:20251214T110000
DTEND;TZID=Europe/Stockholm:20251214T123000
DTSTAMP:20260425T181638
CREATED:20251104T172554Z
LAST-MODIFIED:20260327T094818Z
UID:10005887-1765710000-1765715400@www.immanuel.se
SUMMARY:Gudstjänst på engelska
DESCRIPTION:
URL:https://www.immanuel.se/calendar/gudstjanst-pa-engelska-142/2025-12-14/
CATEGORIES:Gudstjänst
END:VEVENT
BEGIN:VEVENT
DTSTART;TZID=Europe/Stockholm:20251214T110000
DTEND;TZID=Europe/Stockholm:20251214T123000
DTSTAMP:20260425T181638
CREATED:20251125T142058Z
LAST-MODIFIED:20251125T142122Z
UID:10005965-1765710000-1765715400@www.immanuel.se
SUMMARY:Gudstjänst på engelska
DESCRIPTION:TREDJE ADVENTBarnens julspel \nDet är premiärkväll för En natt full av stjärnor\, med Betlehems egen hjälte\, kung David\, i huvudrollen. Men entusiasmen bleknar inför ett strålande änglabudskap — födelsen av den utlovade Messias i Davids stad! Berättelsen flyttas från Betlehems herdekung till en ännu större hjälte som träder fram i rampljuset: Jesus\, världens Frälsare.
URL:https://www.immanuel.se/calendar/gudstjanst-pa-engelska-147/
END:VEVENT
BEGIN:VEVENT
DTSTART;TZID=Europe/Stockholm:20251214T180000
DTEND;TZID=Europe/Stockholm:20251214T200000
DTSTAMP:20260425T181638
CREATED:20250813T141517Z
LAST-MODIFIED:20260425T161530Z
UID:10005750-1765735200-1765742400@www.immanuel.se
SUMMARY:Julkonsert med församlingens körer och orkestrar
DESCRIPTION:Församlingens körer och orkestrar bjuder in till julkonsert.\nLyssna till julens toner i den mångfald av musikaliska uttryck som Immanuelskyrkan rymmer! Gratis inträde. Varmt välkommen!\nImmanuel Brass\, Vox Immanuel\, Ungdomskören\, International Choir\, Immanuel Big Band
URL:https://www.immanuel.se/calendar/julkonsert-forsamlingens-korer-och-orkestrar-2/
LOCATION:Kyrksalen
CATEGORIES:Konsert
END:VEVENT
BEGIN:VEVENT
DTSTART;TZID=Europe/Stockholm:20251215T180000
DTEND;TZID=Europe/Stockholm:20251215T190000
DTSTAMP:20260425T181638
CREATED:20250829T161518Z
LAST-MODIFIED:20260425T161530Z
UID:10005809-1765821600-1765825200@www.immanuel.se
SUMMARY:Musikskolans stråkelever
DESCRIPTION:Sråkafton med musikskolans stråkelever
URL:https://www.immanuel.se/calendar/tisdagstraffen-52/
LOCATION:Waldenströmssalen
CATEGORIES:Konsert
END:VEVENT
BEGIN:VEVENT
DTSTART;TZID=Europe/Stockholm:20251216T130000
DTEND;TZID=Europe/Stockholm:20251216T150000
DTSTAMP:20260425T181638
CREATED:20250909T091520Z
LAST-MODIFIED:20260425T161530Z
UID:10005822-1765890000-1765897200@www.immanuel.se
SUMMARY:Immanuel Senior
DESCRIPTION:Musik inför julen\nNästan en tradition har det blivit att Immanuel seniors sista tisdagssamling fylls av advents. och julsånger. Så även i år.\nEn kvartett bestående av Annelie Korsfeldt\, Christina Östman\, Anders Andersson och Arne Lundmark sjunger för\, och tillsammans med publiken.\nVid pianot sitter Mats Nilsson
URL:https://www.immanuel.se/calendar/onsdagsmassan-6/
LOCATION:Waldenströmssalen
END:VEVENT
BEGIN:VEVENT
DTSTART;TZID=Europe/Stockholm:20251216T190000
DTEND;TZID=Europe/Stockholm:20251216T210000
DTSTAMP:20260425T181638
CREATED:20250814T090021Z
LAST-MODIFIED:20250814T090407Z
UID:10005768-1765911600-1765918800@www.immanuel.se
SUMMARY:Bibelstudium för unga vuxna
DESCRIPTION:Du är välkommen att gå med i gruppen för unga vuxna.Denna grupp leds på engelska. Vi är en grupp studenter och unga yrkesverksamma från hela världen med tre gemensamma önskningar:att lära känna Jesus bättre\, bli passionerade efterföljare av Kristus i vardagen och bygga en kristen gemenskap.En gång i veckan har vi diskussioner kring Bibeln\, och andra gemenskapsbyggande aktiviteter anordnas då och då.Klicka här för att läsa mer.
URL:https://www.immanuel.se/calendar/bibelstudium-for-unga-vuxna-2/2025-12-16/
END:VEVENT
BEGIN:VEVENT
DTSTART;TZID=Europe/Stockholm:20251217T153000
DTEND;TZID=Europe/Stockholm:20251217T183000
DTSTAMP:20260425T181638
CREATED:20250909T101522Z
LAST-MODIFIED:20260425T161530Z
UID:10005824-1765985400-1765996200@www.immanuel.se
SUMMARY:HQ - 13-18 år
DESCRIPTION:Holy Quarters\nVälkommen till HQ – Holy Quarters\, vår öppna efter-skola-verksamhet på Källarplan 3 i Immanuelskyrkan.\nHär finns plats för lek\, skapande\, musik\, sport\, mellis\, läxhjälp och gemenskap – mitt i stan\, mitt i veckan.\nAllt är gratis och ingen anmälan krävs. Kom som du är! \nEtt avslappnat häng med musik\, sport\, skapande\, mellis och pluggmöjligheter – där du får vara dig själv\, träffa nya vänner och hitta din plats.
URL:https://www.immanuel.se/calendar/konsert-musikskolan-2/
LOCATION:K3
CATEGORIES:Unga
END:VEVENT
BEGIN:VEVENT
DTSTART;TZID=Europe/Stockholm:20251217T180000
DTEND;TZID=Europe/Stockholm:20251217T190000
DTSTAMP:20260425T181638
CREATED:20251121T101529Z
LAST-MODIFIED:20260425T161530Z
UID:10005950-1765994400-1765998000@www.immanuel.se
SUMMARY:Konsert musikskolan
DESCRIPTION:Konsert med Ola\, Kristina och Margaretas elever
URL:https://www.immanuel.se/calendar/konsert-musikskolan-3/
LOCATION:Waldenströmssalen
CATEGORIES:Konsert
END:VEVENT
BEGIN:VEVENT
DTSTART;TZID=Europe/Stockholm:20251218T094500
DTEND;TZID=Europe/Stockholm:20251218T114500
DTSTAMP:20260425T181638
CREATED:20241211T105757Z
LAST-MODIFIED:20241211T132929Z
UID:10005412-1766051100-1766058300@www.immanuel.se
SUMMARY:Kvinnors bibelstudiegrupp
DESCRIPTION:Torsdagsmorgnar • 09.45–11.45 • Ungdomsrummet\, nivå K1 \nAlla kvinnor som längtar efter gemenskap med andra kvinnor genom att studera Guds ord är välkomna.\nOm du har några frågor\, vänligen kontakta: Rosemary
URL:https://www.immanuel.se/calendar/kvinnors-bibelstudiegrupp/2025-12-18/
END:VEVENT
BEGIN:VEVENT
DTSTART;TZID=Europe/Stockholm:20251218T153000
DTEND;TZID=Europe/Stockholm:20251218T183000
DTSTAMP:20260425T181638
CREATED:20251124T161525Z
LAST-MODIFIED:20260425T161530Z
UID:10005962-1766071800-1766082600@www.immanuel.se
SUMMARY:HQ - 10-12 år
DESCRIPTION:Holy Quarters\nVälkommen till HQ – Holy Quarters\, vår öppna efter-skola-verksamhet på Källarplan 3 i Immanuelskyrkan.\nHär finns plats för lek\, skapande\, musik\, sport\, mellis\, läxhjälp och gemenskap – mitt i stan\, mitt i veckan.\nAllt är gratis och ingen anmälan krävs. Kom som du är! \nEn kreativ och aktiv plats efter skolan med sport\, skapande\, musikrum\, mellis och läxhjälp – för dig som vill hänga med kompisar och testa nya saker.
URL:https://www.immanuel.se/calendar/hq-10-12-ar-2/
LOCATION:K3
CATEGORIES:Barn och Familj
END:VEVENT
BEGIN:VEVENT
DTSTART;TZID=Europe/Stockholm:20251218T183000
DTEND;TZID=Europe/Stockholm:20251218T210000
DTSTAMP:20260425T181638
CREATED:20251022T125011Z
LAST-MODIFIED:20251022T125537Z
UID:10005870-1766082600-1766091600@www.immanuel.se
SUMMARY:Kväll Bibelstuie
DESCRIPTION:Bibelstudium på torsdag kväll \nVi börjar kl. 18.30 med en lätt måltid\, och själva studiet börjar kl. 19.30. \nTemat för studiet är Bergspredikan.Alla är varmt välkomna! \nMeddela gärna Hugh om du tänker komma – dels för att veta hur mycket mat som behövs\, och dels för att han ska kunna ge dig en dörrkod om huvudentrén är låst.
URL:https://www.immanuel.se/calendar/kvall-bibelstuie/2025-12-18/
END:VEVENT
BEGIN:VEVENT
DTSTART;TZID=Europe/Stockholm:20251221T110000
DTEND;TZID=Europe/Stockholm:20251221T120000
DTSTAMP:20260425T181638
CREATED:20241112T150700Z
LAST-MODIFIED:20260114T100248Z
UID:10005145-1766314800-1766318400@www.immanuel.se
SUMMARY:Gudstjänst på Koreanska
DESCRIPTION:
URL:https://www.immanuel.se/calendar/gudstjanst-pa-koreanska-2/2025-12-21/
CATEGORIES:Svenska kl 11
END:VEVENT
BEGIN:VEVENT
DTSTART;TZID=Europe/Stockholm:20251221T110000
DTEND;TZID=Europe/Stockholm:20251221T120000
DTSTAMP:20260425T181638
CREATED:20251121T101529Z
LAST-MODIFIED:20260425T161530Z
UID:10005951-1766314800-1766318400@www.immanuel.se
SUMMARY:Gudstjänst på svenska - 4 advent
DESCRIPTION:Söndag 21 december\, 4 advent\, kl 11 Gudstjänst på Svenska\nTema: Herrens moder\nPredikan: Anna Berndes\nMusik: Björn Gäfvert och stråkelever från Immanuel musikskola\nBarnkyrkan är öppen\, Kyrkkaffe serveras
URL:https://www.immanuel.se/calendar/gudstjanst-pa-svenska-4-advent-2/
LOCATION:Kyrksalen
CATEGORIES:Gudstjänster,Svenska Gemenskapen,Svenska kl 11
END:VEVENT
BEGIN:VEVENT
DTSTART;TZID=Europe/Stockholm:20251221T110000
DTEND;TZID=Europe/Stockholm:20251221T123000
DTSTAMP:20260425T181638
CREATED:20251125T142257Z
LAST-MODIFIED:20251125T142334Z
UID:10005966-1766314800-1766320200@www.immanuel.se
SUMMARY:Gudstjänst på engelska
DESCRIPTION:FJÄRDE ADVENTPastor Hugh predikar
URL:https://www.immanuel.se/calendar/gudstjanst-pa-engelska-148/
END:VEVENT
BEGIN:VEVENT
DTSTART;TZID=Europe/Stockholm:20251224T110000
DTEND;TZID=Europe/Stockholm:20251224T120000
DTSTAMP:20260425T181638
CREATED:20251104T151526Z
LAST-MODIFIED:20260425T161530Z
UID:10005881-1766574000-1766577600@www.immanuel.se
SUMMARY:Julaftonsgudstjänst
DESCRIPTION:
URL:https://www.immanuel.se/calendar/jul-i-gemenskap-8/
LOCATION:Kyrksalen
END:VEVENT
BEGIN:VEVENT
DTSTART;TZID=Europe/Stockholm:20251224T160000
DTEND;TZID=Europe/Stockholm:20251224T200000
DTSTAMP:20260425T181638
CREATED:20251104T151527Z
LAST-MODIFIED:20260425T161530Z
UID:10005882-1766592000-1766606400@www.immanuel.se
SUMMARY:Jul i Gemenskap
DESCRIPTION:Onsdag 24 december\, Julafton\, kl 16.00 Jul i Gemenskap. Öppet julfirande för alla som vill delta.
URL:https://www.immanuel.se/calendar/julspel/
LOCATION:Kyrkplan
END:VEVENT
BEGIN:VEVENT
DTSTART;TZID=Europe/Stockholm:20251224T183000
DTEND;TZID=Europe/Stockholm:20251224T193000
DTSTAMP:20260425T181638
CREATED:20251104T151527Z
LAST-MODIFIED:20260425T161530Z
UID:10005883-1766601000-1766604600@www.immanuel.se
SUMMARY:Julspel
DESCRIPTION:Onsdag 24 december\, Julafton\, kl 18.30 Julspel Volontärer och deltagare från Jul i Gemenskap levandegör julens evangelium
URL:https://www.immanuel.se/calendar/jul-i-gemenskap-9/
LOCATION:Kyrksalen
END:VEVENT
END:VCALENDAR