BEGIN:VCALENDAR
VERSION:2.0
PRODID:-//Immanuelskyrkan - ECPv6.15.20//NONSGML v1.0//EN
CALSCALE:GREGORIAN
METHOD:PUBLISH
X-WR-CALNAME:Immanuelskyrkan
X-ORIGINAL-URL:https://www.immanuel.se
X-WR-CALDESC:Händelser för Immanuelskyrkan
REFRESH-INTERVAL;VALUE=DURATION:PT1H
X-Robots-Tag:noindex
X-PUBLISHED-TTL:PT1H
BEGIN:VTIMEZONE
TZID:Europe/Stockholm
BEGIN:DAYLIGHT
TZOFFSETFROM:+0100
TZOFFSETTO:+0200
TZNAME:CEST
DTSTART:20250330T010000
END:DAYLIGHT
BEGIN:STANDARD
TZOFFSETFROM:+0200
TZOFFSETTO:+0100
TZNAME:CET
DTSTART:20251026T010000
END:STANDARD
BEGIN:DAYLIGHT
TZOFFSETFROM:+0100
TZOFFSETTO:+0200
TZNAME:CEST
DTSTART:20260329T010000
END:DAYLIGHT
BEGIN:STANDARD
TZOFFSETFROM:+0200
TZOFFSETTO:+0100
TZNAME:CET
DTSTART:20261025T010000
END:STANDARD
BEGIN:DAYLIGHT
TZOFFSETFROM:+0100
TZOFFSETTO:+0200
TZNAME:CEST
DTSTART:20270328T010000
END:DAYLIGHT
BEGIN:STANDARD
TZOFFSETFROM:+0200
TZOFFSETTO:+0100
TZNAME:CET
DTSTART:20271031T010000
END:STANDARD
END:VTIMEZONE
BEGIN:VEVENT
DTSTART;TZID=Europe/Stockholm:20260419T131500
DTEND;TZID=Europe/Stockholm:20260420T133000
DTSTAMP:20260420T120258
CREATED:20260418T213924Z
LAST-MODIFIED:20260418T214104Z
UID:10005362-1776604500-1776691800@www.immanuel.se
SUMMARY:Samtalstorg
DESCRIPTION:Inför årsmötet blir det ett samtalstorg den 19 april kl 13:15\, efter gudstjänsterna. Där kan vi samtala om: \n\nFörsamlingens ekonomi 2025 och budget 2026\nMotion om utökat social boende\nMotion om fler mindre mötesrum\nMotion om kalendarium på papper
URL:https://www.immanuel.se/calendar/samtalstorg/
END:VEVENT
BEGIN:VEVENT
DTSTART;TZID=Europe/Stockholm:20260420T130000
DTEND;TZID=Europe/Stockholm:20260420T153000
DTSTAMP:20260420T120258
CREATED:20260205T131614Z
LAST-MODIFIED:20260331T081428Z
UID:10005258-1776690000-1776699000@www.immanuel.se
SUMMARY:Stickcafé
DESCRIPTION:
URL:https://www.immanuel.se/calendar/stickcafe-22/
LOCATION:Kyrkplan
CATEGORIES:Hantverk
END:VEVENT
END:VCALENDAR