BEGIN:VCALENDAR
VERSION:2.0
PRODID:-//Immanuelskyrkan - ECPv6.15.20//NONSGML v1.0//EN
CALSCALE:GREGORIAN
METHOD:PUBLISH
X-ORIGINAL-URL:https://www.immanuel.se
X-WR-CALDESC:Händelser för Immanuelskyrkan
REFRESH-INTERVAL;VALUE=DURATION:PT1H
X-Robots-Tag:noindex
X-PUBLISHED-TTL:PT1H
BEGIN:VTIMEZONE
TZID:Europe/Stockholm
BEGIN:DAYLIGHT
TZOFFSETFROM:+0100
TZOFFSETTO:+0200
TZNAME:CEST
DTSTART:20240331T010000
END:DAYLIGHT
BEGIN:STANDARD
TZOFFSETFROM:+0200
TZOFFSETTO:+0100
TZNAME:CET
DTSTART:20241027T010000
END:STANDARD
BEGIN:DAYLIGHT
TZOFFSETFROM:+0100
TZOFFSETTO:+0200
TZNAME:CEST
DTSTART:20250330T010000
END:DAYLIGHT
BEGIN:STANDARD
TZOFFSETFROM:+0200
TZOFFSETTO:+0100
TZNAME:CET
DTSTART:20251026T010000
END:STANDARD
BEGIN:DAYLIGHT
TZOFFSETFROM:+0100
TZOFFSETTO:+0200
TZNAME:CEST
DTSTART:20260329T010000
END:DAYLIGHT
BEGIN:STANDARD
TZOFFSETFROM:+0200
TZOFFSETTO:+0100
TZNAME:CET
DTSTART:20261025T010000
END:STANDARD
END:VTIMEZONE
BEGIN:VEVENT
DTSTART;TZID=Europe/Stockholm:20250514T180000
DTEND;TZID=Europe/Stockholm:20250514T183000
DTSTAMP:20260420T183208
CREATED:20250115T113626Z
LAST-MODIFIED:20250119T163227Z
UID:10004262-1747245600-1747247400@www.immanuel.se
SUMMARY:Veckomässa
DESCRIPTION:Välkommen till mässa – onsdagar kl 18.00 i Kyrksalen\nKom 17.30 om du vill hjälpa till med något\nKyrkan bjuder på te. Ta gärna med fika eller en matlåda att äta innan eller efter mässan.\nMicro finns i kaffestugan
URL:https://www.immanuel.se/calendar/veckomassa-i-kapellet-2-5/2025-05-14/
CATEGORIES:Tro & liv
END:VEVENT
BEGIN:VEVENT
DTSTART;TZID=Europe/Stockholm:20250514T180000
DTEND;TZID=Europe/Stockholm:20250514T184000
DTSTAMP:20260420T183208
CREATED:20250523T081307Z
LAST-MODIFIED:20260420T161514Z
UID:10004448-1747245600-1747248000@www.immanuel.se
SUMMARY:Onsdagsmässa
DESCRIPTION:Välkommen till mässa\nKom 17.30 om du vill hjälpa till med något\nKyrkan bjuder på te. Ta gärna med fika eller en matlåda att äta innan eller efter mässan.\nMicro finns i kaffestugan
URL:https://www.immanuel.se/calendar/onsdagsmassa-6/
LOCATION:Kyrksalen
CATEGORIES:Gudstjänster,Svenska Gemenskapen
END:VEVENT
BEGIN:VEVENT
DTSTART;TZID=Europe/Stockholm:20250514T190000
DTEND;TZID=Europe/Stockholm:20250514T203000
DTSTAMP:20260420T183208
CREATED:20250115T124001Z
LAST-MODIFIED:20250115T124200Z
UID:10004245-1747249200-1747254600@www.immanuel.se
SUMMARY:Föreläsningsserie med Peter Halldorf
DESCRIPTION:Peter Halldorf – Källor del 5\n”Roten till allt ont är den splittring som skiljer kyrkorna i öst och väst”\nFrån Konstantinopel till Kiev: den slaviska kristenhetens utveckling och särdrag.\nKällor\, Den kristna spiritualiteten genom tiderna. En föreläsningsserie i kyrkohistoria\nTid & plats: Sex onsdagar kl 19.00–20.30 i Immanuelskyrkan\, Stockholm\nInnan föreläsningen är du välkommen till mässa kl 18.00 i Kyrksalen\nKyrkan bjuder på te\, ta gärna med eget fika eller värm en matlåda i kaffestugan.
URL:https://www.immanuel.se/calendar/forelasningsserie-med-peter-halldorf-4/
END:VEVENT
END:VCALENDAR